PDS_VERSION_ID = PDS3
/* FILE DATA ELEMENTS */
RECORD_TYPE = UNDEFINED
/* POINTERS TO DATA OBJECTS */
^IMAGE = ("HC888_0000_BL4.TIF")
/* IDENTIFICATION DATA ELEMENTS */
DATA_SET_ID = "MEX-M-HRSC-4-REFDR-MAPPROJECT-EXT4-V4.0"
DATA_SET_NAME = "MARS EXPRESS HRSC MAP PROJECTED REFDR EXTENSION4 V4.0"
DETECTOR_ID = MEX_HRSC_BLUE
EVENT_TYPE = "MARS-REGIONAL-MAPPING-Im-Fl"
INSTRUMENT_HOST_ID = MEX
INSTRUMENT_HOST_NAME = "MARS EXPRESS"
INSTRUMENT_ID = HRSC
INSTRUMENT_NAME = "HIGH RESOLUTION STEREO CAMERA"
MISSION_NAME = "MARS EXPRESS"
MISSION_PHASE_NAME = ME_Phase_30
PROCESSING_LEVEL_ID = 4
PRODUCT_CREATION_TIME = 2023-01-31T11:51:40.000Z
PRODUCT_ID = "HC888_0000_BL4.TIF"
RELEASE_ID = 0003
REVISION_ID = 0000
/* QUALITY DATA ELEMENTS */
DATA_QUALITY_ID = 1
DATA_QUALITY_DESC = "Data calculated based on original SPICE kernels"
/* TIME DATA ELEMENTS */
SPACECRAFT_CLOCK_START_COUNT = "1/0341165346.09040"
SPACECRAFT_CLOCK_STOP_COUNT = "1/0341165660.17525"
START_TIME = 2014-02-22T16:09:57.989Z
STOP_TIME = 2014-02-22T16:12:40.083Z
/* ORBITAL DATA ELEMENTS */
ASCENDING_NODE_LONGITUDE = 331.83
MAXIMUM_RESOLUTION = 0.1116
FOOTPRINT_POINT_LATITUDE = (-42.7842,-42.7809,-42.7746,-42.7664, -42.7561,-42.7437,-42.7293,-42.7138, -42.7127,-42.714,-42.4395,-42.07, -41.7915,-41.416,-41.0378,-40.6559, -40.2698,-39.8801,-39.3878,-38.9901, -38.5872,-38.1805,-37.9762,-37.6663, -37.4594,-37.2498,-37.0403,-36.829, -36.6165,-36.4033,-36.1883,-35.9731, -35.7554,-35.5374,-35.3174,-35.0968, -34.8745,-34.6512,-34.4261,-34.2, -33.9712,-33.7431,-33.5127,-33.2809, -33.0473,-32.8127,-32.5761,-32.3387, -32.2188,-32.2038,-32.2157,-32.2284, -32.2421,-32.2482,-32.2573,-32.2607, -32.2655,-32.2687,-32.2709,-32.2709, -32.2734,-32.6311,-32.8676,-33.1021, -33.4519,-33.6835,-33.913,-34.142, -34.3687,-34.5951,-34.819,-35.0427, -35.2639,-35.4845,-35.7032,-35.921, -36.1375,-36.3526,-36.5674,-36.78, -37.0978,-37.3076,-37.5174,-37.7245, -38.0342,-38.3402,-38.7461,-39.0488, -39.4471,-39.744,-40.1368,-40.5243, -40.9082,-41.2895,-41.6664,-42.0397, -42.4115,-42.6873,-42.779,-42.7842)
FOOTPRINT_POINT_LONGITUDE = (343.578,343.247,342.765,342.28,341.791 ,341.301,340.806,340.339,340.308, 340.262,340.267,340.274,340.28,340.286, 340.29,340.294,340.298,340.301,340.304, 340.306,340.307,340.307,340.307,340.306 ,340.305,340.304,340.304,340.302, 340.301,340.299,340.297,340.295,340.293 ,340.29,340.287,340.285,340.281,340.278 ,340.275,340.271,340.265,340.263, 340.259,340.254,340.249,340.244,340.239 ,340.233,340.23,340.23,340.575,340.99, 341.539,341.813,342.289,342.56,342.966, 343.235,343.839,343.872,343.883,343.876 ,343.872,343.867,343.86,343.855,343.85, 343.845,343.84,343.835,343.83,343.824, 343.819,343.814,343.809,343.804,343.798 ,343.793,343.787,343.782,343.773, 343.767,343.762,343.756,343.747,343.739 ,343.727,343.718,343.705,343.694, 343.681,343.668,343.655,343.641,343.627 ,343.612,343.599,343.589,343.585, 343.578)
ORBIT_NUMBER = 12888
ORBITAL_ECCENTRICITY = 0.577
ORBITAL_INCLINATION = 86.9
ORBITAL_SEMIMAJOR_AXIS = 8754.82
PERIAPSIS_ALTITUDE = 328.35
PERIAPSIS_ARGUMENT_ANGLE = 275.91
PERIAPSIS_TIME = 2014-02-22T15:58:45.000Z
SPACECRAFT_ORIENTATION = (0.0,1.0,0.0)
^MEX_ORIENTATION_DESC = "MEX_ORIENTATION_DESC.TXT"
SPACECRAFT_POINTING_MODE = INERT
^MEX_POINTING_DESC = "MEX_POINTING_DESC.TXT"
RIGHT_ASCENSION = 310.588
DECLINATION = 58.196
OFFSET_ANGLE = -1e+32
SPACECRAFT_SOLAR_DISTANCE = 2.47345e+08
TARGET_NAME = MARS
/* CAMERA DATA ELEMENTS */
DETECTOR_TEMPERATURE = 18.3705
FOCAL_PLANE_TEMPERATURE = 8.1755
INST_CMPRS_NAME = "DISCRETE COSINE TRANSFORMATION (DCT)"
INST_CMPRS_RATIO = 9.31872
INST_CMPRS_QUALITY = 0
INST_CMPRS_QUANTZ_TBL_ID = 0
INSTRUMENT_TEMPERATURE = 11.6418
LENS_TEMPERATURE = 8.1755
MACROPIXEL_SIZE = 4
MISSING_FRAMES = 0
PIXEL_SUBSAMPLING_FLAG = N
SIGNAL_CHAIN_ID = 2
/* RADIOMETRIC DATA ELEMENTS */
BANDWIDTH = 76.0
CENTER_FILTER_WAVELENGTH = 444.0
RADIANCE_OFFSET = 0.102442
RADIANCE_SCALING_FACTOR = 0.00219896
REFLECTANCE_SCALING_FACTOR = 0.000138222
MEX:REFLECTANCE_OFFSET = 0.00643929
/* IMAGE OBJECT DEFINITIONS */
OBJECT = IMAGE
  INTERCHANGE_FORMAT = BINARY
  LINES = 6266
  LINE_SAMPLES = 1873
  SAMPLE_TYPE = UNSIGNED_INTEGER
  SAMPLE_BITS = 8
  BANDS = 1
  BAND_STORAGE_TYPE = BAND_SEQUENTIAL
  MAXIMUM = 255
  MEAN = 133.076
  MINIMUM = 1
  STANDARD_DEVIATION = 17.0287
END_OBJECT = IMAGE
/* MAP OBJECT DEFINITIONS */
OBJECT = IMAGE_MAP_PROJECTION
  ^DATA_SET_MAP_PROJECTION_CATALOG= "DSMAP.CAT"
  A_AXIS_RADIUS = 3396.0
  B_AXIS_RADIUS = 3396.0
  C_AXIS_RADIUS = 3396.0
  CENTER_LATITUDE = 0.0
  CENTER_LONGITUDE = 342.0
  COORDINATE_SYSTEM_NAME = PLANETOGRAPHIC
  COORDINATE_SYSTEM_TYPE = "BODY-FIXED ROTATING"
  EASTERNMOST_LONGITUDE = 343.883
  FIRST_STANDARD_PARALLEL = "N/A"
  LINE_FIRST_PIXEL = 1
  LINE_LAST_PIXEL = 6266
  LINE_PROJECTION_OFFSET = -19092.375
  MAP_PROJECTION_ROTATION = 0.0
  MAP_PROJECTION_TYPE = SINUSOIDAL
  MAP_RESOLUTION = 592.713803866667
  MAP_SCALE = 0.1
  MAXIMUM_LATITUDE = -32.2038
  MINIMUM_LATITUDE = -42.7842
  POSITIVE_LONGITUDE_DIRECTION = EAST
  REFERENCE_LATITUDE = "N/A"
  REFERENCE_LONGITUDE = "N/A"
  SAMPLE_FIRST_PIXEL = 1
  SAMPLE_LAST_PIXEL = 1873
  SAMPLE_PROJECTION_OFFSET = 918.875
  SECOND_STANDARD_PARALLEL = "N/A"
  WESTERNMOST_LONGITUDE = 340.23
END_OBJECT = IMAGE_MAP_PROJECTION
END
