PDS_VERSION_ID = PDS3
/* FILE DATA ELEMENTS */
RECORD_TYPE = UNDEFINED
/* POINTERS TO DATA OBJECTS */
^IMAGE = ("HC878_0000_RE4.TIF")
/* IDENTIFICATION DATA ELEMENTS */
DATA_SET_ID = "MEX-M-HRSC-4-REFDR-MAPPROJECT-EXT4-V4.0"
DATA_SET_NAME = "MARS EXPRESS HRSC MAP PROJECTED REFDR EXTENSION4 V4.0"
DETECTOR_ID = MEX_HRSC_RED
EVENT_TYPE = "MARS-CLOUD-VARIABLE-At"
INSTRUMENT_HOST_ID = MEX
INSTRUMENT_HOST_NAME = "MARS EXPRESS"
INSTRUMENT_ID = HRSC
INSTRUMENT_NAME = "HIGH RESOLUTION STEREO CAMERA"
MISSION_NAME = "MARS EXPRESS"
MISSION_PHASE_NAME = ME_Phase_30
PROCESSING_LEVEL_ID = 4
PRODUCT_CREATION_TIME = 2023-01-31T11:51:40.000Z
PRODUCT_ID = "HC878_0000_RE4.TIF"
RELEASE_ID = 0003
REVISION_ID = 0000
/* QUALITY DATA ELEMENTS */
DATA_QUALITY_ID = 1
DATA_QUALITY_DESC = "Data calculated based on original SPICE kernels"
/* TIME DATA ELEMENTS */
SPACECRAFT_CLOCK_START_COUNT = "1/0340914301.07344"
SPACECRAFT_CLOCK_STOP_COUNT = "1/0340915226.15884"
START_TIME = 2014-02-19T18:25:06.000Z
STOP_TIME = 2014-02-19T18:35:45.348Z
/* ORBITAL DATA ELEMENTS */
ASCENDING_NODE_LONGITUDE = 332.01
MAXIMUM_RESOLUTION = 0.1993 <m/pixel>
FOOTPRINT_POINT_LATITUDE = (-20.7108,-20.7711,-20.862,-20.9455, -20.9992,-21.0015,-21.0003,-19.2193, -17.7966,-16.3753,-14.9548,-13.8897, -12.8247,-11.4043,-9.98192,-8.90146, -8.18859,-6.7773,-5.34547,-4.27198, -3.55356,-2.83403,-2.11293,-1.38952, -0.645324,0.0791823,1.173,1.90373, 2.63645,3.37141,4.10842,4.84795,5.58946 ,6.33463,7.08114,7.83094,8.58439, 9.34059,10.1006,10.8647,11.6325,12.4046 ,13.1805,13.9615,15.1414,15.5383, 15.5662,15.6624,15.7562,15.86,15.9701, 16.0648,16.2684,16.2757,16.2779,15.0705 ,13.8807,13.0882,12.2984,11.5165,10.739 ,9.965,9.19497,8.42842,7.665,6.90479, 6.14827,5.3944,4.64417,3.89718,3.1511, 2.03038,1.2915,0.556095,-0.177933, -0.909943,-2.00579,-2.73401,-3.81607, -4.54384,-5.6225,-7.05631,-8.14269, -9.215,-10.297,-11.0179,-12.0911, -12.8082,-13.8847,-14.5998,-15.3151, -16.0303,-16.7457,-17.4613,-18.1771, -18.8932,-19.6096,-20.3264,-20.685, -20.7108)
FOOTPRINT_POINT_LONGITUDE = (286.129,285.305,283.979,282.642,281.71 ,281.667,281.659,281.572,281.497, 281.418,281.335,281.269,281.201,281.107 ,281.005,280.903,280.852,280.767,280.65 ,280.563,280.502,280.439,280.376,280.31 ,280.228,280.162,280.058,279.988, 279.916,279.843,279.768,279.692,279.614 ,279.535,279.454,279.372,279.287, 279.201,279.113,279.023,278.931,278.837 ,278.741,278.642,278.489,278.436, 278.433,279.843,281.093,282.339,283.588 ,284.605,286.728,286.807,286.834, 286.774,286.721,286.687,286.653,286.623 ,286.594,286.566,286.54,286.515,286.492 ,286.469,286.448,286.428,286.41,286.392 ,286.375,286.349,286.335,286.321, 286.309,286.297,286.28,286.27,286.259, 286.248,286.239,286.23,286.216,286.212, 286.2,286.191,286.186,286.18,286.168, 286.163,286.159,286.155,286.151,286.147 ,286.143,286.139,286.135,286.13,286.128 ,286.129)
ORBIT_NUMBER = 12878
ORBITAL_ECCENTRICITY = 0.577
ORBITAL_INCLINATION = 86.89
ORBITAL_SEMIMAJOR_AXIS = 8756.26
PERIAPSIS_ALTITUDE = 328.46
PERIAPSIS_ARGUMENT_ANGLE = 277.61
PERIAPSIS_TIME = 2014-02-19T18:06:28.000Z
SPACECRAFT_ORIENTATION = (0.0,1.0,0.0)
^MEX_ORIENTATION_DESC = "MEX_ORIENTATION_DESC.TXT"
SPACECRAFT_POINTING_MODE = INERT
^MEX_POINTING_DESC = "MEX_POINTING_DESC.TXT"
RIGHT_ASCENSION = 307.48
DECLINATION = 58.802
OFFSET_ANGLE = -1e+32
SPACECRAFT_SOLAR_DISTANCE = 2.47555e+08
TARGET_NAME = MARS
/* CAMERA DATA ELEMENTS */
DETECTOR_TEMPERATURE = 18.7783 <degC>
FOCAL_PLANE_TEMPERATURE = 8.7872 <degC>
INST_CMPRS_NAME = "DISCRETE COSINE TRANSFORMATION (DCT)"
INST_CMPRS_RATIO = 33.7146
INST_CMPRS_QUALITY = 0
INST_CMPRS_QUANTZ_TBL_ID = 0
INSTRUMENT_TEMPERATURE = 11.8457 <degC>
LENS_TEMPERATURE = 8.9911 <degC>
MACROPIXEL_SIZE = 4
MISSING_FRAMES = 0
PIXEL_SUBSAMPLING_FLAG = N
SIGNAL_CHAIN_ID = 2
/* RADIOMETRIC DATA ELEMENTS */
BANDWIDTH = 48.0 <nm>
CENTER_FILTER_WAVELENGTH = 748.0 <nm>
RADIANCE_OFFSET = 0.275178 <W*m**-2*sr**-1>
RADIANCE_SCALING_FACTOR = 0.0135971 <W*m**-2*sr**-1>
REFLECTANCE_SCALING_FACTOR = 0.00190157
MEX:REFLECTANCE_OFFSET = 0.0384841
/* IMAGE OBJECT DEFINITIONS */
OBJECT = IMAGE
  INTERCHANGE_FORMAT = BINARY
  LINES = 11068
  LINE_SAMPLES = 2635
  SAMPLE_TYPE = UNSIGNED_INTEGER
  SAMPLE_BITS = 8
  BANDS = 1
  BAND_STORAGE_TYPE = BAND_SEQUENTIAL
  MAXIMUM = 255
  MEAN = 146.173
  MINIMUM = 1
  STANDARD_DEVIATION = 63.0891
END_OBJECT = IMAGE
/* MAP OBJECT DEFINITIONS */
OBJECT = IMAGE_MAP_PROJECTION
  ^DATA_SET_MAP_PROJECTION_CATALOG= "DSMAP.CAT"
  A_AXIS_RADIUS = 3396.0 <km>
  B_AXIS_RADIUS = 3396.0 <km>
  C_AXIS_RADIUS = 3396.0 <km>
  CENTER_LATITUDE = 0.0
  CENTER_LONGITUDE = 284.0
  COORDINATE_SYSTEM_NAME = PLANETOGRAPHIC
  COORDINATE_SYSTEM_TYPE = "BODY-FIXED ROTATING"
  EASTERNMOST_LONGITUDE = 286.834
  FIRST_STANDARD_PARALLEL = "N/A"
  LINE_FIRST_PIXEL = 1
  LINE_LAST_PIXEL = 11068
  LINE_PROJECTION_OFFSET = 4828.0
  MAP_PROJECTION_ROTATION = 0.0
  MAP_PROJECTION_TYPE = SINUSOIDAL
  MAP_RESOLUTION = 296.356901933333 <pixel/degree>
  MAP_SCALE = 0.2 <km/pixel>
  MAXIMUM_LATITUDE = 16.2779
  MINIMUM_LATITUDE = -21.0015
  POSITIVE_LONGITUDE_DIRECTION = EAST
  REFERENCE_LATITUDE = "N/A"
  REFERENCE_LONGITUDE = "N/A"
  SAMPLE_FIRST_PIXEL = 1
  SAMPLE_LAST_PIXEL = 2635
  SAMPLE_PROJECTION_OFFSET = 1552.0
  SECOND_STANDARD_PARALLEL = "N/A"
  WESTERNMOST_LONGITUDE = 278.433
END_OBJECT = IMAGE_MAP_PROJECTION
END
