PDS_VERSION_ID = PDS3
/* FILE DATA ELEMENTS */
RECORD_TYPE = UNDEFINED
/* POINTERS TO DATA OBJECTS */
^IMAGE = ("HC853_0000_GR4.TIF")
/* IDENTIFICATION DATA ELEMENTS */
DATA_SET_ID = "MEX-M-HRSC-4-REFDR-MAPPROJECT-EXT4-V4.0"
DATA_SET_NAME = "MARS EXPRESS HRSC MAP PROJECTED REFDR EXTENSION4 V4.0"
DETECTOR_ID = MEX_HRSC_GREEN
EVENT_TYPE = "MARS-REGIONAL-MAPPING-Fl-Gl-Pf"
INSTRUMENT_HOST_ID = MEX
INSTRUMENT_HOST_NAME = "MARS EXPRESS"
INSTRUMENT_ID = HRSC
INSTRUMENT_NAME = "HIGH RESOLUTION STEREO CAMERA"
MISSION_NAME = "MARS EXPRESS"
MISSION_PHASE_NAME = ME_Phase_30
PROCESSING_LEVEL_ID = 4
PRODUCT_CREATION_TIME = 2023-01-31T11:51:40.000Z
PRODUCT_ID = "HC853_0000_GR4.TIF"
RELEASE_ID = 0003
REVISION_ID = 0000
/* QUALITY DATA ELEMENTS */
DATA_QUALITY_ID = 1
DATA_QUALITY_DESC = "Data calculated based on original SPICE kernels"
/* TIME DATA ELEMENTS */
SPACECRAFT_CLOCK_START_COUNT = "1/0340284722.09045"
SPACECRAFT_CLOCK_STOP_COUNT = "1/0340285005.58366"
START_TIME = 2014-02-12T11:32:51.068Z
STOP_TIME = 2014-02-12T11:36:01.557Z
/* ORBITAL DATA ELEMENTS */
ASCENDING_NODE_LONGITUDE = 332.47
MAXIMUM_RESOLUTION = 0.0777
FOOTPRINT_POINT_LATITUDE = (-52.398,-52.3867,-52.3698,-52.3591, -52.3472,-52.3324,-52.3315,-52.3735, -51.8159,-51.3712,-50.9166,-50.4622, -50.1152,-49.7672,-49.2996,-48.8262, -48.4681,-48.2272,-47.986,-47.6211, -47.375,-47.1289,-46.7557,-46.5049, -46.254,-45.9996,-45.7437,-45.488, -45.0987,-44.8381,-44.5756,-44.3102, -44.0446,-43.7756,-43.5055,-43.2349, -42.9597,-42.6845,-42.4067,-42.127, -41.846,-41.5612,-41.2764,-40.9873, -40.6978,-40.4042,-40.1095,-39.8114, -39.6617,-39.5954,-39.6085,-39.6191, -39.629,-39.6365,-39.643,-39.6474, -39.6475,-39.6493,-40.0987,-40.3933, -40.8328,-41.1228,-41.4108,-41.6959, -41.9808,-42.2611,-42.5412,-42.8179, -43.0934,-43.5032,-43.7741,-44.0442, -44.31,-44.7088,-44.9701,-45.2308, -45.4913,-45.7474,-46.0034,-46.2595, -46.511,-46.7621,-47.0136,-47.2602, -47.5065,-47.753,-47.9963,-48.3587, -48.6004,-48.8389,-49.4317,-49.8993, -50.2474,-50.707,-51.0485,-51.5022, -51.9484,-52.2827,-52.3948,-52.398)
FOOTPRINT_POINT_LONGITUDE = (320.265,319.618,318.869,318.469, 318.069,317.617,317.592,317.525,317.576 ,317.614,317.652,317.688,317.714,317.74 ,317.772,317.804,317.827,317.841, 317.855,317.877,317.891,317.904,317.924 ,317.936,317.948,317.961,317.973, 317.984,318.001,318.012,318.023,318.034 ,318.044,318.057,318.065,318.075, 318.086,318.096,318.109,318.112,318.119 ,318.128,318.134,318.142,318.15,318.155 ,318.16,318.166,318.169,318.17,318.624, 319.053,319.534,319.988,320.468,321.0, 321.027,321.036,321.016,321.005,320.988 ,320.975,320.964,320.951,320.937, 320.926,320.911,320.898,320.886,320.867 ,320.855,320.841,320.828,320.808, 320.794,320.779,320.766,320.752,320.737 ,320.723,320.709,320.694,320.679, 320.664,320.649,320.634,320.619,320.596 ,320.58,320.565,320.525,320.493,320.468 ,320.435,320.41,320.375,320.341,320.314 ,320.305,320.265)
ORBIT_NUMBER = 12853
ORBITAL_ECCENTRICITY = 0.577
ORBITAL_INCLINATION = 86.9
ORBITAL_SEMIMAJOR_AXIS = 8757.34
PERIAPSIS_ALTITUDE = 328.63
PERIAPSIS_ARGUMENT_ANGLE = 281.84
PERIAPSIS_TIME = 2014-02-12T11:25:51.000Z
SPACECRAFT_ORIENTATION = (0.0,1.0,0.0)
^MEX_ORIENTATION_DESC = "MEX_ORIENTATION_DESC.TXT"
SPACECRAFT_POINTING_MODE = INERT
^MEX_POINTING_DESC = "MEX_POINTING_DESC.TXT"
RIGHT_ASCENSION = 299.376
DECLINATION = 59.863
OFFSET_ANGLE = -1e+32
SPACECRAFT_SOLAR_DISTANCE = 2.48026e+08
TARGET_NAME = MARS
/* CAMERA DATA ELEMENTS */
DETECTOR_TEMPERATURE = 18.1666
FOCAL_PLANE_TEMPERATURE = 7.7677
INST_CMPRS_NAME = "DISCRETE COSINE TRANSFORMATION (DCT)"
INST_CMPRS_RATIO = 5.90413
INST_CMPRS_QUALITY = 0
INST_CMPRS_QUANTZ_TBL_ID = 0
INSTRUMENT_TEMPERATURE = 11.4379
LENS_TEMPERATURE = 8.1755
MACROPIXEL_SIZE = 4
MISSING_FRAMES = 0
PIXEL_SUBSAMPLING_FLAG = N
SIGNAL_CHAIN_ID = 2
/* RADIOMETRIC DATA ELEMENTS */
BANDWIDTH = 88.0
CENTER_FILTER_WAVELENGTH = 538.0
RADIANCE_OFFSET = 0.26692
RADIANCE_SCALING_FACTOR = 0.0037633
REFLECTANCE_SCALING_FACTOR = 0.000199321
MEX:REFLECTANCE_OFFSET = 0.0141373
/* IMAGE OBJECT DEFINITIONS */
OBJECT = IMAGE
  INTERCHANGE_FORMAT = BINARY
  LINES = 7602
  LINE_SAMPLES = 1455
  SAMPLE_TYPE = UNSIGNED_INTEGER
  SAMPLE_BITS = 8
  BANDS = 1
  BAND_STORAGE_TYPE = BAND_SEQUENTIAL
  MAXIMUM = 255
  MEAN = 145.071
  MINIMUM = 1
  STANDARD_DEVIATION = 27.787
END_OBJECT = IMAGE
/* MAP OBJECT DEFINITIONS */
OBJECT = IMAGE_MAP_PROJECTION
  ^DATA_SET_MAP_PROJECTION_CATALOG= "DSMAP.CAT"
  A_AXIS_RADIUS = 3396.0
  B_AXIS_RADIUS = 3396.0
  C_AXIS_RADIUS = 3396.0
  CENTER_LATITUDE = 0.0
  CENTER_LONGITUDE = 319.0
  COORDINATE_SYSTEM_NAME = PLANETOGRAPHIC
  COORDINATE_SYSTEM_TYPE = "BODY-FIXED ROTATING"
  EASTERNMOST_LONGITUDE = 321.036
  FIRST_STANDARD_PARALLEL = "N/A"
  LINE_FIRST_PIXEL = 1
  LINE_LAST_PIXEL = 7602
  LINE_PROJECTION_OFFSET = -23478.625
  MAP_PROJECTION_ROTATION = 0.0
  MAP_PROJECTION_TYPE = SINUSOIDAL
  MAP_RESOLUTION = 592.713803866667
  MAP_SCALE = 0.1
  MAXIMUM_LATITUDE = -39.5954
  MINIMUM_LATITUDE = -52.398
  POSITIVE_LONGITUDE_DIRECTION = EAST
  REFERENCE_LATITUDE = "N/A"
  REFERENCE_LONGITUDE = "N/A"
  SAMPLE_FIRST_PIXEL = 1
  SAMPLE_LAST_PIXEL = 1455
  SAMPLE_PROJECTION_OFFSET = 532.375
  SECOND_STANDARD_PARALLEL = "N/A"
  WESTERNMOST_LONGITUDE = 317.525
END_OBJECT = IMAGE_MAP_PROJECTION
END
