PDS_VERSION_ID = PDS3
/* FILE DATA ELEMENTS */
RECORD_TYPE = UNDEFINED
/* POINTERS TO DATA OBJECTS */
^IMAGE = ("HC853_0000_BL4.TIF")
/* IDENTIFICATION DATA ELEMENTS */
DATA_SET_ID = "MEX-M-HRSC-4-REFDR-MAPPROJECT-EXT4-V4.0"
DATA_SET_NAME = "MARS EXPRESS HRSC MAP PROJECTED REFDR EXTENSION4 V4.0"
DETECTOR_ID = MEX_HRSC_BLUE
EVENT_TYPE = "MARS-REGIONAL-MAPPING-Fl-Gl-Pf"
INSTRUMENT_HOST_ID = MEX
INSTRUMENT_HOST_NAME = "MARS EXPRESS"
INSTRUMENT_ID = HRSC
INSTRUMENT_NAME = "HIGH RESOLUTION STEREO CAMERA"
MISSION_NAME = "MARS EXPRESS"
MISSION_PHASE_NAME = ME_Phase_30
PROCESSING_LEVEL_ID = 4
PRODUCT_CREATION_TIME = 2023-01-31T11:51:40.000Z
PRODUCT_ID = "HC853_0000_BL4.TIF"
RELEASE_ID = 0003
REVISION_ID = 0000
/* QUALITY DATA ELEMENTS */
DATA_QUALITY_ID = 1
DATA_QUALITY_DESC = "Data calculated based on original SPICE kernels"
/* TIME DATA ELEMENTS */
SPACECRAFT_CLOCK_START_COUNT = "1/0340284722.09045"
SPACECRAFT_CLOCK_STOP_COUNT = "1/0340285005.58366"
START_TIME = 2014-02-12T11:32:37.401Z
STOP_TIME = 2014-02-12T11:35:43.072Z
/* ORBITAL DATA ELEMENTS */
ASCENDING_NODE_LONGITUDE = 332.47
MAXIMUM_RESOLUTION = 0.0751
FOOTPRINT_POINT_LATITUDE = (-52.4067,-52.3932,-52.3746,-52.3632, -52.3387,-52.3378,-52.351,-52.0184, -51.5753,-50.8993,-50.4463,-50.1006, -49.8691,-49.406,-49.0513,-48.8148, -48.5783,-48.3388,-48.0972,-47.8556, -47.614,-47.368,-47.1213,-46.8747, -46.6263,-46.3745,-45.9967,-45.7421, -45.4852,-45.2282,-44.8378,-44.5759, -44.3138,-44.0473,-43.7812,-43.3769, -43.1052,-42.6956,-42.4209,-42.1408, -41.8589,-41.4352,-41.0042,-40.7171, -40.4229,-40.1293,-39.8327,-39.6836, -39.6036,-39.6145,-39.6293,-39.6373, -39.6467,-39.6549,-39.6613,-39.6613, -39.6631,-40.1119,-40.4036,-40.8412, -41.1293,-41.4159,-41.6991,-42.1237, -42.4031,-42.6811,-42.9564,-43.2286, -43.636,-43.9032,-44.1706,-44.4363, -44.6987,-44.9611,-45.2223,-45.4795, -45.7367,-46.1192,-46.3711,-46.6232, -46.8732,-47.1202,-47.3673,-47.7359, -48.0988,-48.3408,-48.5819,-48.8188, -49.0557,-49.2926,-49.5283,-49.7602, -50.108,-50.4555,-51.0227,-51.4765, -51.9205,-52.2534,-52.3645,-52.4067)
FOOTPRINT_POINT_LONGITUDE = (320.207,319.51,318.763,318.377,317.651 ,317.627,317.563,317.594,317.632, 317.689,317.724,317.75,317.767,317.799, 317.823,317.839,317.854,317.868,317.883 ,317.896,317.91,317.924,317.937,317.95, 317.963,317.975,317.993,318.005,318.016 ,318.027,318.044,318.055,318.065, 318.075,318.087,318.1,318.111,318.125, 318.138,318.142,318.149,318.161,318.171 ,318.178,318.183,318.189,318.194, 318.197,318.199,318.538,319.09,319.457, 319.928,320.32,320.972,320.999,321.007, 320.986,320.975,320.956,320.943,320.932 ,320.919,320.898,320.883,320.869, 320.857,320.843,320.824,320.811,320.797 ,320.783,320.768,320.754,320.739, 320.725,320.71,320.687,320.673,320.658, 320.643,320.627,320.612,320.588,320.565 ,320.549,320.532,320.516,320.5,320.484, 320.467,320.451,320.425,320.399,320.356 ,320.32,320.285,320.257,320.248, 320.207)
ORBIT_NUMBER = 12853
ORBITAL_ECCENTRICITY = 0.577
ORBITAL_INCLINATION = 86.9
ORBITAL_SEMIMAJOR_AXIS = 8757.34
PERIAPSIS_ALTITUDE = 328.63
PERIAPSIS_ARGUMENT_ANGLE = 281.84
PERIAPSIS_TIME = 2014-02-12T11:25:51.000Z
SPACECRAFT_ORIENTATION = (0.0,1.0,0.0)
^MEX_ORIENTATION_DESC = "MEX_ORIENTATION_DESC.TXT"
SPACECRAFT_POINTING_MODE = INERT
^MEX_POINTING_DESC = "MEX_POINTING_DESC.TXT"
RIGHT_ASCENSION = 299.376
DECLINATION = 59.863
OFFSET_ANGLE = -1e+32
SPACECRAFT_SOLAR_DISTANCE = 2.48026e+08
TARGET_NAME = MARS
/* CAMERA DATA ELEMENTS */
DETECTOR_TEMPERATURE = 18.1666
FOCAL_PLANE_TEMPERATURE = 7.7677
INST_CMPRS_NAME = "DISCRETE COSINE TRANSFORMATION (DCT)"
INST_CMPRS_RATIO = 3.74668
INST_CMPRS_QUALITY = 0
INST_CMPRS_QUANTZ_TBL_ID = 0
INSTRUMENT_TEMPERATURE = 11.4379
LENS_TEMPERATURE = 8.1755
MACROPIXEL_SIZE = 4
MISSING_FRAMES = 0
PIXEL_SUBSAMPLING_FLAG = N
SIGNAL_CHAIN_ID = 2
/* RADIOMETRIC DATA ELEMENTS */
BANDWIDTH = 76.0
CENTER_FILTER_WAVELENGTH = 444.0
RADIANCE_OFFSET = 0.174382
RADIANCE_SCALING_FACTOR = 0.00261003
REFLECTANCE_SCALING_FACTOR = 0.000164967
MEX:REFLECTANCE_OFFSET = 0.0110218
/* IMAGE OBJECT DEFINITIONS */
OBJECT = IMAGE
  INTERCHANGE_FORMAT = BINARY
  LINES = 7602
  LINE_SAMPLES = 1455
  SAMPLE_TYPE = UNSIGNED_INTEGER
  SAMPLE_BITS = 8
  BANDS = 1
  BAND_STORAGE_TYPE = BAND_SEQUENTIAL
  MAXIMUM = 255
  MEAN = 125.993
  MINIMUM = 1
  STANDARD_DEVIATION = 35.8416
END_OBJECT = IMAGE
/* MAP OBJECT DEFINITIONS */
OBJECT = IMAGE_MAP_PROJECTION
  ^DATA_SET_MAP_PROJECTION_CATALOG= "DSMAP.CAT"
  A_AXIS_RADIUS = 3396.0
  B_AXIS_RADIUS = 3396.0
  C_AXIS_RADIUS = 3396.0
  CENTER_LATITUDE = 0.0
  CENTER_LONGITUDE = 319.0
  COORDINATE_SYSTEM_NAME = PLANETOGRAPHIC
  COORDINATE_SYSTEM_TYPE = "BODY-FIXED ROTATING"
  EASTERNMOST_LONGITUDE = 321.007
  FIRST_STANDARD_PARALLEL = "N/A"
  LINE_FIRST_PIXEL = 1
  LINE_LAST_PIXEL = 7602
  LINE_PROJECTION_OFFSET = -23478.625
  MAP_PROJECTION_ROTATION = 0.0
  MAP_PROJECTION_TYPE = SINUSOIDAL
  MAP_RESOLUTION = 592.713803866667
  MAP_SCALE = 0.1
  MAXIMUM_LATITUDE = -39.6036
  MINIMUM_LATITUDE = -52.4067
  POSITIVE_LONGITUDE_DIRECTION = EAST
  REFERENCE_LATITUDE = "N/A"
  REFERENCE_LONGITUDE = "N/A"
  SAMPLE_FIRST_PIXEL = 1
  SAMPLE_LAST_PIXEL = 1455
  SAMPLE_PROJECTION_OFFSET = 532.375
  SECOND_STANDARD_PARALLEL = "N/A"
  WESTERNMOST_LONGITUDE = 317.563
END_OBJECT = IMAGE_MAP_PROJECTION
END
