PDS_VERSION_ID = PDS3
/* FILE DATA ELEMENTS */
RECORD_TYPE = UNDEFINED
/* POINTERS TO DATA OBJECTS */
^IMAGE = ("HC849_0000_GR4.TIF")
/* IDENTIFICATION DATA ELEMENTS */
DATA_SET_ID = "MEX-M-HRSC-4-REFDR-MAPPROJECT-EXT4-V4.0"
DATA_SET_NAME = "MARS EXPRESS HRSC MAP PROJECTED REFDR EXTENSION4 V4.0"
DETECTOR_ID = MEX_HRSC_GREEN
EVENT_TYPE = "MARS-REGIONAL-MAPPING-Im-Pf"
INSTRUMENT_HOST_ID = MEX
INSTRUMENT_HOST_NAME = "MARS EXPRESS"
INSTRUMENT_ID = HRSC
INSTRUMENT_NAME = "HIGH RESOLUTION STEREO CAMERA"
MISSION_NAME = "MARS EXPRESS"
MISSION_PHASE_NAME = ME_Phase_30
PROCESSING_LEVEL_ID = 4
PRODUCT_CREATION_TIME = 2023-01-31T11:51:40.000Z
PRODUCT_ID = "HC849_0000_GR4.TIF"
RELEASE_ID = 0003
REVISION_ID = 0000
/* QUALITY DATA ELEMENTS */
DATA_QUALITY_ID = 1
DATA_QUALITY_DESC = "Data calculated based on original SPICE kernels"
/* TIME DATA ELEMENTS */
SPACECRAFT_CLOCK_START_COUNT = "1/0340184185.07337"
SPACECRAFT_CLOCK_STOP_COUNT = "1/0340184489.11845"
START_TIME = 2014-02-11T07:37:21.643Z
STOP_TIME = 2014-02-11T07:40:35.030Z
/* ORBITAL DATA ELEMENTS */
ASCENDING_NODE_LONGITUDE = 332.55
MAXIMUM_RESOLUTION = 0.0884
FOOTPRINT_POINT_LATITUDE = (-47.0058,-47.0014,-46.9958,-46.9889, -46.9808,-46.9714,-46.9533,-46.9525, -46.9849,-46.5501,-46.1122,-45.7833, -45.452,-45.0061,-44.551,-44.2083, -43.8624,-43.3986,-42.9295,-42.5734, -42.3349,-42.0957,-41.8533,-41.4898, -41.121,-40.75,-40.502,-40.2521, -39.8712,-39.6171,-39.3603,-39.1023, -38.8433,-38.581,-38.3208,-38.0545, -37.7872,-37.5176,-37.2475,-36.9746, -36.7006,-36.4244,-36.1463,-35.8658, -35.5837,-35.2985,-35.0124,-34.5774, -34.432,-34.4082,-34.4182,-34.4251, -34.4336,-34.4388,-34.4458,-34.4487, -34.4502,-34.4502,-34.4522,-34.7432, -35.0335,-35.3198,-35.6055,-35.8877, -36.1686,-36.4469,-36.7234,-36.9977, -37.2708,-37.5411,-37.811,-38.0773, -38.3436,-38.6061,-38.8681,-39.1277, -39.3859,-39.6432,-39.8977,-40.2783, -40.5292,-40.9063,-41.2734,-41.5202, -41.7629,-42.0053,-42.2468,-42.4853, -42.7244,-42.9617,-43.4314,-43.8956, -44.3562,-44.8113,-45.4853,-46.15, -46.4791,-46.912,-47.02,-47.0058)
FOOTPRINT_POINT_LONGITUDE = (8.27912,7.86896,7.45611,7.03961, 6.62054,6.198,5.50271,5.47576,5.40978, 5.43942,5.46045,5.47612,5.48487,5.50303 ,5.52357,5.5395,5.55091,5.56614,5.57996 ,5.58975,5.59589,5.60208,5.60744, 5.61514,5.62223,5.63056,5.62758,5.63005 ,5.63794,5.6406,5.64278,5.64469,5.64741 ,5.64951,5.64195,5.64345,5.65018, 5.65112,5.65099,5.6508,5.65,5.64883, 5.64773,5.64631,5.64445,5.64186,5.63991 ,5.63593,5.63339,5.63217,6.04126, 6.36612,6.83018,7.17534,7.80377,8.22841 ,8.67881,8.70687,8.71619,8.71062, 8.70484,8.69897,8.69296,8.68685,8.68062 ,8.67431,8.6678,8.66125,8.65451,8.64773 ,8.64078,8.63378,8.6266,8.61933,8.61191 ,8.60444,8.5968,8.58904,8.5812,8.56914, 8.56101,8.54856,8.53568,8.52699,8.51823 ,8.50928,8.50019,8.49103,8.4817,8.47223 ,8.45296,8.43315,8.41275,8.39189, 8.35951,8.32585,8.30851,8.28499,8.27901 ,8.27912)
ORBIT_NUMBER = 12849
ORBITAL_ECCENTRICITY = 0.577
ORBITAL_INCLINATION = 86.89
ORBITAL_SEMIMAJOR_AXIS = 8759.05
PERIAPSIS_ALTITUDE = 328.91
PERIAPSIS_ARGUMENT_ANGLE = 282.49
PERIAPSIS_TIME = 2014-02-11T07:28:54.000Z
SPACECRAFT_ORIENTATION = (0.0,1.0,0.0)
^MEX_ORIENTATION_DESC = "MEX_ORIENTATION_DESC.TXT"
SPACECRAFT_POINTING_MODE = INERT
^MEX_POINTING_DESC = "MEX_POINTING_DESC.TXT"
RIGHT_ASCENSION = 298.141
DECLINATION = 59.978
OFFSET_ANGLE = -1e+32
SPACECRAFT_SOLAR_DISTANCE = 2.48095e+08
TARGET_NAME = MARS
/* CAMERA DATA ELEMENTS */
DETECTOR_TEMPERATURE = 17.9627
FOCAL_PLANE_TEMPERATURE = 7.7677
INST_CMPRS_NAME = "DISCRETE COSINE TRANSFORMATION (DCT)"
INST_CMPRS_RATIO = 7.38475
INST_CMPRS_QUALITY = 0
INST_CMPRS_QUANTZ_TBL_ID = 0
INSTRUMENT_TEMPERATURE = 11.234
LENS_TEMPERATURE = 8.1755
MACROPIXEL_SIZE = 4
MISSING_FRAMES = 0
PIXEL_SUBSAMPLING_FLAG = N
SIGNAL_CHAIN_ID = 2
/* RADIOMETRIC DATA ELEMENTS */
BANDWIDTH = 88.0
CENTER_FILTER_WAVELENGTH = 538.0
RADIANCE_OFFSET = 0.0792288
RADIANCE_SCALING_FACTOR = 0.00554824
REFLECTANCE_SCALING_FACTOR = 0.000294022
MEX:REFLECTANCE_OFFSET = 0.00419863
/* IMAGE OBJECT DEFINITIONS */
OBJECT = IMAGE
  INTERCHANGE_FORMAT = BINARY
  LINES = 7497
  LINE_SAMPLES = 1495
  SAMPLE_TYPE = UNSIGNED_INTEGER
  SAMPLE_BITS = 8
  BANDS = 1
  BAND_STORAGE_TYPE = BAND_SEQUENTIAL
  MAXIMUM = 255
  MEAN = 126.771
  MINIMUM = 1
  STANDARD_DEVIATION = 24.8668
END_OBJECT = IMAGE
/* MAP OBJECT DEFINITIONS */
OBJECT = IMAGE_MAP_PROJECTION
  ^DATA_SET_MAP_PROJECTION_CATALOG= "DSMAP.CAT"
  A_AXIS_RADIUS = 3396.0
  B_AXIS_RADIUS = 3396.0
  C_AXIS_RADIUS = 3396.0
  CENTER_LATITUDE = 0.0
  CENTER_LONGITUDE = 7.0
  COORDINATE_SYSTEM_NAME = PLANETOGRAPHIC
  COORDINATE_SYSTEM_TYPE = "BODY-FIXED ROTATING"
  EASTERNMOST_LONGITUDE = 8.716189999999999
  FIRST_STANDARD_PARALLEL = "N/A"
  LINE_FIRST_PIXEL = 1
  LINE_LAST_PIXEL = 7497
  LINE_PROJECTION_OFFSET = -20397.875
  MAP_PROJECTION_ROTATION = 0.0
  MAP_PROJECTION_TYPE = SINUSOIDAL
  MAP_RESOLUTION = 592.713803866667
  MAP_SCALE = 0.1
  MAXIMUM_LATITUDE = -34.4082
  MINIMUM_LATITUDE = -47.02
  POSITIVE_LONGITUDE_DIRECTION = EAST
  REFERENCE_LATITUDE = "N/A"
  REFERENCE_LONGITUDE = "N/A"
  SAMPLE_FIRST_PIXEL = 1
  SAMPLE_LAST_PIXEL = 1495
  SAMPLE_PROJECTION_OFFSET = 659.375
  SECOND_STANDARD_PARALLEL = "N/A"
  WESTERNMOST_LONGITUDE = 5.40978
END_OBJECT = IMAGE_MAP_PROJECTION
END
