PDS_VERSION_ID = PDS3
/* FILE DATA ELEMENTS */
RECORD_TYPE = UNDEFINED
/* POINTERS TO DATA OBJECTS */
^IMAGE = ("HC841_0000_BL4.TIF")
/* IDENTIFICATION DATA ELEMENTS */
DATA_SET_ID = "MEX-M-HRSC-4-REFDR-MAPPROJECT-EXT4-V4.0"
DATA_SET_NAME = "MARS EXPRESS HRSC MAP PROJECTED REFDR EXTENSION4 V4.0"
DETECTOR_ID = MEX_HRSC_BLUE
EVENT_TYPE = "MARS-TERMINATOR-CALIBRATION-Tc"
INSTRUMENT_HOST_ID = MEX
INSTRUMENT_HOST_NAME = "MARS EXPRESS"
INSTRUMENT_ID = HRSC
INSTRUMENT_NAME = "HIGH RESOLUTION STEREO CAMERA"
MISSION_NAME = "MARS EXPRESS"
MISSION_PHASE_NAME = ME_Phase_30
PROCESSING_LEVEL_ID = 4
PRODUCT_CREATION_TIME = 2023-01-31T11:51:40.000Z
PRODUCT_ID = "HC841_0000_BL4.TIF"
RELEASE_ID = 0003
REVISION_ID = 0000
/* QUALITY DATA ELEMENTS */
DATA_QUALITY_ID = 1
DATA_QUALITY_DESC = "Data calculated based on original SPICE kernels"
/* TIME DATA ELEMENTS */
SPACECRAFT_CLOCK_START_COUNT = "1/0339989401.07329"
SPACECRAFT_CLOCK_STOP_COUNT = "1/0339989863.06224"
START_TIME = 2014-02-09T01:31:45.959Z
STOP_TIME = 2014-02-09T01:35:24.085Z
/* ORBITAL DATA ELEMENTS */
ASCENDING_NODE_LONGITUDE = 332.7
MAXIMUM_RESOLUTION = 2.7444
FOOTPRINT_POINT_LATITUDE = (3.58576,6.15058,8.73511,11.5291, 13.0291,13.7544,13.8537,13.341,12.1109, 9.79447,7.83513,5.36497,3.84962,3.42901 ,4.07593,10.0705,15.296,18.9653,21.9495 ,24.4704,28.7116,32.3419,35.4872,38.376 ,41.0338,45.8516,50.173,54.1342,57.8137 ,61.2597,64.4924,67.5074,70.2641, 72.6773,74.5895,75.7654,75.9402,74.9454 ,72.7945,69.5876,67.6025,65.3494, 62.7993,59.8926,56.5269,52.5312,47.4503 ,44.1164,39.4911,33.1984,31.8985, 31.8532,32.2855,36.2446,37.6351,37.6109 ,36.1156,32.6751,31.2717,32.3306, 31.3956,30.892,32.597,39.6667,43.7102, 46.7094,51.5611,55.3976,58.5788,61.3089 ,63.6787,65.7423,69.0616,71.3565,72.623 ,72.872,72.1947,70.7756,68.7848,66.3731 ,63.6377,60.6315,57.3754,53.8604, 50.0507,45.8776,41.2182,38.6442,35.8532 ,32.7808,29.3187,25.2874,20.2816, 17.1119,12.998,5.08419,5.0733,3.79388, 3.58576)
FOOTPRINT_POINT_LONGITUDE = (104.943,104.102,102.572,99.6538, 96.7974,93.9607,91.1283,88.2876,85.4194 ,82.4856,80.9594,79.7362,79.2756, 79.3609,74.8953,73.4723,73.6519,73.682, 73.6453,73.56,73.298,72.9563,72.5344, 72.0567,71.5164,70.2441,68.6806,66.7637 ,64.398,61.4462,57.7075,52.8933,46.5852 ,38.2375,27.2595,13.4371,357.659, 342.023,328.523,317.852,313.497,309.695 ,306.368,303.436,300.831,298.488, 296.323,295.262,294.14,291.799,287.112, 279.559,279.132,276.123,272.516,269.334 ,265.777,262.866,262.516,262.594, 254.725,249.861,245.937,243.869,242.536 ,241.286,238.719,235.994,233.039, 229.786,226.182,222.178,212.808,201.556 ,188.821,175.647,163.34,152.724,144.075 ,137.185,131.725,127.375,123.875, 121.031,118.699,116.774,115.184,114.5, 113.884,113.335,112.858,112.461,112.172 ,112.092,112.096,112.436,108.995, 104.939,104.943)
ORBIT_NUMBER = 12841
ORBITAL_ECCENTRICITY = 0.577
ORBITAL_INCLINATION = 86.9
ORBITAL_SEMIMAJOR_AXIS = 8761.15
PERIAPSIS_ALTITUDE = 328.13
PERIAPSIS_ARGUMENT_ANGLE = 283.85
PERIAPSIS_TIME = 2014-02-08T23:35:06.000Z
SPACECRAFT_ORIENTATION = (0.0,1.0,0.0)
^MEX_ORIENTATION_DESC = "MEX_ORIENTATION_DESC.TXT"
SPACECRAFT_POINTING_MODE = INERT
^MEX_POINTING_DESC = "MEX_POINTING_DESC.TXT"
RIGHT_ASCENSION = 160.413
DECLINATION = -45.819
OFFSET_ANGLE = -1e+32
SPACECRAFT_SOLAR_DISTANCE = 2.48226e+08
TARGET_NAME = MARS
/* CAMERA DATA ELEMENTS */
DETECTOR_TEMPERATURE = 18.3705
FOCAL_PLANE_TEMPERATURE = 9.195
INST_CMPRS_NAME = "DISCRETE COSINE TRANSFORMATION (DCT)"
INST_CMPRS_RATIO = 18.9678
INST_CMPRS_QUALITY = 0
INST_CMPRS_QUANTZ_TBL_ID = 0
INSTRUMENT_TEMPERATURE = 11.0301
LENS_TEMPERATURE = 8.9911
MACROPIXEL_SIZE = 8
MISSING_FRAMES = 0
PIXEL_SUBSAMPLING_FLAG = N
SIGNAL_CHAIN_ID = 2
/* RADIOMETRIC DATA ELEMENTS */
BANDWIDTH = 76.0
CENTER_FILTER_WAVELENGTH = 444.0
RADIANCE_OFFSET = 0.0
RADIANCE_SCALING_FACTOR = 0.0116943
REFLECTANCE_SCALING_FACTOR = 0.000740305
MEX:REFLECTANCE_OFFSET = 0.0
/* IMAGE OBJECT DEFINITIONS */
OBJECT = IMAGE
  INTERCHANGE_FORMAT = BINARY
  LINES = 1987
  LINE_SAMPLES = 911
  SAMPLE_TYPE = UNSIGNED_INTEGER
  SAMPLE_BITS = 8
  BANDS = 1
  BAND_STORAGE_TYPE = BAND_SEQUENTIAL
  MAXIMUM = 255
  MEAN = 58.6214
  MINIMUM = 1
  STANDARD_DEVIATION = 45.5981
END_OBJECT = IMAGE
/* MAP OBJECT DEFINITIONS */
OBJECT = IMAGE_MAP_PROJECTION
  ^DATA_SET_MAP_PROJECTION_CATALOG= "DSMAP.CAT"
  A_AXIS_RADIUS = 3396.0
  B_AXIS_RADIUS = 3396.0
  C_AXIS_RADIUS = 3396.0
  CENTER_LATITUDE = 75.6056
  CENTER_LONGITUDE = 96.6118
  COORDINATE_SYSTEM_NAME = PLANETOGRAPHIC
  COORDINATE_SYSTEM_TYPE = "BODY-FIXED ROTATING"
  EASTERNMOST_LONGITUDE = 360.0
  FIRST_STANDARD_PARALLEL = "N/A"
  LINE_FIRST_PIXEL = 1
  LINE_LAST_PIXEL = 1987
  LINE_PROJECTION_OFFSET = 1010.625
  MAP_PROJECTION_ROTATION = 0.0
  MAP_PROJECTION_TYPE = ORTHOGRAPHIC
  MAP_RESOLUTION = 18.5223063708333
  MAP_SCALE = 3.2
  MAXIMUM_LATITUDE = 90.0
  MINIMUM_LATITUDE = 3.42901
  POSITIVE_LONGITUDE_DIRECTION = EAST
  REFERENCE_LATITUDE = "N/A"
  REFERENCE_LONGITUDE = "N/A"
  SAMPLE_FIRST_PIXEL = 1
  SAMPLE_LAST_PIXEL = 911
  SAMPLE_PROJECTION_OFFSET = 434.875
  SECOND_STANDARD_PARALLEL = "N/A"
  WESTERNMOST_LONGITUDE = 0.0
END_OBJECT = IMAGE_MAP_PROJECTION
END
