PDS_VERSION_ID = PDS3
/* FILE DATA ELEMENTS */
RECORD_TYPE = UNDEFINED
/* POINTERS TO DATA OBJECTS */
^IMAGE = ("HC838_0000_BL4.TIF")
/* IDENTIFICATION DATA ELEMENTS */
DATA_SET_ID = "MEX-M-HRSC-4-REFDR-MAPPROJECT-EXT4-V4.0"
DATA_SET_NAME = "MARS EXPRESS HRSC MAP PROJECTED REFDR EXTENSION4 V4.0"
DETECTOR_ID = MEX_HRSC_BLUE
EVENT_TYPE = "MARS-REGIONAL-MAPPING-Pf-Ts-At"
INSTRUMENT_HOST_ID = MEX
INSTRUMENT_HOST_NAME = "MARS EXPRESS"
INSTRUMENT_ID = HRSC
INSTRUMENT_NAME = "HIGH RESOLUTION STEREO CAMERA"
MISSION_NAME = "MARS EXPRESS"
MISSION_PHASE_NAME = ME_Phase_30
PROCESSING_LEVEL_ID = 4
PRODUCT_CREATION_TIME = 2023-01-31T11:51:40.000Z
PRODUCT_ID = "HC838_0000_BL4.TIF"
RELEASE_ID = 0003
REVISION_ID = 0000
/* QUALITY DATA ELEMENTS */
DATA_QUALITY_ID = 1
DATA_QUALITY_DESC = "Data calculated based on original SPICE kernels"
/* TIME DATA ELEMENTS */
SPACECRAFT_CLOCK_START_COUNT = "1/0339907409.07288"
SPACECRAFT_CLOCK_STOP_COUNT = "1/0339907709.11128"
START_TIME = 2014-02-08T02:44:03.962Z
STOP_TIME = 2014-02-08T02:47:25.541Z
/* ORBITAL DATA ELEMENTS */
ASCENDING_NODE_LONGITUDE = 332.75
MAXIMUM_RESOLUTION = 0.0745
FOOTPRINT_POINT_LATITUDE = (-50.3108,-50.3052,-50.2939,-50.2787, -50.2586,-50.2579,-50.2732,-49.7998, -49.4404,-48.9614,-48.3494,-47.8576, -47.4818,-46.9806,-46.7251,-46.469, -46.213,-45.9557,-45.6943,-45.4328, -45.1712,-44.9045,-44.6374,-44.3704, -44.1001,-43.8276,-43.5551,-43.2789, -43.0008,-42.7227,-42.441,-42.1576, -41.8739,-41.5853,-41.2963,-41.005, -40.7107,-40.4155,-40.1166,-39.8162, -39.3597,-39.0535,-38.7444,-38.4325, -37.9588,-37.6412,-37.3194,-36.9959, -36.6684,-36.5041,-36.4156,-36.4243, -36.438,-36.4457,-36.4491,-36.4497, -36.4496,-36.4513,-36.7808,-37.1078, -37.4318,-37.753,-38.0711,-38.3874, -38.6992,-39.1643,-39.4709,-39.7764, -40.0778,-40.3788,-40.6748,-40.97, -41.2628,-41.5522,-41.8416,-42.1264, -42.4102,-42.8329,-43.1111,-43.5283, -43.8011,-44.074,-44.346,-44.6133, -44.8808,-45.2803,-45.5422,-45.8042, -46.066,-46.4507,-46.7071,-47.09, -47.7174,-48.0914,-48.5825,-49.0716, -49.6716,-50.15,-50.2673,-50.3108)
FOOTPRINT_POINT_LONGITUDE = (53.2539,52.8427,52.2029,51.5405, 50.8312,50.8083,50.7554,50.7905,50.8155 ,50.847,50.8847,50.9146,50.9361,50.9642 ,50.9777,50.9914,51.0046,51.0175, 51.0302,51.043,51.0542,51.0654,51.0766, 51.088,51.0985,51.1093,51.1196,51.1298, 51.1394,51.1489,51.1581,51.1674,51.1761 ,51.1845,51.193,51.2003,51.2085,51.2152 ,51.2222,51.229,51.2383,51.2441,51.2502 ,51.2554,51.2623,51.2668,51.2715, 51.2753,51.2794,51.2813,51.2821,51.6399 ,52.3595,53.0023,53.5687,54.0069, 54.0328,54.0413,54.0281,54.0148,54.0013 ,53.9879,53.9745,53.961,53.9483,53.9276 ,53.914,53.9001,53.8857,53.8718,53.8568 ,53.8429,53.8292,53.8157,53.8021, 53.7884,53.7747,53.7538,53.7404,53.7188 ,53.705,53.6906,53.6767,53.6628,53.6481 ,53.6258,53.611,53.5956,53.58,53.5569, 53.5415,53.5176,53.4777,53.4532,53.4206 ,53.3865,53.3434,53.3088,53.3001, 53.2539)
ORBIT_NUMBER = 12838
ORBITAL_ECCENTRICITY = 0.577
ORBITAL_INCLINATION = 86.89
ORBITAL_SEMIMAJOR_AXIS = 8761.4
PERIAPSIS_ALTITUDE = 328.68
PERIAPSIS_ARGUMENT_ANGLE = 284.37
PERIAPSIS_TIME = 2014-02-08T02:37:24.000Z
SPACECRAFT_ORIENTATION = (0.0,1.0,0.0)
^MEX_ORIENTATION_DESC = "MEX_ORIENTATION_DESC.TXT"
SPACECRAFT_POINTING_MODE = INERT
^MEX_POINTING_DESC = "MEX_POINTING_DESC.TXT"
RIGHT_ASCENSION = 294.324
DECLINATION = 60.232
OFFSET_ANGLE = -1e+32
SPACECRAFT_SOLAR_DISTANCE = 2.48273e+08
TARGET_NAME = MARS
/* CAMERA DATA ELEMENTS */
DETECTOR_TEMPERATURE = 18.5744
FOCAL_PLANE_TEMPERATURE = 8.1755
INST_CMPRS_NAME = "DISCRETE COSINE TRANSFORMATION (DCT)"
INST_CMPRS_RATIO = 6.29525
INST_CMPRS_QUALITY = 0
INST_CMPRS_QUANTZ_TBL_ID = 0
INSTRUMENT_TEMPERATURE = 11.4379
LENS_TEMPERATURE = 8.7872
MACROPIXEL_SIZE = 4
MISSING_FRAMES = 0
PIXEL_SUBSAMPLING_FLAG = N
SIGNAL_CHAIN_ID = 2
/* RADIOMETRIC DATA ELEMENTS */
BANDWIDTH = 76.0
CENTER_FILTER_WAVELENGTH = 444.0
RADIANCE_OFFSET = 0.292145
RADIANCE_SCALING_FACTOR = 0.00340473
REFLECTANCE_SCALING_FACTOR = 0.000215624
MEX:REFLECTANCE_OFFSET = 0.0185017
/* IMAGE OBJECT DEFINITIONS */
OBJECT = IMAGE
  INTERCHANGE_FORMAT = BINARY
  LINES = 8244
  LINE_SAMPLES = 1464
  SAMPLE_TYPE = UNSIGNED_INTEGER
  SAMPLE_BITS = 8
  BANDS = 1
  BAND_STORAGE_TYPE = BAND_SEQUENTIAL
  MAXIMUM = 255
  MEAN = 162.955
  MINIMUM = 1
  STANDARD_DEVIATION = 51.1789
END_OBJECT = IMAGE
/* MAP OBJECT DEFINITIONS */
OBJECT = IMAGE_MAP_PROJECTION
  ^DATA_SET_MAP_PROJECTION_CATALOG= "DSMAP.CAT"
  A_AXIS_RADIUS = 3396.0
  B_AXIS_RADIUS = 3396.0
  C_AXIS_RADIUS = 3396.0
  CENTER_LATITUDE = 0.0
  CENTER_LONGITUDE = 52.0
  COORDINATE_SYSTEM_NAME = PLANETOGRAPHIC
  COORDINATE_SYSTEM_TYPE = "BODY-FIXED ROTATING"
  EASTERNMOST_LONGITUDE = 54.0413
  FIRST_STANDARD_PARALLEL = "N/A"
  LINE_FIRST_PIXEL = 1
  LINE_LAST_PIXEL = 8244
  LINE_PROJECTION_OFFSET = -21592.375
  MAP_PROJECTION_ROTATION = 0.0
  MAP_PROJECTION_TYPE = SINUSOIDAL
  MAP_RESOLUTION = 592.713803866667
  MAP_SCALE = 0.1
  MAXIMUM_LATITUDE = -36.4156
  MINIMUM_LATITUDE = -50.3108
  POSITIVE_LONGITUDE_DIRECTION = EAST
  REFERENCE_LATITUDE = "N/A"
  REFERENCE_LONGITUDE = "N/A"
  SAMPLE_FIRST_PIXEL = 1
  SAMPLE_LAST_PIXEL = 1464
  SAMPLE_PROJECTION_OFFSET = 482.125
  SECOND_STANDARD_PARALLEL = "N/A"
  WESTERNMOST_LONGITUDE = 50.7554
END_OBJECT = IMAGE_MAP_PROJECTION
END
