PDS_VERSION_ID = PDS3
/* FILE DATA ELEMENTS */
RECORD_TYPE = UNDEFINED
/* POINTERS TO DATA OBJECTS */
^IMAGE = ("HC834_0000_GR4.TIF")
/* IDENTIFICATION DATA ELEMENTS */
DATA_SET_ID = "MEX-M-HRSC-4-REFDR-MAPPROJECT-EXT4-V4.0"
DATA_SET_NAME = "MARS EXPRESS HRSC MAP PROJECTED REFDR EXTENSION4 V4.0"
DETECTOR_ID = MEX_HRSC_GREEN
EVENT_TYPE = "MARS-REGIONAL-MAPPING-Vo-Fl-Pf"
INSTRUMENT_HOST_ID = MEX
INSTRUMENT_HOST_NAME = "MARS EXPRESS"
INSTRUMENT_ID = HRSC
INSTRUMENT_NAME = "HIGH RESOLUTION STEREO CAMERA"
MISSION_NAME = "MARS EXPRESS"
MISSION_PHASE_NAME = ME_Phase_30
PROCESSING_LEVEL_ID = 4
PRODUCT_CREATION_TIME = 2023-01-31T11:51:40.000Z
PRODUCT_ID = "HC834_0000_GR4.TIF"
RELEASE_ID = 0003
REVISION_ID = 0000
/* QUALITY DATA ELEMENTS */
DATA_QUALITY_ID = 1
DATA_QUALITY_DESC = "Data calculated based on original SPICE kernels"
/* TIME DATA ELEMENTS */
SPACECRAFT_CLOCK_START_COUNT = "1/0339807050.09042"
SPACECRAFT_CLOCK_STOP_COUNT = "1/0339807364.32480"
START_TIME = 2014-02-06T22:52:04.079Z
STOP_TIME = 2014-02-06T22:54:51.836Z
/* ORBITAL DATA ELEMENTS */
ASCENDING_NODE_LONGITUDE = 332.83
MAXIMUM_RESOLUTION = 0.1162
FOOTPRINT_POINT_LATITUDE = (-33.8015,-33.8106,-33.8191,-33.8276, -33.8335,-33.8381,-33.8429,-33.843, -33.8622,-33.4953,-33.1256,-32.7515, -32.2799,-31.8988,-31.417,-31.028, -30.5351,-30.236,-29.835,-29.6332, -29.3277,-29.1235,-28.9174,-28.7108, -28.5027,-28.2936,-28.0834,-27.8698, -27.6591,-27.4458,-27.122,-26.9064, -26.688,-26.4704,-26.2502,-26.0288, -25.8059,-25.5819,-25.3561,-25.1297, -24.901,-24.5561,-24.3247,-24.0914, -23.8572,-23.6207,-23.5025,-23.4081, -23.4041,-23.3999,-23.3963,-23.3913, -23.3867,-23.3811,-23.3721,-23.3651, -23.3586,-23.3525,-23.3431,-23.3422, -23.3443,-23.7007,-23.9365,-24.171, -24.4034,-24.6353,-24.8648,-25.0938, -25.3208,-25.6591,-25.8835,-26.1055, -26.3273,-26.5468,-26.7662,-26.9832, -27.2001,-27.4145,-27.7352,-27.9473, -28.1584,-28.368,-28.5775,-28.7845, -28.9917,-29.1967,-29.4012,-29.7058, -30.1082,-30.5066,-30.9011,-31.291, -31.6761,-31.9649,-32.4436,-33.0041, -33.3757,-33.6513,-33.7442,-33.8015)
FOOTPRINT_POINT_LONGITUDE = (102.217,101.798,101.351,100.816, 100.365,99.9118,99.2264,99.1978,99.1636 ,99.1625,99.1607,99.1586,99.1551, 99.1517,99.147,99.1427,99.1376,99.1339, 99.1282,99.1251,99.1204,99.1169,99.1132 ,99.1094,99.1054,99.1012,99.0984,99.1, 99.0925,99.086,99.0832,99.0756,99.0726, 99.0617,99.0552,99.0495,99.0436,99.0376 ,99.0315,99.0253,99.0185,99.0081, 99.0009,98.9936,98.9861,98.9788,98.9751 ,98.972,99.3917,99.748,100.006,100.327, 100.583,100.871,101.287,101.574,101.829 ,102.051,102.369,102.401,102.412, 102.406,102.403,102.399,102.396,102.392 ,102.389,102.385,102.382,102.377, 102.373,102.37,102.366,102.363,102.359, 102.356,102.352,102.348,102.344,102.34, 102.336,102.333,102.329,102.326,102.322 ,102.318,102.315,102.309,102.302, 102.294,102.286,102.278,102.269,102.263 ,102.255,102.242,102.234,102.227, 102.226,102.217)
ORBIT_NUMBER = 12834
ORBITAL_ECCENTRICITY = 0.577
ORBITAL_INCLINATION = 86.9
ORBITAL_SEMIMAJOR_AXIS = 8762.15
PERIAPSIS_ALTITUDE = 328.1
PERIAPSIS_ARGUMENT_ANGLE = 285.03
PERIAPSIS_TIME = 2014-02-06T22:40:28.000Z
SPACECRAFT_ORIENTATION = (0.0,1.0,0.0)
^MEX_ORIENTATION_DESC = "MEX_ORIENTATION_DESC.TXT"
SPACECRAFT_POINTING_MODE = INERT
^MEX_POINTING_DESC = "MEX_POINTING_DESC.TXT"
RIGHT_ASCENSION = 292.948
DECLINATION = 60.288
OFFSET_ANGLE = -1e+32
SPACECRAFT_SOLAR_DISTANCE = 2.48334e+08
TARGET_NAME = MARS
/* CAMERA DATA ELEMENTS */
DETECTOR_TEMPERATURE = 17.7588
FOCAL_PLANE_TEMPERATURE = 7.7677
INST_CMPRS_NAME = "DISCRETE COSINE TRANSFORMATION (DCT)"
INST_CMPRS_RATIO = 8.6845
INST_CMPRS_QUALITY = 0
INST_CMPRS_QUANTZ_TBL_ID = 0
INSTRUMENT_TEMPERATURE = 11.6418
LENS_TEMPERATURE = 8.1755
MACROPIXEL_SIZE = 4
MISSING_FRAMES = 0
PIXEL_SUBSAMPLING_FLAG = N
SIGNAL_CHAIN_ID = 2
/* RADIOMETRIC DATA ELEMENTS */
BANDWIDTH = 88.0
CENTER_FILTER_WAVELENGTH = 538.0
RADIANCE_OFFSET = 0.250198
RADIANCE_SCALING_FACTOR = 0.0062608
REFLECTANCE_SCALING_FACTOR = 0.000332421
MEX:REFLECTANCE_OFFSET = 0.0132844
/* IMAGE OBJECT DEFINITIONS */
OBJECT = IMAGE
  INTERCHANGE_FORMAT = BINARY
  LINES = 6233
  LINE_SAMPLES = 1852
  SAMPLE_TYPE = UNSIGNED_INTEGER
  SAMPLE_BITS = 8
  BANDS = 1
  BAND_STORAGE_TYPE = BAND_SEQUENTIAL
  MAXIMUM = 255
  MEAN = 134.999
  MINIMUM = 1
  STANDARD_DEVIATION = 16.7652
END_OBJECT = IMAGE
/* MAP OBJECT DEFINITIONS */
OBJECT = IMAGE_MAP_PROJECTION
  ^DATA_SET_MAP_PROJECTION_CATALOG= "DSMAP.CAT"
  A_AXIS_RADIUS = 3396.0
  B_AXIS_RADIUS = 3396.0
  C_AXIS_RADIUS = 3396.0
  CENTER_LATITUDE = 0.0
  CENTER_LONGITUDE = 101.0
  COORDINATE_SYSTEM_NAME = PLANETOGRAPHIC
  COORDINATE_SYSTEM_TYPE = "BODY-FIXED ROTATING"
  EASTERNMOST_LONGITUDE = 102.412
  FIRST_STANDARD_PARALLEL = "N/A"
  LINE_FIRST_PIXEL = 1
  LINE_LAST_PIXEL = 6233
  LINE_PROJECTION_OFFSET = -13842.625
  MAP_PROJECTION_ROTATION = 0.0
  MAP_PROJECTION_TYPE = SINUSOIDAL
  MAP_RESOLUTION = 592.713803866667
  MAP_SCALE = 0.1
  MAXIMUM_LATITUDE = -23.3422
  MINIMUM_LATITUDE = -33.8622
  POSITIVE_LONGITUDE_DIRECTION = EAST
  REFERENCE_LATITUDE = "N/A"
  REFERENCE_LONGITUDE = "N/A"
  SAMPLE_FIRST_PIXEL = 1
  SAMPLE_LAST_PIXEL = 1852
  SAMPLE_PROJECTION_OFFSET = 1104.875
  SECOND_STANDARD_PARALLEL = "N/A"
  WESTERNMOST_LONGITUDE = 98.97199999999999
END_OBJECT = IMAGE_MAP_PROJECTION
END
