PDS_VERSION_ID = PDS3
/* FILE DATA ELEMENTS */
RECORD_TYPE = UNDEFINED
/* POINTERS TO DATA OBJECTS */
^IMAGE = ("HC822_0000_IR4.TIF")
/* IDENTIFICATION DATA ELEMENTS */
DATA_SET_ID = "MEX-M-HRSC-4-REFDR-MAPPROJECT-EXT4-V4.0"
DATA_SET_NAME = "MARS EXPRESS HRSC MAP PROJECTED REFDR EXTENSION4 V4.0"
DETECTOR_ID = MEX_HRSC_IR
EVENT_TYPE = "MARS-REGIONAL-MAPPING-Vo-Te"
INSTRUMENT_HOST_ID = MEX
INSTRUMENT_HOST_NAME = "MARS EXPRESS"
INSTRUMENT_ID = HRSC
INSTRUMENT_NAME = "HIGH RESOLUTION STEREO CAMERA"
MISSION_NAME = "MARS EXPRESS"
MISSION_PHASE_NAME = ME_Phase_30
PROCESSING_LEVEL_ID = 4
PRODUCT_CREATION_TIME = 2023-01-31T11:51:40.000Z
PRODUCT_ID = "HC822_0000_IR4.TIF"
RELEASE_ID = 0003
REVISION_ID = 0000
/* QUALITY DATA ELEMENTS */
DATA_QUALITY_ID = 1
DATA_QUALITY_DESC = "Data calculated based on original SPICE kernels"
/* TIME DATA ELEMENTS */
SPACECRAFT_CLOCK_START_COUNT = "1/0339505298.09044"
SPACECRAFT_CLOCK_STOP_COUNT = "1/0339505718.57682"
START_TIME = 2014-02-03T11:04:31.314Z
STOP_TIME = 2014-02-03T11:08:16.036Z
/* ORBITAL DATA ELEMENTS */
ASCENDING_NODE_LONGITUDE = 333.05
MAXIMUM_RESOLUTION = 0.1777
FOOTPRINT_POINT_LATITUDE = (-28.4509,-28.4375,-28.4296,-28.4218, -28.4143,-28.407,-28.4001,-28.3933, -28.3869,-28.3806,-28.3746,-28.3654, -28.3599,-28.3593,-28.3481,-28.099, -27.8501,-27.4771,-27.229,-26.9814, -26.7344,-26.4876,-26.241,-25.8749, -25.5032,-25.2574,-25.0124,-24.7679, -24.4009,-24.1565,-23.9136,-23.67, -23.3046,-23.0622,-22.6988,-22.3363, -21.8538,-21.4919,-21.0109,-20.6507, -20.1722,-19.8132,-19.4551,-18.8605, -18.386,-18.0304,-17.4431,-16.8491, -16.3777,-16.2602,-16.2258,-16.2324, -16.2423,-16.2495,-16.2566,-16.2641, -16.272,-16.2798,-16.2899,-16.2924, -16.297,-16.3065,-16.3157,-16.3242, -16.3255,-16.3278,-16.7968,-17.1486, -17.6178,-18.208,-18.8005,-19.2776, -19.5204,-19.9951,-20.5944,-20.9564, -21.3198,-21.5612,-21.9216,-22.4031, -23.0065,-23.2485,-23.4903,-23.7326, -23.9751,-24.2182,-24.6926,-24.9367, -25.1866,-25.5641,-25.809,-26.0541, -26.2995,-26.5456,-26.791,-27.277, -27.877,-28.2561,-28.3823,-28.4509)
FOOTPRINT_POINT_LONGITUDE = (250.512,249.989,249.668,249.349, 249.031,248.713,248.396,248.081,247.766 ,247.452,247.138,246.628,246.315, 246.276,246.268,246.267,246.265,246.263 ,246.261,246.259,246.257,246.254, 246.252,246.248,246.244,246.242,246.239 ,246.236,246.231,246.228,246.224, 246.221,246.215,246.212,246.206,246.2, 246.191,246.185,246.176,246.169,246.159 ,246.152,246.145,246.131,246.121, 246.112,246.097,246.083,246.071,246.068 ,246.067,246.405,246.875,247.218, 247.561,247.904,248.249,248.594,249.028 ,249.374,249.722,250.028,250.38,250.645 ,250.69,250.705,250.694,250.686,250.675 ,250.662,250.651,250.643,250.641, 250.631,250.621,250.616,250.612,250.608 ,250.602,250.594,250.584,250.58,250.576 ,250.572,250.569,250.565,250.552, 250.549,250.547,250.546,250.543,250.539 ,250.536,250.532,250.529,250.519, 250.504,250.501,250.501,250.512)
ORBIT_NUMBER = 12822
ORBITAL_ECCENTRICITY = 0.577
ORBITAL_INCLINATION = 86.89
ORBITAL_SEMIMAJOR_AXIS = 8762.14
PERIAPSIS_ALTITUDE = 328.29
PERIAPSIS_ARGUMENT_ANGLE = 287.05
PERIAPSIS_TIME = 2014-02-03T10:49:33.000Z
SPACECRAFT_ORIENTATION = (0.0,1.0,0.0)
^MEX_ORIENTATION_DESC = "MEX_ORIENTATION_DESC.TXT"
SPACECRAFT_POINTING_MODE = INERT
^MEX_POINTING_DESC = "MEX_POINTING_DESC.TXT"
RIGHT_ASCENSION = 288.87
DECLINATION = 60.373
OFFSET_ANGLE = -1e+32
SPACECRAFT_SOLAR_DISTANCE = 2.48505e+08
TARGET_NAME = MARS
/* CAMERA DATA ELEMENTS */
DETECTOR_TEMPERATURE = 17.7588
FOCAL_PLANE_TEMPERATURE = 7.3599
INST_CMPRS_NAME = "DISCRETE COSINE TRANSFORMATION (DCT)"
INST_CMPRS_RATIO = 14.5217
INST_CMPRS_QUALITY = 0
INST_CMPRS_QUANTZ_TBL_ID = 0
INSTRUMENT_TEMPERATURE = 11.234
LENS_TEMPERATURE = 7.7677
MACROPIXEL_SIZE = 4
MISSING_FRAMES = 0
PIXEL_SUBSAMPLING_FLAG = N
SIGNAL_CHAIN_ID = 2
/* RADIOMETRIC DATA ELEMENTS */
BANDWIDTH = 81.0
CENTER_FILTER_WAVELENGTH = 955.5
RADIANCE_OFFSET = 0.623561
RADIANCE_SCALING_FACTOR = 0.00792882
REFLECTANCE_SCALING_FACTOR = 0.00105635
MEX:REFLECTANCE_OFFSET = 0.0830762
/* IMAGE OBJECT DEFINITIONS */
OBJECT = IMAGE
  INTERCHANGE_FORMAT = BINARY
  LINES = 7187
  LINE_SAMPLES = 2287
  SAMPLE_TYPE = UNSIGNED_INTEGER
  SAMPLE_BITS = 8
  BANDS = 1
  BAND_STORAGE_TYPE = BAND_SEQUENTIAL
  MAXIMUM = 255
  MEAN = 133.314
  MINIMUM = 1
  STANDARD_DEVIATION = 25.0638
END_OBJECT = IMAGE
/* MAP OBJECT DEFINITIONS */
OBJECT = IMAGE_MAP_PROJECTION
  ^DATA_SET_MAP_PROJECTION_CATALOG= "DSMAP.CAT"
  A_AXIS_RADIUS = 3396.0
  B_AXIS_RADIUS = 3396.0
  C_AXIS_RADIUS = 3396.0
  CENTER_LATITUDE = 0.0
  CENTER_LONGITUDE = 248.0
  COORDINATE_SYSTEM_NAME = PLANETOGRAPHIC
  COORDINATE_SYSTEM_TYPE = "BODY-FIXED ROTATING"
  EASTERNMOST_LONGITUDE = 250.705
  FIRST_STANDARD_PARALLEL = "N/A"
  LINE_FIRST_PIXEL = 1
  LINE_LAST_PIXEL = 7187
  LINE_PROJECTION_OFFSET = -9667.875
  MAP_PROJECTION_ROTATION = 0.0
  MAP_PROJECTION_TYPE = SINUSOIDAL
  MAP_RESOLUTION = 592.713803866667
  MAP_SCALE = 0.1
  MAXIMUM_LATITUDE = -16.2258
  MINIMUM_LATITUDE = -28.4509
  POSITIVE_LONGITUDE_DIRECTION = EAST
  REFERENCE_LATITUDE = "N/A"
  REFERENCE_LONGITUDE = "N/A"
  SAMPLE_FIRST_PIXEL = 1
  SAMPLE_LAST_PIXEL = 2287
  SAMPLE_PROJECTION_OFFSET = 959.125
  SECOND_STANDARD_PARALLEL = "N/A"
  WESTERNMOST_LONGITUDE = 246.067
END_OBJECT = IMAGE_MAP_PROJECTION
END
