PDS_VERSION_ID = PDS3
/* FILE DATA ELEMENTS */
RECORD_TYPE = UNDEFINED
/* POINTERS TO DATA OBJECTS */
^IMAGE = ("HC821_0000_S24.TIF")
/* IDENTIFICATION DATA ELEMENTS */
DATA_SET_ID = "MEX-M-HRSC-4-REFDR-MAPPROJECT-EXT4-V4.0"
DATA_SET_NAME = "MARS EXPRESS HRSC MAP PROJECTED REFDR EXTENSION4 V4.0"
DETECTOR_ID = MEX_HRSC_S2
EVENT_TYPE = "MARS-REGIONAL-MAPPING-Im-Pf"
INSTRUMENT_HOST_ID = MEX
INSTRUMENT_HOST_NAME = "MARS EXPRESS"
INSTRUMENT_ID = HRSC
INSTRUMENT_NAME = "HIGH RESOLUTION STEREO CAMERA"
MISSION_NAME = "MARS EXPRESS"
MISSION_PHASE_NAME = ME_Phase_30
PROCESSING_LEVEL_ID = 4
PRODUCT_CREATION_TIME = 2023-01-31T11:51:40.000Z
PRODUCT_ID = "HC821_0000_S24.TIF"
RELEASE_ID = 0003
REVISION_ID = 0000
/* QUALITY DATA ELEMENTS */
DATA_QUALITY_ID = 1
DATA_QUALITY_DESC = "Data calculated based on original SPICE kernels"
/* TIME DATA ELEMENTS */
SPACECRAFT_CLOCK_START_COUNT = "1/0339479774.09063"
SPACECRAFT_CLOCK_STOP_COUNT = "1/0339480125.49019"
START_TIME = 2014-02-03T03:56:18.962Z
STOP_TIME = 2014-02-03T04:00:11.782Z
/* ORBITAL DATA ELEMENTS */
ASCENDING_NODE_LONGITUDE = 333.07
MAXIMUM_RESOLUTION = 0.0353
FOOTPRINT_POINT_LATITUDE = (-48.2056,-48.1706,-48.1303,-48.0753, -48.0738,-48.0415,-47.4767,-46.7578, -46.0307,-45.4409,-45.1441,-44.8415, -44.3878,-44.0852,-43.6183,-43.3065, -42.9975,-42.6808,-42.363,-42.044, -41.7203,-41.3937,-41.0667,-40.7355, -40.4018,-40.0689,-39.7248,-39.3826, -39.0422,-38.5166,-38.1663,-37.8083, -37.4392,-37.0744,-36.7076,-36.3411, -35.9753,-35.6007,-35.2164,-34.8316, -34.4338,-34.0464,-33.6467,-33.2441, -32.8335,-32.2121,-31.7927,-31.15, -30.9334,-30.8922,-30.9253,-30.9842, -31.0318,-31.081,-31.0823,-31.0837, -31.5105,-31.9355,-32.3518,-32.9712, -33.3775,-33.7775,-34.1813,-34.5727, -34.9632,-35.5349,-35.9153,-36.2897, -36.8446,-37.2098,-37.5727,-37.9313, -38.2882,-38.6375,-38.9861,-39.3326, -39.6744,-40.0167,-40.3529,-40.8532, -41.1846,-41.51,-41.8353,-42.1581, -42.4761,-42.953,-43.4232,-43.7333, -44.0429,-44.3496,-44.6517,-44.9532, -45.2558,-45.8473,-46.5826,-47.1568, -47.5873,-48.0115,-48.1526,-48.2056)
FOOTPRINT_POINT_LONGITUDE = (349.172,348.513,347.842,347.03,347.008 ,346.947,346.98,347.017,347.052,347.078 ,347.089,347.1,347.116,347.126,347.138, 347.145,347.155,347.163,347.171,347.177 ,347.182,347.187,347.192,347.196,347.2, 347.205,347.204,347.206,347.209,347.211 ,347.211,347.21,347.201,347.199,347.196 ,347.195,347.199,347.195,347.19,347.184 ,347.173,347.17,347.163,347.154,347.144 ,347.129,347.118,347.099,347.092, 347.091,347.462,348.196,348.916,349.726 ,349.751,349.76,349.754,349.747,349.741 ,349.731,349.723,349.716,349.709, 349.701,349.693,349.68,349.672,349.663, 349.65,349.64,349.631,349.621,349.611, 349.601,349.59,349.58,349.569,349.557, 349.546,349.529,349.517,349.504,349.492 ,349.479,349.466,349.446,349.426, 349.412,349.398,349.383,349.368,349.353 ,349.338,349.307,349.266,349.232, 349.206,349.179,349.17,349.172)
ORBIT_NUMBER = 12821
ORBITAL_ECCENTRICITY = 0.577
ORBITAL_INCLINATION = 86.9
ORBITAL_SEMIMAJOR_AXIS = 8762.23
PERIAPSIS_ALTITUDE = 329.0
PERIAPSIS_ARGUMENT_ANGLE = 287.22
PERIAPSIS_TIME = 2014-02-03T03:50:19.000Z
SPACECRAFT_ORIENTATION = (0.0,1.0,0.0)
^MEX_ORIENTATION_DESC = "MEX_ORIENTATION_DESC.TXT"
SPACECRAFT_POINTING_MODE = INERT
^MEX_POINTING_DESC = "MEX_POINTING_DESC.TXT"
RIGHT_ASCENSION = 288.55
DECLINATION = 60.369
OFFSET_ANGLE = -1e+32
SPACECRAFT_SOLAR_DISTANCE = 2.48519e+08
TARGET_NAME = MARS
/* CAMERA DATA ELEMENTS */
DETECTOR_TEMPERATURE = 18.7783
FOCAL_PLANE_TEMPERATURE = 7.9716
INST_CMPRS_NAME = "DISCRETE COSINE TRANSFORMATION (DCT)"
INST_CMPRS_RATIO = 6.40645
INST_CMPRS_QUALITY = 0
INST_CMPRS_QUANTZ_TBL_ID = 0
INSTRUMENT_TEMPERATURE = 11.234
LENS_TEMPERATURE = 8.3794
MACROPIXEL_SIZE = 2
MISSING_FRAMES = 0
PIXEL_SUBSAMPLING_FLAG = N
SIGNAL_CHAIN_ID = 1
/* RADIOMETRIC DATA ELEMENTS */
BANDWIDTH = 178.0
CENTER_FILTER_WAVELENGTH = 679.0
RADIANCE_OFFSET = 0.153598
RADIANCE_SCALING_FACTOR = 0.0183112
REFLECTANCE_SCALING_FACTOR = 0.000598916
MEX:REFLECTANCE_OFFSET = 0.0050238
/* IMAGE OBJECT DEFINITIONS */
OBJECT = IMAGE
  INTERCHANGE_FORMAT = BINARY
  LINES = 40723
  LINE_SAMPLES = 5699
  SAMPLE_TYPE = UNSIGNED_INTEGER
  SAMPLE_BITS = 8
  BANDS = 1
  BAND_STORAGE_TYPE = BAND_SEQUENTIAL
  MAXIMUM = 255
  MEAN = 120.431
  MINIMUM = 1
  STANDARD_DEVIATION = 25.1017
END_OBJECT = IMAGE
/* MAP OBJECT DEFINITIONS */
OBJECT = IMAGE_MAP_PROJECTION
  ^DATA_SET_MAP_PROJECTION_CATALOG= "DSMAP.CAT"
  A_AXIS_RADIUS = 3396.0
  B_AXIS_RADIUS = 3396.0
  C_AXIS_RADIUS = 3396.0
  CENTER_LATITUDE = 0.0
  CENTER_LONGITUDE = 348.0
  COORDINATE_SYSTEM_NAME = PLANETOGRAPHIC
  COORDINATE_SYSTEM_TYPE = "BODY-FIXED ROTATING"
  EASTERNMOST_LONGITUDE = 349.76
  FIRST_STANDARD_PARALLEL = "N/A"
  LINE_FIRST_PIXEL = 1
  LINE_LAST_PIXEL = 40723
  LINE_PROJECTION_OFFSET = -73393.75
  MAP_PROJECTION_ROTATION = 0.0
  MAP_PROJECTION_TYPE = SINUSOIDAL
  MAP_RESOLUTION = 2370.85521546667
  MAP_SCALE = 0.025
  MAXIMUM_LATITUDE = -30.8922
  MINIMUM_LATITUDE = -48.2056
  POSITIVE_LONGITUDE_DIRECTION = EAST
  REFERENCE_LATITUDE = "N/A"
  REFERENCE_LONGITUDE = "N/A"
  SAMPLE_FIRST_PIXEL = 1
  SAMPLE_LAST_PIXEL = 5699
  SAMPLE_PROJECTION_OFFSET = 2116.25
  SECOND_STANDARD_PARALLEL = "N/A"
  WESTERNMOST_LONGITUDE = 346.947
END_OBJECT = IMAGE_MAP_PROJECTION
END
