PDS_VERSION_ID = PDS3
/* FILE DATA ELEMENTS */
RECORD_TYPE = UNDEFINED
/* POINTERS TO DATA OBJECTS */
^IMAGE = ("HC813_0000_S24.TIF")
/* IDENTIFICATION DATA ELEMENTS */
DATA_SET_ID = "MEX-M-HRSC-4-REFDR-MAPPROJECT-EXT4-V4.0"
DATA_SET_NAME = "MARS EXPRESS HRSC MAP PROJECTED REFDR EXTENSION4 V4.0"
DETECTOR_ID = MEX_HRSC_S2
EVENT_TYPE = "MARS-REGIONAL-MAPPING-Im-Fl"
INSTRUMENT_HOST_ID = MEX
INSTRUMENT_HOST_NAME = "MARS EXPRESS"
INSTRUMENT_ID = HRSC
INSTRUMENT_NAME = "HIGH RESOLUTION STEREO CAMERA"
MISSION_NAME = "MARS EXPRESS"
MISSION_PHASE_NAME = ME_Phase_30
PROCESSING_LEVEL_ID = 4
PRODUCT_CREATION_TIME = 2023-01-31T11:51:40.000Z
PRODUCT_ID = "HC813_0000_S24.TIF"
RELEASE_ID = 0003
REVISION_ID = 0000
/* QUALITY DATA ELEMENTS */
DATA_QUALITY_ID = 1
DATA_QUALITY_DESC = "Data calculated based on original SPICE kernels"
/* TIME DATA ELEMENTS */
SPACECRAFT_CLOCK_START_COUNT = "1/0339278493.07301"
SPACECRAFT_CLOCK_STOP_COUNT = "1/0339278772.08242"
START_TIME = 2014-01-31T20:01:37.941Z
STOP_TIME = 2014-01-31T20:04:37.661Z
/* ORBITAL DATA ELEMENTS */
ASCENDING_NODE_LONGITUDE = 333.22
MAXIMUM_RESOLUTION = 0.0331
FOOTPRINT_POINT_LATITUDE = (-50.3616,-50.3491,-50.3394,-50.3082, -50.3075,-50.2732,-49.5826,-49.2375, -48.7742,-48.3023,-48.0661,-47.8297, -47.5936,-47.3547,-47.1125,-46.8698, -46.5057,-46.1422,-45.769,-45.5202, -45.2714,-45.0222,-44.7701,-44.515, -44.2593,-44.0037,-43.7481,-43.488, -43.094,-42.8315,-42.5716,-42.3046, -41.9017,-41.6327,-41.3607,-41.0851, -40.8101,-40.5345,-40.2549,-39.9726, -39.5489,-39.2609,-38.9722,-38.6838, -38.3911,-38.0957,-37.7993,-37.5001, -37.3485,-37.2779,-37.292,-37.3075, -37.3149,-37.3194,-37.324,-37.3241, -37.3249,-37.6267,-37.9232,-38.3648, -38.6609,-38.951,-39.2398,-39.5292, -39.9527,-40.2352,-40.6557,-40.9302, -41.2055,-41.6178,-41.8875,-42.1564, -42.4238,-42.6899,-42.9537,-43.2141, -43.476,-43.8664,-44.1225,-44.3786, -44.634,-44.8896,-45.1401,-45.3897, -45.6388,-46.0121,-46.2597,-46.5022, -46.7452,-46.9881,-47.231,-47.5935, -48.0661,-48.4209,-48.6571,-49.0106, -49.4732,-50.1641,-50.2797,-50.3616)
FOOTPRINT_POINT_LONGITUDE = (87.5731,86.9355,86.5361,85.5347, 85.5146,85.4546,85.5048,85.5293,85.5618 ,85.5933,85.6084,85.6229,85.6376,85.652 ,85.6663,85.6798,85.6996,85.7194, 85.7377,85.7501,85.7622,85.7737,85.7849 ,85.7962,85.8068,85.8173,85.8276,85.838 ,85.8519,85.861,85.8716,85.8813,85.8941 ,85.902,85.91,85.9174,85.9249,85.932, 85.9392,85.9456,85.9548,85.9603,85.966, 85.9717,85.9767,85.9816,85.9859,85.9899 ,85.9918,85.9927,86.4449,87.0316, 87.4145,87.752,88.2915,88.3139,88.322, 88.31,88.298,88.2804,88.2673,88.2546, 88.2423,88.2294,88.2108,88.198,88.1786, 88.1664,88.1536,88.1336,88.1203,88.1072 ,88.0946,88.0816,88.0676,88.0552, 88.0417,88.021,88.0072,87.9931,87.9792, 87.9649,87.9508,87.9364,87.922,87.9003, 87.8851,87.8707,87.8557,87.8404,87.8251 ,87.8014,87.7708,87.7469,87.7308, 87.7061,87.6711,87.6193,87.6099, 87.5731)
ORBIT_NUMBER = 12813
ORBITAL_ECCENTRICITY = 0.577
ORBITAL_INCLINATION = 86.9
ORBITAL_SEMIMAJOR_AXIS = 8765.46
PERIAPSIS_ALTITUDE = 328.04
PERIAPSIS_ARGUMENT_ANGLE = 288.58
PERIAPSIS_TIME = 2014-01-31T19:56:26.000Z
SPACECRAFT_ORIENTATION = (0.0,1.0,0.0)
^MEX_ORIENTATION_DESC = "MEX_ORIENTATION_DESC.TXT"
SPACECRAFT_POINTING_MODE = INERT
^MEX_POINTING_DESC = "MEX_POINTING_DESC.TXT"
RIGHT_ASCENSION = 285.737
DECLINATION = 60.337
OFFSET_ANGLE = -1e+32
SPACECRAFT_SOLAR_DISTANCE = 2.48622e+08
TARGET_NAME = MARS
/* CAMERA DATA ELEMENTS */
DETECTOR_TEMPERATURE = 18.9822
FOCAL_PLANE_TEMPERATURE = 8.1755
INST_CMPRS_NAME = "DISCRETE COSINE TRANSFORMATION (DCT)"
INST_CMPRS_RATIO = 7.4191
INST_CMPRS_QUALITY = 0
INST_CMPRS_QUANTZ_TBL_ID = 0
INSTRUMENT_TEMPERATURE = 11.6418
LENS_TEMPERATURE = 8.5833
MACROPIXEL_SIZE = 2
MISSING_FRAMES = 0
PIXEL_SUBSAMPLING_FLAG = N
SIGNAL_CHAIN_ID = 1
/* RADIOMETRIC DATA ELEMENTS */
BANDWIDTH = 178.0
CENTER_FILTER_WAVELENGTH = 679.0
RADIANCE_OFFSET = 0.698461
RADIANCE_SCALING_FACTOR = 0.0132535
REFLECTANCE_SCALING_FACTOR = 0.000433851
MEX:REFLECTANCE_OFFSET = 0.022864
/* IMAGE OBJECT DEFINITIONS */
OBJECT = IMAGE
  INTERCHANGE_FORMAT = BINARY
  LINES = 30922
  LINE_SAMPLES = 5176
  SAMPLE_TYPE = UNSIGNED_INTEGER
  SAMPLE_BITS = 8
  BANDS = 1
  BAND_STORAGE_TYPE = BAND_SEQUENTIAL
  MAXIMUM = 255
  MEAN = 144.539
  MINIMUM = 1
  STANDARD_DEVIATION = 20.121
END_OBJECT = IMAGE
/* MAP OBJECT DEFINITIONS */
OBJECT = IMAGE_MAP_PROJECTION
  ^DATA_SET_MAP_PROJECTION_CATALOG= "DSMAP.CAT"
  A_AXIS_RADIUS = 3396.0
  B_AXIS_RADIUS = 3396.0
  C_AXIS_RADIUS = 3396.0
  CENTER_LATITUDE = 0.0
  CENTER_LONGITUDE = 87.0
  COORDINATE_SYSTEM_NAME = PLANETOGRAPHIC
  COORDINATE_SYSTEM_TYPE = "BODY-FIXED ROTATING"
  EASTERNMOST_LONGITUDE = 88.322
  FIRST_STANDARD_PARALLEL = "N/A"
  LINE_FIRST_PIXEL = 1
  LINE_LAST_PIXEL = 30922
  LINE_PROJECTION_OFFSET = -88412.25
  MAP_PROJECTION_ROTATION = 0.0
  MAP_PROJECTION_TYPE = SINUSOIDAL
  MAP_RESOLUTION = 2370.85521546667
  MAP_SCALE = 0.025
  MAXIMUM_LATITUDE = -37.2779
  MINIMUM_LATITUDE = -50.3616
  POSITIVE_LONGITUDE_DIRECTION = EAST
  REFERENCE_LATITUDE = "N/A"
  REFERENCE_LONGITUDE = "N/A"
  SAMPLE_FIRST_PIXEL = 1
  SAMPLE_LAST_PIXEL = 5176
  SAMPLE_PROJECTION_OFFSET = 2474.25
  SECOND_STANDARD_PARALLEL = "N/A"
  WESTERNMOST_LONGITUDE = 85.4546
END_OBJECT = IMAGE_MAP_PROJECTION
END
