PDS_VERSION_ID = PDS3
/* FILE DATA ELEMENTS */
RECORD_TYPE = UNDEFINED
/* POINTERS TO DATA OBJECTS */
^IMAGE = ("HC813_0000_S14.TIF")
/* IDENTIFICATION DATA ELEMENTS */
DATA_SET_ID = "MEX-M-HRSC-4-REFDR-MAPPROJECT-EXT4-V4.0"
DATA_SET_NAME = "MARS EXPRESS HRSC MAP PROJECTED REFDR EXTENSION4 V4.0"
DETECTOR_ID = MEX_HRSC_S1
EVENT_TYPE = "MARS-REGIONAL-MAPPING-Im-Fl"
INSTRUMENT_HOST_ID = MEX
INSTRUMENT_HOST_NAME = "MARS EXPRESS"
INSTRUMENT_ID = HRSC
INSTRUMENT_NAME = "HIGH RESOLUTION STEREO CAMERA"
MISSION_NAME = "MARS EXPRESS"
MISSION_PHASE_NAME = ME_Phase_30
PROCESSING_LEVEL_ID = 4
PRODUCT_CREATION_TIME = 2023-01-31T11:51:40.000Z
PRODUCT_ID = "HC813_0000_S14.TIF"
RELEASE_ID = 0003
REVISION_ID = 0000
/* QUALITY DATA ELEMENTS */
DATA_QUALITY_ID = 1
DATA_QUALITY_DESC = "Data calculated based on original SPICE kernels"
/* TIME DATA ELEMENTS */
SPACECRAFT_CLOCK_START_COUNT = "1/0339278493.07301"
SPACECRAFT_CLOCK_STOP_COUNT = "1/0339278772.08242"
START_TIME = 2014-01-31T20:02:54.763Z
STOP_TIME = 2014-01-31T20:06:14.870Z
/* ORBITAL DATA ELEMENTS */
ASCENDING_NODE_LONGITUDE = 333.22
MAXIMUM_RESOLUTION = 0.0419
FOOTPRINT_POINT_LATITUDE = (-50.1771,-50.1707,-50.1661,-50.1609, -50.1549,-50.1444,-50.1439,-50.3006, -49.8439,-49.3861,-48.7991,-48.3299, -47.8521,-47.494,-47.0091,-46.7666, -46.5234,-46.278,-46.0283,-45.7817, -45.5334,-45.2813,-45.0288,-44.7766, -44.3928,-44.1362,-43.8798,-43.6183, -43.3553,-43.0959,-42.6957,-42.4281, -42.1583,-41.8876,-41.618,-41.3429, -41.0682,-40.7917,-40.5122,-40.0899, -39.6647,-39.3787,-39.09,-38.8005, -38.506,-38.0637,-37.7661,-37.4661, -37.3151,-37.3071,-37.3127,-37.3164, -37.3184,-37.3215,-37.3232,-37.324, -37.324,-37.3248,-37.6283,-37.9283, -38.2272,-38.6661,-38.9585,-39.2473, -39.5372,-39.8217,-40.2478,-40.6668, -40.9464,-41.222,-41.497,-41.7681, -42.042,-42.3107,-42.577,-42.8441, -43.1101,-43.3739,-43.6368,-43.8984, -44.155,-44.4117,-44.7968,-45.0495, -45.3009,-45.5548,-45.8027,-46.1736, -46.4226,-46.6661,-46.9098,-47.1535, -47.3966,-47.8758,-48.3538,-49.0561, -49.7451,-50.2065,-50.3219,-50.1771)
FOOTPRINT_POINT_LONGITUDE = (87.9573,87.2015,86.7976,86.3935, 85.9888,85.3795,85.3541,85.2711,85.3071 ,85.3423,85.3869,85.4206,85.4532, 85.4765,85.5075,85.5217,85.5361,85.5501 ,85.5649,85.5778,85.5913,85.6044, 85.6171,85.6295,85.6478,85.6594,85.6707 ,85.6821,85.6938,85.7035,85.7197, 85.7305,85.7409,85.7504,85.7592,85.7682 ,85.7767,85.7851,85.7931,85.8054, 85.8158,85.8226,85.8292,85.8354,85.8421 ,85.8506,85.8559,85.8607,85.8631, 85.8632,86.3569,86.7464,87.0573,87.5755 ,88.0931,88.5073,88.5332,88.5425, 88.5338,88.5255,88.5166,88.5022,88.4928 ,88.4836,88.4745,88.4653,88.451,88.4365 ,88.427,88.4175,88.4076,88.3971,88.3884 ,88.3775,88.3675,88.3576,88.3472, 88.3377,88.3277,88.3171,88.3064,88.2956 ,88.2795,88.2687,88.2573,88.2464, 88.2352,88.2177,88.2063,88.1948,88.1831 ,88.1711,88.1591,88.1352,88.1102, 88.0717,88.0303,88.0034,87.9966, 87.9573)
ORBIT_NUMBER = 12813
ORBITAL_ECCENTRICITY = 0.577
ORBITAL_INCLINATION = 86.9
ORBITAL_SEMIMAJOR_AXIS = 8765.46
PERIAPSIS_ALTITUDE = 328.04
PERIAPSIS_ARGUMENT_ANGLE = 288.58
PERIAPSIS_TIME = 2014-01-31T19:56:26.000Z
SPACECRAFT_ORIENTATION = (0.0,1.0,0.0)
^MEX_ORIENTATION_DESC = "MEX_ORIENTATION_DESC.TXT"
SPACECRAFT_POINTING_MODE = INERT
^MEX_POINTING_DESC = "MEX_POINTING_DESC.TXT"
RIGHT_ASCENSION = 285.737
DECLINATION = 60.337
OFFSET_ANGLE = -1e+32
SPACECRAFT_SOLAR_DISTANCE = 2.48622e+08
TARGET_NAME = MARS
/* CAMERA DATA ELEMENTS */
DETECTOR_TEMPERATURE = 17.5549
FOCAL_PLANE_TEMPERATURE = 8.1755
INST_CMPRS_NAME = "DISCRETE COSINE TRANSFORMATION (DCT)"
INST_CMPRS_RATIO = 8.18931
INST_CMPRS_QUALITY = 0
INST_CMPRS_QUANTZ_TBL_ID = 0
INSTRUMENT_TEMPERATURE = 11.6418
LENS_TEMPERATURE = 8.5833
MACROPIXEL_SIZE = 2
MISSING_FRAMES = 0
PIXEL_SUBSAMPLING_FLAG = N
SIGNAL_CHAIN_ID = 1
/* RADIOMETRIC DATA ELEMENTS */
BANDWIDTH = 180.0
CENTER_FILTER_WAVELENGTH = 677.0
RADIANCE_OFFSET = 0.962152
RADIANCE_SCALING_FACTOR = 0.0129488
REFLECTANCE_SCALING_FACTOR = 0.00041759
MEX:REFLECTANCE_OFFSET = 0.0310289
/* IMAGE OBJECT DEFINITIONS */
OBJECT = IMAGE
  INTERCHANGE_FORMAT = BINARY
  LINES = 30922
  LINE_SAMPLES = 5176
  SAMPLE_TYPE = UNSIGNED_INTEGER
  SAMPLE_BITS = 8
  BANDS = 1
  BAND_STORAGE_TYPE = BAND_SEQUENTIAL
  MAXIMUM = 255
  MEAN = 153.29
  MINIMUM = 1
  STANDARD_DEVIATION = 20.7824
END_OBJECT = IMAGE
/* MAP OBJECT DEFINITIONS */
OBJECT = IMAGE_MAP_PROJECTION
  ^DATA_SET_MAP_PROJECTION_CATALOG= "DSMAP.CAT"
  A_AXIS_RADIUS = 3396.0
  B_AXIS_RADIUS = 3396.0
  C_AXIS_RADIUS = 3396.0
  CENTER_LATITUDE = 0.0
  CENTER_LONGITUDE = 87.0
  COORDINATE_SYSTEM_NAME = PLANETOGRAPHIC
  COORDINATE_SYSTEM_TYPE = "BODY-FIXED ROTATING"
  EASTERNMOST_LONGITUDE = 88.5425
  FIRST_STANDARD_PARALLEL = "N/A"
  LINE_FIRST_PIXEL = 1
  LINE_LAST_PIXEL = 30922
  LINE_PROJECTION_OFFSET = -88412.25
  MAP_PROJECTION_ROTATION = 0.0
  MAP_PROJECTION_TYPE = SINUSOIDAL
  MAP_RESOLUTION = 2370.85521546667
  MAP_SCALE = 0.025
  MAXIMUM_LATITUDE = -37.3071
  MINIMUM_LATITUDE = -50.3219
  POSITIVE_LONGITUDE_DIRECTION = EAST
  REFERENCE_LATITUDE = "N/A"
  REFERENCE_LONGITUDE = "N/A"
  SAMPLE_FIRST_PIXEL = 1
  SAMPLE_LAST_PIXEL = 5176
  SAMPLE_PROJECTION_OFFSET = 2474.25
  SECOND_STANDARD_PARALLEL = "N/A"
  WESTERNMOST_LONGITUDE = 85.2711
END_OBJECT = IMAGE_MAP_PROJECTION
END
