PDS_VERSION_ID = PDS3
/* FILE DATA ELEMENTS */
RECORD_TYPE = UNDEFINED
/* POINTERS TO DATA OBJECTS */
^IMAGE = ("HC800_0000_BL4.TIF")
/* IDENTIFICATION DATA ELEMENTS */
DATA_SET_ID = "MEX-M-HRSC-4-REFDR-MAPPROJECT-EXT4-V4.0"
DATA_SET_NAME = "MARS EXPRESS HRSC MAP PROJECTED REFDR EXTENSION4 V4.0"
DETECTOR_ID = MEX_HRSC_BLUE
EVENT_TYPE = "MARS-CLOUD-VARIABLE-At"
INSTRUMENT_HOST_ID = MEX
INSTRUMENT_HOST_NAME = "MARS EXPRESS"
INSTRUMENT_ID = HRSC
INSTRUMENT_NAME = "HIGH RESOLUTION STEREO CAMERA"
MISSION_NAME = "MARS EXPRESS"
MISSION_PHASE_NAME = ME_Phase_30
PROCESSING_LEVEL_ID = 4
PRODUCT_CREATION_TIME = 2023-01-31T11:51:40.000Z
PRODUCT_ID = "HC800_0000_BL4.TIF"
RELEASE_ID = 0003
REVISION_ID = 0000
/* QUALITY DATA ELEMENTS */
DATA_QUALITY_ID = 1
DATA_QUALITY_DESC = "Data calculated based on original SPICE kernels"
/* TIME DATA ELEMENTS */
SPACECRAFT_CLOCK_START_COUNT = "1/0338951890.09055"
SPACECRAFT_CLOCK_STOP_COUNT = "1/0338953131.31965"
START_TIME = 2014-01-28T01:19:08.065Z
STOP_TIME = 2014-01-28T01:36:03.631Z
/* ORBITAL DATA ELEMENTS */
ASCENDING_NODE_LONGITUDE = 333.46
MAXIMUM_RESOLUTION = 0.127
FOOTPRINT_POINT_LATITUDE = (-21.9352,-21.9574,-21.9677,-21.9721, -21.9721,-21.9663,-20.3724,-19.3235, -18.2857,-17.2608,-16.2455,-15.2415, -14.2502,-13.2688,-12.2986,-11.3393, -10.3913,-9.45397,-8.52701,-7.61109, -6.70389,-5.80912,-4.92418,-4.05084, -3.18699,-2.33388,-1.49216,-0.657649, 0.165115,0.979122,1.78341,2.57994, 3.36561,4.1432,4.90787,5.66658,6.41605, 7.15689,7.88963,9.32871,10.7344,12.1081 ,13.4518,14.7636,16.0455,17.2997, 18.5261,18.8285,18.8599,18.9495,19.0873 ,19.1789,19.2713,19.3732,19.4812, 19.4869,19.4877,18.2345,16.9557,15.6482 ,14.313,12.9481,11.5528,10.1273,8.67214 ,7.92894,7.17987,6.42036,5.65387, 4.87638,4.0935,3.30131,2.50013,1.68754, 0.865355,0.0367804,-0.803554,-1.65297, -2.51136,-3.38168,-4.26074,-5.1497, -6.0477,-6.95707,-7.87654,-8.80624, -9.74584,-10.6968,-11.658,-12.6309, -13.6139,-14.6089,-15.6144,-16.6306, -17.6573,-18.6953,-19.7433,-21.3368, -21.8739,-21.9352)
FOOTPRINT_POINT_LONGITUDE = (337.218,336.032,335.123,334.295, 334.267,334.252,334.175,334.12,334.062, 334.005,333.943,333.879,333.815,333.747 ,333.677,333.605,333.532,333.457, 333.379,333.3,333.215,333.133,333.047, 332.962,332.875,332.787,332.7,332.606, 332.514,332.42,332.324,332.223,332.124, 332.022,331.925,331.822,331.717,331.611 ,331.503,331.285,331.062,330.834, 330.599,330.362,330.121,329.874,329.622 ,329.558,329.552,330.552,332.171, 333.324,334.555,336.021,337.728,337.808 ,337.834,337.791,337.753,337.716, 337.682,337.65,337.62,337.594,337.572, 337.557,337.547,337.533,337.523,337.509 ,337.501,337.492,337.484,337.473, 337.462,337.455,337.445,337.436,337.428 ,337.417,337.409,337.4,337.393,337.384, 337.376,337.368,337.361,337.352,337.344 ,337.334,337.324,337.313,337.302,337.29 ,337.279,337.267,337.256,337.236, 337.228,337.218)
ORBIT_NUMBER = 12800
ORBITAL_ECCENTRICITY = 0.577
ORBITAL_INCLINATION = 86.9
ORBITAL_SEMIMAJOR_AXIS = 8765.02
PERIAPSIS_ALTITUDE = 328.98
PERIAPSIS_ARGUMENT_ANGLE = 290.78
PERIAPSIS_TIME = 2014-01-28T01:06:24.000Z
SPACECRAFT_ORIENTATION = (0.0,1.0,0.0)
^MEX_ORIENTATION_DESC = "MEX_ORIENTATION_DESC.TXT"
SPACECRAFT_POINTING_MODE = NADIR
^MEX_POINTING_DESC = "MEX_POINTING_DESC.TXT"
RIGHT_ASCENSION = -1e+32
DECLINATION = -1e+32
OFFSET_ANGLE = -1e+32
SPACECRAFT_SOLAR_DISTANCE = 2.48773e+08
TARGET_NAME = MARS
/* CAMERA DATA ELEMENTS */
DETECTOR_TEMPERATURE = 18.7783
FOCAL_PLANE_TEMPERATURE = 9.195
INST_CMPRS_NAME = "DISCRETE COSINE TRANSFORMATION (DCT)"
INST_CMPRS_RATIO = 24.8437
INST_CMPRS_QUALITY = 0
INST_CMPRS_QUANTZ_TBL_ID = 0
INSTRUMENT_TEMPERATURE = 12.2535
LENS_TEMPERATURE = 9.3989
MACROPIXEL_SIZE = 4
MISSING_FRAMES = 0
PIXEL_SUBSAMPLING_FLAG = N
SIGNAL_CHAIN_ID = 2
/* RADIOMETRIC DATA ELEMENTS */
BANDWIDTH = 76.0
CENTER_FILTER_WAVELENGTH = 444.0
RADIANCE_OFFSET = 0.299605
RADIANCE_SCALING_FACTOR = 0.00346882
REFLECTANCE_SCALING_FACTOR = 0.000220569
MEX:REFLECTANCE_OFFSET = 0.0190508
/* IMAGE OBJECT DEFINITIONS */
OBJECT = IMAGE
  INTERCHANGE_FORMAT = BINARY
  LINES = 24572
  LINE_SAMPLES = 4639
  SAMPLE_TYPE = UNSIGNED_INTEGER
  SAMPLE_BITS = 8
  BANDS = 1
  BAND_STORAGE_TYPE = BAND_SEQUENTIAL
  MAXIMUM = 255
  MEAN = 154.01
  MINIMUM = 1
  STANDARD_DEVIATION = 53.0061
END_OBJECT = IMAGE
/* MAP OBJECT DEFINITIONS */
OBJECT = IMAGE_MAP_PROJECTION
  ^DATA_SET_MAP_PROJECTION_CATALOG= "DSMAP.CAT"
  A_AXIS_RADIUS = 3396.0
  B_AXIS_RADIUS = 3396.0
  C_AXIS_RADIUS = 3396.0
  CENTER_LATITUDE = 0.0
  CENTER_LONGITUDE = 335.0
  COORDINATE_SYSTEM_NAME = PLANETOGRAPHIC
  COORDINATE_SYSTEM_TYPE = "BODY-FIXED ROTATING"
  EASTERNMOST_LONGITUDE = 337.834
  FIRST_STANDARD_PARALLEL = "N/A"
  LINE_FIRST_PIXEL = 1
  LINE_LAST_PIXEL = 24572
  LINE_PROJECTION_OFFSET = 11550.0
  MAP_PROJECTION_ROTATION = 0.0
  MAP_PROJECTION_TYPE = SINUSOIDAL
  MAP_RESOLUTION = 592.713803866667
  MAP_SCALE = 0.1
  MAXIMUM_LATITUDE = 19.4877
  MINIMUM_LATITUDE = -21.9721
  POSITIVE_LONGITUDE_DIRECTION = EAST
  REFERENCE_LATITUDE = "N/A"
  REFERENCE_LONGITUDE = "N/A"
  SAMPLE_FIRST_PIXEL = 1
  SAMPLE_LAST_PIXEL = 4639
  SAMPLE_PROJECTION_OFFSET = 3055.0
  SECOND_STANDARD_PARALLEL = "N/A"
  WESTERNMOST_LONGITUDE = 329.552
END_OBJECT = IMAGE_MAP_PROJECTION
END
