PDS_VERSION_ID = PDS3
/* FILE DATA ELEMENTS */
RECORD_TYPE = UNDEFINED
/* POINTERS TO DATA OBJECTS */
^IMAGE = ("HC799_0000_P24.TIF")
/* IDENTIFICATION DATA ELEMENTS */
DATA_SET_ID = "MEX-M-HRSC-4-REFDR-MAPPROJECT-EXT4-V4.0"
DATA_SET_NAME = "MARS EXPRESS HRSC MAP PROJECTED REFDR EXTENSION4 V4.0"
DETECTOR_ID = MEX_HRSC_P2
EVENT_TYPE = "MARS-REGIONAL-MAPPING-Im-Fl-Gl"
INSTRUMENT_HOST_ID = MEX
INSTRUMENT_HOST_NAME = "MARS EXPRESS"
INSTRUMENT_ID = HRSC
INSTRUMENT_NAME = "HIGH RESOLUTION STEREO CAMERA"
MISSION_NAME = "MARS EXPRESS"
MISSION_PHASE_NAME = ME_Phase_30
PROCESSING_LEVEL_ID = 4
PRODUCT_CREATION_TIME = 2023-01-31T11:51:40.000Z
PRODUCT_ID = "HC799_0000_P24.TIF"
RELEASE_ID = 0003
REVISION_ID = 0000
/* QUALITY DATA ELEMENTS */
DATA_QUALITY_ID = 1
DATA_QUALITY_DESC = "Data calculated based on original SPICE kernels"
/* TIME DATA ELEMENTS */
SPACECRAFT_CLOCK_START_COUNT = "1/0338926321.07304"
SPACECRAFT_CLOCK_STOP_COUNT = "1/0338926588.32911"
START_TIME = 2014-01-27T18:12:16.407Z
STOP_TIME = 2014-01-27T18:15:13.312Z
/* ORBITAL DATA ELEMENTS */
ASCENDING_NODE_LONGITUDE = 333.48
MAXIMUM_RESOLUTION = 0.0328
FOOTPRINT_POINT_LATITUDE = (-48.8107,-48.7939,-48.773,-48.7428, -48.7419,-48.7194,-48.3843,-48.0489, -47.7138,-47.0256,-46.5662,-46.2217, -45.8694,-45.5157,-45.2795,-45.0429, -44.6814,-44.4406,-44.1981,-43.9551, -43.5897,-43.3432,-43.0953,-42.7219, -42.3455,-42.0921,-41.7088,-41.4534, -41.0632,-40.8033,-40.5412,-40.2781, -40.0101,-39.7426,-39.4754,-39.205, -38.9311,-38.6566,-38.3825,-38.1029, -37.6811,-37.3999,-37.1127,-36.8252, -36.5378,-36.2444,-36.0974,-36.0505, -36.0708,-36.0833,-36.0943,-36.1039, -36.1117,-36.1179,-36.1183,-36.1192, -36.4133,-36.7043,-36.992,-37.2799, -37.5652,-37.847,-38.1274,-38.4077, -38.6817,-39.0928,-39.5021,-39.7692, -40.0367,-40.4369,-40.6985,-40.9597, -41.3518,-41.6091,-41.864,-42.1189, -42.3744,-42.6275,-42.8767,-43.1257, -43.3739,-43.7455,-43.9871,-44.2298, -44.4723,-44.7142,-45.0753,-45.3116, -45.5474,-45.7835,-46.0195,-46.2555, -46.4869,-46.9463,-47.5209,-47.9746, -48.3102,-48.6459,-48.7577,-48.8107)
FOOTPRINT_POINT_LONGITUDE = (77.3791,76.7507,76.1128,75.3415,75.321 ,75.2159,75.2394,75.2613,75.2839, 75.3258,75.3513,75.3713,75.3929,75.4098 ,75.4199,75.4289,75.4406,75.4533, 75.4621,75.4696,75.4823,75.4943,75.5035 ,75.5139,75.5247,75.5339,75.5419, 75.5474,75.5555,75.5626,75.5665,75.5702 ,75.5741,75.5784,75.583,75.586,75.5894, 75.5919,75.5946,75.5965,75.5984,75.5995 ,75.6005,75.6009,75.6013,75.6009, 75.6007,75.6007,76.1062,76.47,76.8312, 77.1898,77.5454,77.8989,77.921,77.9289, 77.9213,77.9137,77.9059,77.898,77.89, 77.8818,77.8735,77.8651,77.8566,77.8435 ,77.8301,77.821,77.8118,77.7976,77.7881 ,77.7784,77.7635,77.7534,77.7432, 77.7329,77.7223,77.7116,77.7009,77.69, 77.6788,77.6617,77.6503,77.6387,77.6269 ,77.6148,77.5965,77.5842,77.5717,77.559 ,77.546,77.5328,77.5197,77.4927,77.4578 ,77.4291,77.4072,77.3848,77.3772, 77.3791)
ORBIT_NUMBER = 12799
ORBITAL_ECCENTRICITY = 0.577
ORBITAL_INCLINATION = 86.9
ORBITAL_SEMIMAJOR_AXIS = 8767.88
PERIAPSIS_ALTITUDE = 328.21
PERIAPSIS_ARGUMENT_ANGLE = 290.95
PERIAPSIS_TIME = 2014-01-27T18:07:12.000Z
SPACECRAFT_ORIENTATION = (0.0,1.0,0.0)
^MEX_ORIENTATION_DESC = "MEX_ORIENTATION_DESC.TXT"
SPACECRAFT_POINTING_MODE = INERT
^MEX_POINTING_DESC = "MEX_POINTING_DESC.TXT"
RIGHT_ASCENSION = 281.061
DECLINATION = 60.132
OFFSET_ANGLE = -1e+32
SPACECRAFT_SOLAR_DISTANCE = 2.48784e+08
TARGET_NAME = MARS
/* CAMERA DATA ELEMENTS */
DETECTOR_TEMPERATURE = 18.1666
FOCAL_PLANE_TEMPERATURE = 7.7677
INST_CMPRS_NAME = "DISCRETE COSINE TRANSFORMATION (DCT)"
INST_CMPRS_RATIO = 7.89332
INST_CMPRS_QUALITY = 0
INST_CMPRS_QUANTZ_TBL_ID = 0
INSTRUMENT_TEMPERATURE = 11.234
LENS_TEMPERATURE = 8.3794
MACROPIXEL_SIZE = 2
MISSING_FRAMES = 0
PIXEL_SUBSAMPLING_FLAG = N
SIGNAL_CHAIN_ID = 3
/* RADIOMETRIC DATA ELEMENTS */
BANDWIDTH = 177.0
CENTER_FILTER_WAVELENGTH = 676.5
RADIANCE_OFFSET = 1.26937
RADIANCE_SCALING_FACTOR = 0.0120576
REFLECTANCE_SCALING_FACTOR = 0.000395698
MEX:REFLECTANCE_OFFSET = 0.0416572
/* IMAGE OBJECT DEFINITIONS */
OBJECT = IMAGE
  INTERCHANGE_FORMAT = BINARY
  LINES = 30105
  LINE_SAMPLES = 4795
  SAMPLE_TYPE = UNSIGNED_INTEGER
  SAMPLE_BITS = 8
  BANDS = 1
  BAND_STORAGE_TYPE = BAND_SEQUENTIAL
  MAXIMUM = 255
  MEAN = 137.17
  MINIMUM = 1
  STANDARD_DEVIATION = 29.5836
END_OBJECT = IMAGE
/* MAP OBJECT DEFINITIONS */
OBJECT = IMAGE_MAP_PROJECTION
  ^DATA_SET_MAP_PROJECTION_CATALOG= "DSMAP.CAT"
  A_AXIS_RADIUS = 3396.0
  B_AXIS_RADIUS = 3396.0
  C_AXIS_RADIUS = 3396.0
  CENTER_LATITUDE = 0.0
  CENTER_LONGITUDE = 77.0
  COORDINATE_SYSTEM_NAME = PLANETOGRAPHIC
  COORDINATE_SYSTEM_TYPE = "BODY-FIXED ROTATING"
  EASTERNMOST_LONGITUDE = 77.9289
  FIRST_STANDARD_PARALLEL = "N/A"
  LINE_FIRST_PIXEL = 1
  LINE_LAST_PIXEL = 30105
  LINE_PROJECTION_OFFSET = -85578.25
  MAP_PROJECTION_ROTATION = 0.0
  MAP_PROJECTION_TYPE = SINUSOIDAL
  MAP_RESOLUTION = 2370.85521546667
  MAP_SCALE = 0.025
  MAXIMUM_LATITUDE = -36.0505
  MINIMUM_LATITUDE = -48.8107
  POSITIVE_LONGITUDE_DIRECTION = EAST
  REFERENCE_LATITUDE = "N/A"
  REFERENCE_LONGITUDE = "N/A"
  SAMPLE_FIRST_PIXEL = 1
  SAMPLE_LAST_PIXEL = 4795
  SAMPLE_PROJECTION_OFFSET = 2894.25
  SECOND_STANDARD_PARALLEL = "N/A"
  WESTERNMOST_LONGITUDE = 75.2159
END_OBJECT = IMAGE_MAP_PROJECTION
END
