PDS_VERSION_ID = PDS3
/* FILE DATA ELEMENTS */
RECORD_TYPE = UNDEFINED
/* POINTERS TO DATA OBJECTS */
^IMAGE = ("HC785_0000_P24.TIF")
/* IDENTIFICATION DATA ELEMENTS */
DATA_SET_ID = "MEX-M-HRSC-4-REFDR-MAPPROJECT-EXT4-V4.0"
DATA_SET_NAME = "MARS EXPRESS HRSC MAP PROJECTED REFDR EXTENSION4 V4.0"
DETECTOR_ID = MEX_HRSC_P2
EVENT_TYPE = "MARS-REGIONAL-MAPPING-Fl-Gl-Pf"
INSTRUMENT_HOST_ID = MEX
INSTRUMENT_HOST_NAME = "MARS EXPRESS"
INSTRUMENT_ID = HRSC
INSTRUMENT_NAME = "HIGH RESOLUTION STEREO CAMERA"
MISSION_NAME = "MARS EXPRESS"
MISSION_PHASE_NAME = ME_Phase_30
PROCESSING_LEVEL_ID = 4
PRODUCT_CREATION_TIME = 2023-01-31T11:51:40.000Z
PRODUCT_ID = "HC785_0000_P24.TIF"
RELEASE_ID = 0003
REVISION_ID = 0000
/* QUALITY DATA ELEMENTS */
DATA_QUALITY_ID = 1
DATA_QUALITY_DESC = "Data calculated based on original SPICE kernels"
/* TIME DATA ELEMENTS */
SPACECRAFT_CLOCK_START_COUNT = "1/0338574136.08316"
SPACECRAFT_CLOCK_STOP_COUNT = "1/0338574380.03919"
START_TIME = 2014-01-23T16:22:30.833Z
STOP_TIME = 2014-01-23T16:25:11.992Z
/* ORBITAL DATA ELEMENTS */
ASCENDING_NODE_LONGITUDE = 333.74
MAXIMUM_RESOLUTION = 0.0626 <m/pixel>
FOOTPRINT_POINT_LATITUDE = (-49.0637,-49.0618,-49.0566,-49.0483, -49.048,-49.0251,-48.7071,-48.1754, -47.7503,-47.431,-47.1121,-46.7933, -46.3671,-46.1502,-45.9309,-45.6022, -45.383,-45.1637,-44.9472,-44.612, -44.2744,-43.937,-43.7122,-43.4864, -43.255,-42.9086,-42.677,-42.4466, -42.2151,-41.9777,-41.7401,-41.3836, -41.1458,-40.9055,-40.6623,-40.4181, -40.1739,-39.9301,-39.6809,-39.3084, -39.0542,-38.803,-38.5494,-38.2912, -37.9066,-37.6473,-37.5143,-37.4053, -37.4072,-37.4059,-37.4057,-37.4026, -37.3981,-37.3919,-37.3915,-37.3928, -37.7891,-38.0461,-38.3041,-38.5642, -38.8212,-39.071,-39.3217,-39.6974, -39.9493,-40.1939,-40.4361,-40.6829, -40.9268,-41.166,-41.5224,-41.7601, -41.999,-42.3529,-42.5854,-42.8176, -43.0481,-43.2796,-43.5102,-43.7373, -43.9616,-44.1867,-44.5245,-44.7497, -44.9715,-45.1909,-45.4105,-45.7394, -46.0688,-46.2888,-46.5032,-46.7168, -47.1429,-47.462,-47.7816,-48.207, -48.5273,-48.8469,-48.9535,-49.0637)
FOOTPRINT_POINT_LONGITUDE = (70.4084,69.6149,69.0247,68.4456, 68.4277,68.443,68.4641,68.4994,68.5266, 68.5468,68.5662,68.5851,68.6103,68.6229 ,68.6356,68.6541,68.6662,68.6782, 68.6887,68.7067,68.7241,68.741,68.752, 68.7632,68.7747,68.791,68.8018,68.8121, 68.8225,68.8334,68.8439,68.8593,68.8695 ,68.8796,68.8895,68.8996,68.9094, 68.9191,68.9289,68.9424,68.9531,68.9625 ,68.9711,68.9809,68.9945,69.0033, 69.0083,69.012,69.3889,69.8742,70.1802, 70.5733,70.8467,71.1868,71.2081,71.2152 ,71.1912,71.1772,71.1616,71.1429, 71.1281,71.1155,71.1015,71.0806,71.0619 ,71.0479,71.0377,71.0197,71.0062, 70.9943,70.9753,70.9625,70.9471,70.9242 ,70.9095,70.8955,70.8845,70.8714, 70.8576,70.8416,70.8313,70.8192,70.8004 ,70.7877,70.7742,70.7613,70.7479, 70.7289,70.7078,70.6924,70.6773,70.6635 ,70.6387,70.6217,70.6024,70.5789, 70.5555,70.5345,70.527,70.4084)
ORBIT_NUMBER = 12785
ORBITAL_ECCENTRICITY = 0.577
ORBITAL_INCLINATION = 86.9
ORBITAL_SEMIMAJOR_AXIS = 8770.71
PERIAPSIS_ALTITUDE = 328.66
PERIAPSIS_ARGUMENT_ANGLE = 293.33
PERIAPSIS_TIME = 2014-01-23T16:18:09.000Z
SPACECRAFT_ORIENTATION = (0.0,1.0,0.0)
^MEX_ORIENTATION_DESC = "MEX_ORIENTATION_DESC.TXT"
SPACECRAFT_POINTING_MODE = INERT
^MEX_POINTING_DESC = "MEX_POINTING_DESC.TXT"
RIGHT_ASCENSION = 276.223
DECLINATION = 59.727
OFFSET_ANGLE = -1e+32
SPACECRAFT_SOLAR_DISTANCE = 2.48922e+08
TARGET_NAME = MARS
/* CAMERA DATA ELEMENTS */
DETECTOR_TEMPERATURE = 18.5744 <degC>
FOCAL_PLANE_TEMPERATURE = 8.7872 <degC>
INST_CMPRS_NAME = "DISCRETE COSINE TRANSFORMATION (DCT)"
INST_CMPRS_RATIO = 7.99621
INST_CMPRS_QUALITY = 0
INST_CMPRS_QUANTZ_TBL_ID = 0
INSTRUMENT_TEMPERATURE = 11.234 <degC>
LENS_TEMPERATURE = 8.3794 <degC>
MACROPIXEL_SIZE = 4
MISSING_FRAMES = 0
PIXEL_SUBSAMPLING_FLAG = N
SIGNAL_CHAIN_ID = 3
/* RADIOMETRIC DATA ELEMENTS */
BANDWIDTH = 177.0 <nm>
CENTER_FILTER_WAVELENGTH = 676.5 <nm>
RADIANCE_OFFSET = 0.900297 <W*m**-2*sr**-1>
RADIANCE_SCALING_FACTOR = 0.0131808 <W*m**-2*sr**-1>
REFLECTANCE_SCALING_FACTOR = 0.000433036
MEX:REFLECTANCE_OFFSET = 0.0295779
/* IMAGE OBJECT DEFINITIONS */
OBJECT = IMAGE
  INTERCHANGE_FORMAT = BINARY
  LINES = 13866
  LINE_SAMPLES = 2392
  SAMPLE_TYPE = UNSIGNED_INTEGER
  SAMPLE_BITS = 8
  BANDS = 1
  BAND_STORAGE_TYPE = BAND_SEQUENTIAL
  MAXIMUM = 255
  MEAN = 121.946
  MINIMUM = 1
  STANDARD_DEVIATION = 40.2911
END_OBJECT = IMAGE
/* MAP OBJECT DEFINITIONS */
OBJECT = IMAGE_MAP_PROJECTION
  ^DATA_SET_MAP_PROJECTION_CATALOG= "DSMAP.CAT"
  A_AXIS_RADIUS = 3396.0 <km>
  B_AXIS_RADIUS = 3396.0 <km>
  C_AXIS_RADIUS = 3396.0 <km>
  CENTER_LATITUDE = 0.0
  CENTER_LONGITUDE = 70.0
  COORDINATE_SYSTEM_NAME = PLANETOGRAPHIC
  COORDINATE_SYSTEM_TYPE = "BODY-FIXED ROTATING"
  EASTERNMOST_LONGITUDE = 71.2152
  FIRST_STANDARD_PARALLEL = "N/A"
  LINE_FIRST_PIXEL = 1
  LINE_LAST_PIXEL = 13866
  LINE_PROJECTION_OFFSET = -44314.125
  MAP_PROJECTION_ROTATION = 0.0
  MAP_PROJECTION_TYPE = SINUSOIDAL
  MAP_RESOLUTION = 1185.42760773333 <pixel/degree>
  MAP_SCALE = 0.05 <km/pixel>
  MAXIMUM_LATITUDE = -37.3915
  MINIMUM_LATITUDE = -49.0637
  POSITIVE_LONGITUDE_DIRECTION = EAST
  REFERENCE_LATITUDE = "N/A"
  REFERENCE_LONGITUDE = "N/A"
  SAMPLE_FIRST_PIXEL = 1
  SAMPLE_LAST_PIXEL = 2392
  SAMPLE_PROJECTION_OFFSET = 1227.375
  SECOND_STANDARD_PARALLEL = "N/A"
  WESTERNMOST_LONGITUDE = 68.4277
END_OBJECT = IMAGE_MAP_PROJECTION
END
