PDS_VERSION_ID = PDS3
/* FILE DATA ELEMENTS */
RECORD_TYPE = UNDEFINED
/* POINTERS TO DATA OBJECTS */
^IMAGE = ("HC785_0000_P14.TIF")
/* IDENTIFICATION DATA ELEMENTS */
DATA_SET_ID = "MEX-M-HRSC-4-REFDR-MAPPROJECT-EXT4-V4.0"
DATA_SET_NAME = "MARS EXPRESS HRSC MAP PROJECTED REFDR EXTENSION4 V4.0"
DETECTOR_ID = MEX_HRSC_P1
EVENT_TYPE = "MARS-REGIONAL-MAPPING-Fl-Gl-Pf"
INSTRUMENT_HOST_ID = MEX
INSTRUMENT_HOST_NAME = "MARS EXPRESS"
INSTRUMENT_ID = HRSC
INSTRUMENT_NAME = "HIGH RESOLUTION STEREO CAMERA"
MISSION_NAME = "MARS EXPRESS"
MISSION_PHASE_NAME = ME_Phase_30
PROCESSING_LEVEL_ID = 4
PRODUCT_CREATION_TIME = 2023-01-31T11:51:40.000Z
PRODUCT_ID = "HC785_0000_P14.TIF"
RELEASE_ID = 0003
REVISION_ID = 0000
/* QUALITY DATA ELEMENTS */
DATA_QUALITY_ID = 1
DATA_QUALITY_DESC = "Data calculated based on original SPICE kernels"
/* TIME DATA ELEMENTS */
SPACECRAFT_CLOCK_START_COUNT = "1/0338574136.08316"
SPACECRAFT_CLOCK_STOP_COUNT = "1/0338574380.03919"
START_TIME = 2014-01-23T16:23:15.591Z
STOP_TIME = 2014-01-23T16:26:07.366Z
/* ORBITAL DATA ELEMENTS */
ASCENDING_NODE_LONGITUDE = 333.74
MAXIMUM_RESOLUTION = 0.07
FOOTPRINT_POINT_LATITUDE = (-49.0225,-48.9955,-48.9782,-48.9423, -48.9046,-48.9034,-49.0045,-48.5836, -48.2721,-47.8497,-47.315,-46.9942, -46.5608,-46.3446,-46.1266,-45.8008, -45.5825,-45.36,-45.0242,-44.7979, -44.5761,-44.3508,-44.1222,-43.8939, -43.6653,-43.4376,-43.2061,-42.9728, -42.6234,-42.2692,-42.0323,-41.7943, -41.556,-41.3152,-41.0723,-40.8285, -40.5859,-40.3389,-40.0906,-39.843, -39.5925,-39.3384,-39.0872,-38.8334, -38.5729,-38.3167,-37.9258,-37.5303, -37.3991,-37.3795,-37.4014,-37.4313, -37.4587,-37.4748,-37.5021,-37.5031, -37.5049,-37.7681,-38.0315,-38.2926, -38.5487,-38.8062,-39.0645,-39.3175, -39.5713,-39.8222,-40.0691,-40.318, -40.5668,-40.8104,-41.0551,-41.2986, -41.6627,-41.9004,-42.1373,-42.3745, -42.6102,-42.8424,-43.077,-43.3098, -43.6529,-44.0005,-44.344,-44.573, -44.7965,-45.1314,-45.3546,-45.5774, -45.7992,-46.0175,-46.4506,-46.6691, -46.8873,-47.3165,-47.6388,-48.0668, -48.6972,-49.0086,-49.114,-49.0225)
FOOTPRINT_POINT_LONGITUDE = (70.6202,70.0656,69.7296,69.0696, 68.4238,68.4039,68.4097,68.4354,68.4546 ,68.4796,68.5102,68.528,68.5511,68.563, 68.5745,68.5915,68.6025,68.6136,68.6297 ,68.6399,68.6506,68.661,68.6713,68.6815 ,68.6915,68.7014,68.7115,68.7213, 68.7358,68.7496,68.7592,68.7685,68.7775 ,68.7866,68.7956,68.8043,68.813,68.8218 ,68.8303,68.8389,68.847,68.8551,68.8637 ,68.8718,68.8791,68.8876,68.899,68.9103 ,68.9142,68.9148,69.2913,69.8037, 70.3241,70.6535,71.2142,71.2368,71.2443 ,71.2333,71.2227,71.2113,71.1964, 71.1845,71.1767,71.1661,71.1568,71.1428 ,71.1306,71.1215,71.1122,71.0993, 71.0919,71.0821,71.0683,71.0579,71.0458 ,71.0342,71.023,71.012,71.0041,70.9935, 70.9734,70.966,70.9526,70.9433,70.934, 70.9192,70.9091,70.8983,70.8901,70.8803 ,70.856,70.8461,70.8358,70.8191,70.8066 ,70.7872,70.7597,70.7428,70.7388, 70.6202)
ORBIT_NUMBER = 12785
ORBITAL_ECCENTRICITY = 0.577
ORBITAL_INCLINATION = 86.9
ORBITAL_SEMIMAJOR_AXIS = 8770.71
PERIAPSIS_ALTITUDE = 328.66
PERIAPSIS_ARGUMENT_ANGLE = 293.33
PERIAPSIS_TIME = 2014-01-23T16:18:09.000Z
SPACECRAFT_ORIENTATION = (0.0,1.0,0.0)
^MEX_ORIENTATION_DESC = "MEX_ORIENTATION_DESC.TXT"
SPACECRAFT_POINTING_MODE = INERT
^MEX_POINTING_DESC = "MEX_POINTING_DESC.TXT"
RIGHT_ASCENSION = 276.223
DECLINATION = 59.727
OFFSET_ANGLE = -1e+32
SPACECRAFT_SOLAR_DISTANCE = 2.48922e+08
TARGET_NAME = MARS
/* CAMERA DATA ELEMENTS */
DETECTOR_TEMPERATURE = 17.351
FOCAL_PLANE_TEMPERATURE = 8.7872
INST_CMPRS_NAME = "DISCRETE COSINE TRANSFORMATION (DCT)"
INST_CMPRS_RATIO = 9.84732
INST_CMPRS_QUALITY = 0
INST_CMPRS_QUANTZ_TBL_ID = 0
INSTRUMENT_TEMPERATURE = 11.234
LENS_TEMPERATURE = 8.3794
MACROPIXEL_SIZE = 4
MISSING_FRAMES = 0
PIXEL_SUBSAMPLING_FLAG = N
SIGNAL_CHAIN_ID = 3
/* RADIOMETRIC DATA ELEMENTS */
BANDWIDTH = 174.0
CENTER_FILTER_WAVELENGTH = 675.0
RADIANCE_OFFSET = 0.958466
RADIANCE_SCALING_FACTOR = 0.0131154
REFLECTANCE_SCALING_FACTOR = 0.000437113
MEX:REFLECTANCE_OFFSET = 0.0319439
/* IMAGE OBJECT DEFINITIONS */
OBJECT = IMAGE
  INTERCHANGE_FORMAT = BINARY
  LINES = 13866
  LINE_SAMPLES = 2392
  SAMPLE_TYPE = UNSIGNED_INTEGER
  SAMPLE_BITS = 8
  BANDS = 1
  BAND_STORAGE_TYPE = BAND_SEQUENTIAL
  MAXIMUM = 255
  MEAN = 124.183
  MINIMUM = 1
  STANDARD_DEVIATION = 41.8275
END_OBJECT = IMAGE
/* MAP OBJECT DEFINITIONS */
OBJECT = IMAGE_MAP_PROJECTION
  ^DATA_SET_MAP_PROJECTION_CATALOG= "DSMAP.CAT"
  A_AXIS_RADIUS = 3396.0
  B_AXIS_RADIUS = 3396.0
  C_AXIS_RADIUS = 3396.0
  CENTER_LATITUDE = 0.0
  CENTER_LONGITUDE = 70.0
  COORDINATE_SYSTEM_NAME = PLANETOGRAPHIC
  COORDINATE_SYSTEM_TYPE = "BODY-FIXED ROTATING"
  EASTERNMOST_LONGITUDE = 71.2443
  FIRST_STANDARD_PARALLEL = "N/A"
  LINE_FIRST_PIXEL = 1
  LINE_LAST_PIXEL = 13866
  LINE_PROJECTION_OFFSET = -44314.125
  MAP_PROJECTION_ROTATION = 0.0
  MAP_PROJECTION_TYPE = SINUSOIDAL
  MAP_RESOLUTION = 1185.42760773333
  MAP_SCALE = 0.05
  MAXIMUM_LATITUDE = -37.3795
  MINIMUM_LATITUDE = -49.114
  POSITIVE_LONGITUDE_DIRECTION = EAST
  REFERENCE_LATITUDE = "N/A"
  REFERENCE_LONGITUDE = "N/A"
  SAMPLE_FIRST_PIXEL = 1
  SAMPLE_LAST_PIXEL = 2392
  SAMPLE_PROJECTION_OFFSET = 1227.375
  SECOND_STANDARD_PARALLEL = "N/A"
  WESTERNMOST_LONGITUDE = 68.40389999999999
END_OBJECT = IMAGE_MAP_PROJECTION
END
