PDS_VERSION_ID = PDS3
/* FILE DATA ELEMENTS */
RECORD_TYPE = UNDEFINED
/* POINTERS TO DATA OBJECTS */
^IMAGE = ("HC782_0000_S24.TIF")
/* IDENTIFICATION DATA ELEMENTS */
DATA_SET_ID = "MEX-M-HRSC-4-REFDR-MAPPROJECT-EXT4-V4.0"
DATA_SET_NAME = "MARS EXPRESS HRSC MAP PROJECTED REFDR EXTENSION4 V4.0"
DETECTOR_ID = MEX_HRSC_S2
EVENT_TYPE = "MARS-REGIONAL-MAPPING-Im-Gl-Pf"
INSTRUMENT_HOST_ID = MEX
INSTRUMENT_HOST_NAME = "MARS EXPRESS"
INSTRUMENT_ID = HRSC
INSTRUMENT_NAME = "HIGH RESOLUTION STEREO CAMERA"
MISSION_NAME = "MARS EXPRESS"
MISSION_PHASE_NAME = ME_Phase_30
PROCESSING_LEVEL_ID = 4
PRODUCT_CREATION_TIME = 2023-01-31T11:51:40.000Z
PRODUCT_ID = "HC782_0000_S24.TIF"
RELEASE_ID = 0003
REVISION_ID = 0000
/* QUALITY DATA ELEMENTS */
DATA_QUALITY_ID = 1
DATA_QUALITY_DESC = "Data calculated based on original SPICE kernels"
/* TIME DATA ELEMENTS */
SPACECRAFT_CLOCK_START_COUNT = "1/0338498652.08284"
SPACECRAFT_CLOCK_STOP_COUNT = "1/0338498965.28281"
START_TIME = 2014-01-22T19:24:16.903Z
STOP_TIME = 2014-01-22T19:27:43.497Z
/* ORBITAL DATA ELEMENTS */
ASCENDING_NODE_LONGITUDE = 333.8
MAXIMUM_RESOLUTION = 0.0315
FOOTPRINT_POINT_LATITUDE = (-49.001,-48.9766,-48.9479,-48.9079, -48.9068,-48.8518,-48.5936,-48.207, -47.9499,-47.6927,-47.3074,-46.794, -46.5371,-46.1516,-45.7663,-45.3826, -44.9985,-44.3588,-43.8489,-43.4658, -43.204,-42.8096,-42.5471,-42.2858, -42.0201,-41.7525,-41.4888,-41.2179, -40.9466,-40.5342,-40.1209,-39.8457, -39.5633,-39.2812,-39.0013,-38.7162, -38.4191,-38.1318,-37.8448,-37.5627, -37.2696,-36.9761,-36.6774,-36.2294, -35.7754,-35.469,-35.3169,-35.3082, -35.3254,-35.3495,-35.3676,-35.3717, -35.3723,-35.3731,-35.6834,-35.9877, -36.2907,-36.5915,-36.8904,-37.1886, -37.4812,-37.7755,-38.0665,-38.3552, -38.6412,-38.929,-39.2116,-39.488, -39.7724,-40.0522,-40.3274,-40.6021, -40.8779,-41.1521,-41.4206,-41.6889, -42.0908,-42.3586,-42.6211,-43.015, -43.2783,-43.5395,-44.0522,-44.5653, -44.8224,-45.0798,-45.3366,-45.7216, -46.2323,-46.4938,-46.8803,-47.1383, -47.5237,-47.7807,-48.038,-48.2964, -48.5536,-48.8106,-48.9324,-49.001)
FOOTPRINT_POINT_LONGITUDE = (15.0326,14.4391,13.8416,13.1258, 13.1068,13.0694,13.0886,13.1169,13.1356 ,13.1536,13.1801,13.2139,13.2299,13.253 ,13.2752,13.2973,13.3181,13.3509, 13.3762,13.3937,13.4046,13.4204,13.4307 ,13.4411,13.4511,13.4613,13.473,13.4806 ,13.4887,13.5012,13.5122,13.52,13.5266, 13.5328,13.5396,13.5457,13.5468,13.5521 ,13.5577,13.5681,13.5727,13.5766, 13.5805,13.5861,13.5905,13.5926,13.5939 ,13.594,14.0029,14.674,15.2603,15.6634, 15.6835,15.6907,15.6802,15.671,15.661, 15.651,15.6413,15.6308,15.6209,15.6106, 15.6003,15.5896,15.5794,15.5686,15.5578 ,15.548,15.5362,15.5251,15.5138,15.5025 ,15.4908,15.4791,15.4674,15.4557, 15.4379,15.4253,15.413,15.3941,15.3812, 15.3683,15.3422,15.3153,15.3014,15.2872 ,15.273,15.2513,15.2223,15.2059,15.1823 ,15.1662,15.142,15.1255,15.1087,15.0914 ,15.0741,15.0565,15.0495,15.0326)
ORBIT_NUMBER = 12782
ORBITAL_ECCENTRICITY = 0.577
ORBITAL_INCLINATION = 86.89
ORBITAL_SEMIMAJOR_AXIS = 8770.75
PERIAPSIS_ALTITUDE = 329.62
PERIAPSIS_ARGUMENT_ANGLE = 293.82
PERIAPSIS_TIME = 2014-01-22T19:20:28.000Z
SPACECRAFT_ORIENTATION = (0.0,1.0,0.0)
^MEX_ORIENTATION_DESC = "MEX_ORIENTATION_DESC.TXT"
SPACECRAFT_POINTING_MODE = ACROSSTRACK
^MEX_POINTING_DESC = "MEX_POINTING_DESC.TXT"
RIGHT_ASCENSION = -1e+32
DECLINATION = -1e+32
OFFSET_ANGLE = 0.34
SPACECRAFT_SOLAR_DISTANCE = 2.48948e+08
TARGET_NAME = MARS
/* CAMERA DATA ELEMENTS */
DETECTOR_TEMPERATURE = 19.1861
FOCAL_PLANE_TEMPERATURE = 10.2145
INST_CMPRS_NAME = "DISCRETE COSINE TRANSFORMATION (DCT)"
INST_CMPRS_RATIO = 5.15057
INST_CMPRS_QUALITY = 0
INST_CMPRS_QUANTZ_TBL_ID = 0
INSTRUMENT_TEMPERATURE = 11.8457
LENS_TEMPERATURE = 9.3989
MACROPIXEL_SIZE = 2
MISSING_FRAMES = 0
PIXEL_SUBSAMPLING_FLAG = N
SIGNAL_CHAIN_ID = 1
/* RADIOMETRIC DATA ELEMENTS */
BANDWIDTH = 178.0
CENTER_FILTER_WAVELENGTH = 679.0
RADIANCE_OFFSET = 0.120335
RADIANCE_SCALING_FACTOR = 0.0157615
REFLECTANCE_SCALING_FACTOR = 0.000517304
MEX:REFLECTANCE_OFFSET = 0.00394948
/* IMAGE OBJECT DEFINITIONS */
OBJECT = IMAGE
  INTERCHANGE_FORMAT = BINARY
  LINES = 32221
  LINE_SAMPLES = 4900
  SAMPLE_TYPE = UNSIGNED_INTEGER
  SAMPLE_BITS = 8
  BANDS = 1
  BAND_STORAGE_TYPE = BAND_SEQUENTIAL
  MAXIMUM = 255
  MEAN = 94.464
  MINIMUM = 1
  STANDARD_DEVIATION = 26.4887
END_OBJECT = IMAGE
/* MAP OBJECT DEFINITIONS */
OBJECT = IMAGE_MAP_PROJECTION
  ^DATA_SET_MAP_PROJECTION_CATALOG= "DSMAP.CAT"
  A_AXIS_RADIUS = 3396.0
  B_AXIS_RADIUS = 3396.0
  C_AXIS_RADIUS = 3396.0
  CENTER_LATITUDE = 0.0
  CENTER_LONGITUDE = 14.0
  COORDINATE_SYSTEM_NAME = PLANETOGRAPHIC
  COORDINATE_SYSTEM_TYPE = "BODY-FIXED ROTATING"
  EASTERNMOST_LONGITUDE = 15.6907
  FIRST_STANDARD_PARALLEL = "N/A"
  LINE_FIRST_PIXEL = 1
  LINE_LAST_PIXEL = 32221
  LINE_PROJECTION_OFFSET = -83725.75
  MAP_PROJECTION_ROTATION = 0.0
  MAP_PROJECTION_TYPE = SINUSOIDAL
  MAP_RESOLUTION = 2370.85521546667
  MAP_SCALE = 0.025
  MAXIMUM_LATITUDE = -35.3082
  MINIMUM_LATITUDE = -49.001
  POSITIVE_LONGITUDE_DIRECTION = EAST
  REFERENCE_LATITUDE = "N/A"
  REFERENCE_LONGITUDE = "N/A"
  SAMPLE_FIRST_PIXEL = 1
  SAMPLE_LAST_PIXEL = 4900
  SAMPLE_PROJECTION_OFFSET = 1501.75
  SECOND_STANDARD_PARALLEL = "N/A"
  WESTERNMOST_LONGITUDE = 13.0694
END_OBJECT = IMAGE_MAP_PROJECTION
END
