PDS_VERSION_ID = PDS3
/* FILE DATA ELEMENTS */
RECORD_TYPE = UNDEFINED
/* POINTERS TO DATA OBJECTS */
^IMAGE = ("HC782_0000_P14.TIF")
/* IDENTIFICATION DATA ELEMENTS */
DATA_SET_ID = "MEX-M-HRSC-4-REFDR-MAPPROJECT-EXT4-V4.0"
DATA_SET_NAME = "MARS EXPRESS HRSC MAP PROJECTED REFDR EXTENSION4 V4.0"
DETECTOR_ID = MEX_HRSC_P1
EVENT_TYPE = "MARS-REGIONAL-MAPPING-Im-Gl-Pf"
INSTRUMENT_HOST_ID = MEX
INSTRUMENT_HOST_NAME = "MARS EXPRESS"
INSTRUMENT_ID = HRSC
INSTRUMENT_NAME = "HIGH RESOLUTION STEREO CAMERA"
MISSION_NAME = "MARS EXPRESS"
MISSION_PHASE_NAME = ME_Phase_30
PROCESSING_LEVEL_ID = 4
PRODUCT_CREATION_TIME = 2023-01-31T11:51:40.000Z
PRODUCT_ID = "HC782_0000_P14.TIF"
RELEASE_ID = 0003
REVISION_ID = 0000
/* QUALITY DATA ELEMENTS */
DATA_QUALITY_ID = 1
DATA_QUALITY_DESC = "Data calculated based on original SPICE kernels"
/* TIME DATA ELEMENTS */
SPACECRAFT_CLOCK_START_COUNT = "1/0338498652.08284"
SPACECRAFT_CLOCK_STOP_COUNT = "1/0338498965.28281"
START_TIME = 2014-01-22T19:25:15.127Z
STOP_TIME = 2014-01-22T19:29:07.233Z
/* ORBITAL DATA ELEMENTS */
ASCENDING_NODE_LONGITUDE = 333.8
MAXIMUM_RESOLUTION = 0.0325 <m/pixel>
FOOTPRINT_POINT_LATITUDE = (-48.8546,-48.8445,-48.8313,-48.8119, -48.8113,-48.8429,-48.4772,-47.8686, -47.383,-47.1347,-46.8862,-46.6381, -46.3908,-46.0142,-45.7621,-45.5089, -45.2564,-45.0003,-44.7427,-44.4856, -44.098,-43.8359,-43.4435,-43.1792, -42.9131,-42.5139,-42.2458,-41.9742, -41.5647,-41.1545,-40.8804,-40.6041, -40.324,-40.0451,-39.6216,-39.3385, -39.0539,-38.6266,-38.1919,-37.8992, -37.5987,-37.3017,-37.0058,-36.7046, -36.4042,-36.0997,-35.4881,-35.3335, -35.3176,-35.3211,-35.3223,-35.3225, -35.3205,-35.3204,-35.3203,-35.3209, -35.629,-35.9394,-36.2445,-36.5441, -36.8462,-37.295,-37.5937,-37.8902, -38.3277,-38.619,-38.9084,-39.1968, -39.6248,-39.9104,-40.1906,-40.4713, -40.7513,-41.0268,-41.3035,-41.5792, -41.8505,-42.1232,-42.3946,-42.6614, -42.9287,-43.3291,-43.5914,-43.854, -44.2476,-44.634,-44.8917,-45.2782, -45.5313,-45.9109,-46.2932,-46.5392, -46.7877,-47.0362,-47.2858,-47.6544, -48.1425,-48.7542,-48.8784,-48.8546)
FOOTPRINT_POINT_LONGITUDE = (15.1075,14.4745,13.8369,13.0733, 13.0531,13.0078,13.0335,13.0751,13.1067 ,13.1222,13.1375,13.1522,13.1663, 13.1873,13.1999,13.2137,13.2268,13.239, 13.2511,13.2627,13.2805,13.2911,13.3066 ,13.3183,13.3271,13.3409,13.3501,13.359 ,13.3746,13.3844,13.3905,13.3977, 13.4042,13.4098,13.4185,13.4231,13.4281 ,13.4301,13.4353,13.4391,13.4484, 13.4513,13.4535,13.4555,13.4572,13.4587 ,13.4594,13.4597,13.4597,14.0138, 14.4047,14.7944,15.4107,15.7977,15.8205 ,15.8286,15.8162,15.8059,15.7937, 15.7807,15.7688,15.7509,15.739,15.7275, 15.7079,15.6959,15.6835,15.6708,15.6521 ,15.6394,15.6265,15.6135,15.6003,15.587 ,15.5738,15.5604,15.5468,15.5334, 15.5193,15.5055,15.4915,15.4699,15.4557 ,15.4411,15.4188,15.3966,15.3814, 15.3583,15.3431,15.3195,15.2961,15.2796 ,15.2635,15.247,15.2304,15.2056,15.1718 ,15.1279,15.1193,15.1075)
ORBIT_NUMBER = 12782
ORBITAL_ECCENTRICITY = 0.577
ORBITAL_INCLINATION = 86.89
ORBITAL_SEMIMAJOR_AXIS = 8770.75
PERIAPSIS_ALTITUDE = 329.62
PERIAPSIS_ARGUMENT_ANGLE = 293.82
PERIAPSIS_TIME = 2014-01-22T19:20:28.000Z
SPACECRAFT_ORIENTATION = (0.0,1.0,0.0)
^MEX_ORIENTATION_DESC = "MEX_ORIENTATION_DESC.TXT"
SPACECRAFT_POINTING_MODE = ACROSSTRACK
^MEX_POINTING_DESC = "MEX_POINTING_DESC.TXT"
RIGHT_ASCENSION = -1e+32
DECLINATION = -1e+32
OFFSET_ANGLE = 0.34
SPACECRAFT_SOLAR_DISTANCE = 2.48948e+08
TARGET_NAME = MARS
/* CAMERA DATA ELEMENTS */
DETECTOR_TEMPERATURE = 18.1666 <degC>
FOCAL_PLANE_TEMPERATURE = 10.2145 <degC>
INST_CMPRS_NAME = "DISCRETE COSINE TRANSFORMATION (DCT)"
INST_CMPRS_RATIO = 4.26896
INST_CMPRS_QUALITY = 0
INST_CMPRS_QUANTZ_TBL_ID = 0
INSTRUMENT_TEMPERATURE = 11.8457 <degC>
LENS_TEMPERATURE = 9.3989 <degC>
MACROPIXEL_SIZE = 2
MISSING_FRAMES = 0
PIXEL_SUBSAMPLING_FLAG = N
SIGNAL_CHAIN_ID = 3
/* RADIOMETRIC DATA ELEMENTS */
BANDWIDTH = 174.0 <nm>
CENTER_FILTER_WAVELENGTH = 675.0 <nm>
RADIANCE_OFFSET = 0.121229 <W*m**-2*sr**-1>
RADIANCE_SCALING_FACTOR = 0.0157677 <W*m**-2*sr**-1>
REFLECTANCE_SCALING_FACTOR = 0.000525618
MEX:REFLECTANCE_OFFSET = 0.00404119
/* IMAGE OBJECT DEFINITIONS */
OBJECT = IMAGE
  INTERCHANGE_FORMAT = BINARY
  LINES = 32221
  LINE_SAMPLES = 4900
  SAMPLE_TYPE = UNSIGNED_INTEGER
  SAMPLE_BITS = 8
  BANDS = 1
  BAND_STORAGE_TYPE = BAND_SEQUENTIAL
  MAXIMUM = 255
  MEAN = 102.256
  MINIMUM = 1
  STANDARD_DEVIATION = 27.834
END_OBJECT = IMAGE
/* MAP OBJECT DEFINITIONS */
OBJECT = IMAGE_MAP_PROJECTION
  ^DATA_SET_MAP_PROJECTION_CATALOG= "DSMAP.CAT"
  A_AXIS_RADIUS = 3396.0 <km>
  B_AXIS_RADIUS = 3396.0 <km>
  C_AXIS_RADIUS = 3396.0 <km>
  CENTER_LATITUDE = 0.0
  CENTER_LONGITUDE = 14.0
  COORDINATE_SYSTEM_NAME = PLANETOGRAPHIC
  COORDINATE_SYSTEM_TYPE = "BODY-FIXED ROTATING"
  EASTERNMOST_LONGITUDE = 15.8286
  FIRST_STANDARD_PARALLEL = "N/A"
  LINE_FIRST_PIXEL = 1
  LINE_LAST_PIXEL = 32221
  LINE_PROJECTION_OFFSET = -83725.75
  MAP_PROJECTION_ROTATION = 0.0
  MAP_PROJECTION_TYPE = SINUSOIDAL
  MAP_RESOLUTION = 2370.85521546667 <pixel/degree>
  MAP_SCALE = 0.025 <km/pixel>
  MAXIMUM_LATITUDE = -35.3176
  MINIMUM_LATITUDE = -48.8784
  POSITIVE_LONGITUDE_DIRECTION = EAST
  REFERENCE_LATITUDE = "N/A"
  REFERENCE_LONGITUDE = "N/A"
  SAMPLE_FIRST_PIXEL = 1
  SAMPLE_LAST_PIXEL = 4900
  SAMPLE_PROJECTION_OFFSET = 1501.75
  SECOND_STANDARD_PARALLEL = "N/A"
  WESTERNMOST_LONGITUDE = 13.0078
END_OBJECT = IMAGE_MAP_PROJECTION
END
