PDS_VERSION_ID = PDS3
/* FILE DATA ELEMENTS */
RECORD_TYPE = UNDEFINED
/* POINTERS TO DATA OBJECTS */
^IMAGE = ("HC781_0000_BL4.TIF")
/* IDENTIFICATION DATA ELEMENTS */
DATA_SET_ID = "MEX-M-HRSC-4-REFDR-MAPPROJECT-EXT4-V4.0"
DATA_SET_NAME = "MARS EXPRESS HRSC MAP PROJECTED REFDR EXTENSION4 V4.0"
DETECTOR_ID = MEX_HRSC_BLUE
EVENT_TYPE = "MARS-REGIONAL-MAPPING-Vo-Fl"
INSTRUMENT_HOST_ID = MEX
INSTRUMENT_HOST_NAME = "MARS EXPRESS"
INSTRUMENT_ID = HRSC
INSTRUMENT_NAME = "HIGH RESOLUTION STEREO CAMERA"
MISSION_NAME = "MARS EXPRESS"
MISSION_PHASE_NAME = ME_Phase_30
PROCESSING_LEVEL_ID = 4
PRODUCT_CREATION_TIME = 2023-01-31T11:51:40.000Z
PRODUCT_ID = "HC781_0000_BL4.TIF"
RELEASE_ID = 0003
REVISION_ID = 0000
/* QUALITY DATA ELEMENTS */
DATA_QUALITY_ID = 1
DATA_QUALITY_DESC = "Data calculated based on original SPICE kernels"
/* TIME DATA ELEMENTS */
SPACECRAFT_CLOCK_START_COUNT = "1/0338473633.07337"
SPACECRAFT_CLOCK_STOP_COUNT = "1/0338473925.17513"
START_TIME = 2014-01-22T12:27:52.087Z
STOP_TIME = 2014-01-22T12:30:47.092Z
/* ORBITAL DATA ELEMENTS */
ASCENDING_NODE_LONGITUDE = 333.81
MAXIMUM_RESOLUTION = 0.073
FOOTPRINT_POINT_LATITUDE = (-40.0076,-40.0054,-40.0019,-39.9964, -39.9911,-39.9821,-39.9753,-39.9748, -39.9653,-39.5861,-39.017,-38.5329, -38.1466,-37.6535,-37.3582,-36.958, -36.7576,-36.5574,-36.3544,-36.1504, -35.9467,-35.7431,-35.4323,-35.2252, -35.0181,-34.8082,-34.5975,-34.3878, -34.1757,-33.9616,-33.7477,-33.5341, -33.3167,-33.0995,-32.8826,-32.6624, -32.442,-32.2218,-31.9987,-31.7751, -31.5516,-31.3246,-30.9843,-30.7551, -30.5249,-30.2951,-30.0618,-29.7122, -29.5944,-29.479,-29.4826,-29.4845, -29.4859,-29.4862,-29.4848,-29.4822, -29.482,-29.4834,-29.7201,-30.0707, -30.3047,-30.5353,-30.7662,-30.9962, -31.3374,-31.5652,-31.7893,-32.0137, -32.2376,-32.4584,-32.6795,-32.9003, -33.1178,-33.3355,-33.5535,-33.7676, -33.9821,-34.3035,-34.5144,-34.7257, -35.0419,-35.2496,-35.4573,-35.7689, -35.9731,-36.1774,-36.3821,-36.5855, -36.7862,-36.9871,-37.1883,-37.3883, -37.7832,-38.1782,-38.5658,-39.0513, -39.5258,-39.8121,-39.9085,-40.0076)
FOOTPRINT_POINT_LONGITUDE = (118.177,117.911,117.588,117.188, 116.884,116.447,116.162,116.143,116.121 ,116.127,116.137,116.143,116.147, 116.151,116.153,116.155,116.156,116.157 ,116.158,116.159,116.159,116.159,116.16 ,116.16,116.16,116.159,116.159,116.16, 116.158,116.157,116.156,116.155,116.153 ,116.152,116.15,116.148,116.146,116.144 ,116.142,116.139,116.136,116.134, 116.129,116.125,116.122,116.118,116.114 ,116.108,116.105,116.103,116.5,116.809, 117.184,117.449,118.023,118.442,118.464 ,118.472,118.467,118.46,118.456,118.451 ,118.446,118.441,118.434,118.429, 118.424,118.419,118.414,118.409,118.404 ,118.399,118.394,118.389,118.384, 118.379,118.374,118.366,118.361,118.355 ,118.347,118.341,118.335,118.327, 118.321,118.315,118.31,118.304,118.298, 118.292,118.286,118.28,118.268,118.255, 118.243,118.226,118.213,118.203,118.197 ,118.177)
ORBIT_NUMBER = 12781
ORBITAL_ECCENTRICITY = 0.577
ORBITAL_INCLINATION = 86.89
ORBITAL_SEMIMAJOR_AXIS = 8772.46
PERIAPSIS_ALTITUDE = 329.04
PERIAPSIS_ARGUMENT_ANGLE = 294.0
PERIAPSIS_TIME = 2014-01-22T12:21:16.000Z
SPACECRAFT_ORIENTATION = (0.0,1.0,0.0)
^MEX_ORIENTATION_DESC = "MEX_ORIENTATION_DESC.TXT"
SPACECRAFT_POINTING_MODE = NADIR
^MEX_POINTING_DESC = "MEX_POINTING_DESC.TXT"
RIGHT_ASCENSION = -1e+32
DECLINATION = -1e+32
OFFSET_ANGLE = -1e+32
SPACECRAFT_SOLAR_DISTANCE = 2.48956e+08
TARGET_NAME = MARS
/* CAMERA DATA ELEMENTS */
DETECTOR_TEMPERATURE = 18.7783
FOCAL_PLANE_TEMPERATURE = 8.7872
INST_CMPRS_NAME = "DISCRETE COSINE TRANSFORMATION (DCT)"
INST_CMPRS_RATIO = 5.21821
INST_CMPRS_QUALITY = 0
INST_CMPRS_QUANTZ_TBL_ID = 0
INSTRUMENT_TEMPERATURE = 12.2535
LENS_TEMPERATURE = 10.4184
MACROPIXEL_SIZE = 4
MISSING_FRAMES = 0
PIXEL_SUBSAMPLING_FLAG = N
SIGNAL_CHAIN_ID = 2
/* RADIOMETRIC DATA ELEMENTS */
BANDWIDTH = 76.0
CENTER_FILTER_WAVELENGTH = 444.0
RADIANCE_OFFSET = 0.0557199
RADIANCE_SCALING_FACTOR = 0.00223552
REFLECTANCE_SCALING_FACTOR = 0.000142358
MEX:REFLECTANCE_OFFSET = 0.00354825
/* IMAGE OBJECT DEFINITIONS */
OBJECT = IMAGE
  INTERCHANGE_FORMAT = BINARY
  LINES = 12477
  LINE_SAMPLES = 2499
  SAMPLE_TYPE = UNSIGNED_INTEGER
  SAMPLE_BITS = 8
  BANDS = 1
  BAND_STORAGE_TYPE = BAND_SEQUENTIAL
  MAXIMUM = 255
  MEAN = 138.312
  MINIMUM = 1
  STANDARD_DEVIATION = 20.0838
END_OBJECT = IMAGE
/* MAP OBJECT DEFINITIONS */
OBJECT = IMAGE_MAP_PROJECTION
  ^DATA_SET_MAP_PROJECTION_CATALOG= "DSMAP.CAT"
  A_AXIS_RADIUS = 3396.0
  B_AXIS_RADIUS = 3396.0
  C_AXIS_RADIUS = 3396.0
  CENTER_LATITUDE = 0.0
  CENTER_LONGITUDE = 117.0
  COORDINATE_SYSTEM_NAME = PLANETOGRAPHIC
  COORDINATE_SYSTEM_TYPE = "BODY-FIXED ROTATING"
  EASTERNMOST_LONGITUDE = 118.472
  FIRST_STANDARD_PARALLEL = "N/A"
  LINE_FIRST_PIXEL = 1
  LINE_LAST_PIXEL = 12477
  LINE_PROJECTION_OFFSET = -34938.625
  MAP_PROJECTION_ROTATION = 0.0
  MAP_PROJECTION_TYPE = SINUSOIDAL
  MAP_RESOLUTION = 1185.42760773333
  MAP_SCALE = 0.05
  MAXIMUM_LATITUDE = -29.479
  MINIMUM_LATITUDE = -40.0076
  POSITIVE_LONGITUDE_DIRECTION = EAST
  REFERENCE_LATITUDE = "N/A"
  REFERENCE_LONGITUDE = "N/A"
  SAMPLE_FIRST_PIXEL = 1
  SAMPLE_LAST_PIXEL = 2499
  SAMPLE_PROJECTION_OFFSET = 960.375
  SECOND_STANDARD_PARALLEL = "N/A"
  WESTERNMOST_LONGITUDE = 116.103
END_OBJECT = IMAGE_MAP_PROJECTION
END
