PDS_VERSION_ID = PDS3
/* FILE DATA ELEMENTS */
RECORD_TYPE = UNDEFINED
/* POINTERS TO DATA OBJECTS */
^IMAGE = ("HC779_0009_GR4.TIF")
/* IDENTIFICATION DATA ELEMENTS */
DATA_SET_ID = "MEX-M-HRSC-4-REFDR-MAPPROJECT-EXT4-V4.0"
DATA_SET_NAME = "MARS EXPRESS HRSC MAP PROJECTED REFDR EXTENSION4 V4.0"
DETECTOR_ID = MEX_HRSC_GREEN
EVENT_TYPE = "MARS-CLOUD-VARIABLE-At"
INSTRUMENT_HOST_ID = MEX
INSTRUMENT_HOST_NAME = "MARS EXPRESS"
INSTRUMENT_ID = HRSC
INSTRUMENT_NAME = "HIGH RESOLUTION STEREO CAMERA"
MISSION_NAME = "MARS EXPRESS"
MISSION_PHASE_NAME = ME_Phase_30
PROCESSING_LEVEL_ID = 4
PRODUCT_CREATION_TIME = 2023-01-31T11:51:40.000Z
PRODUCT_ID = "HC779_0009_GR4.TIF"
RELEASE_ID = 0003
REVISION_ID = 0000
/* QUALITY DATA ELEMENTS */
DATA_QUALITY_ID = 1
DATA_QUALITY_DESC = "Data calculated based on original SPICE kernels"
/* TIME DATA ELEMENTS */
SPACECRAFT_CLOCK_START_COUNT = "1/0338423626.09047"
SPACECRAFT_CLOCK_STOP_COUNT = "1/0338424787.17755"
START_TIME = 2014-01-21T22:35:06.468Z
STOP_TIME = 2014-01-21T22:53:09.962Z
/* ORBITAL DATA ELEMENTS */
ASCENDING_NODE_LONGITUDE = 333.85
MAXIMUM_RESOLUTION = 0.1216
FOOTPRINT_POINT_LATITUDE = (-21.4141,-21.429,-21.4435,-21.4496, -21.4497,-21.4524,-20.3338,-19.2426, -18.1552,-17.0913,-16.0404,-15.0032, -13.9814,-12.9663,-11.9682,-10.984, -10.012,-9.05611,-8.11622,-7.17912, -6.26028,-5.35517,-4.46281,-3.58255, -2.71438,-1.85826,-1.01373,-0.18096, 0.64097,1.85899,2.65165,3.43321,4.20418 ,4.96401,5.71338,6.4497,7.18116,8.60892 ,9.99684,11.3477,12.6618,13.941,15.1861 ,16.3982,17.5783,18.7278,19.0105, 19.0433,19.1198,19.207,19.3003,19.3615, 19.4913,19.5643,19.6405,19.6439,19.6443 ,18.4733,17.2722,16.0398,14.775,13.4767 ,12.145,10.7755,9.37013,8.65335,7.9274, 7.19068,6.44419,5.68778,4.92104,4.14474 ,3.35851,2.56028,1.74816,0.919202, 0.0902904,-0.752579,-1.60716,-2.4735, -3.3517,-4.24153,-5.14473,-6.06254, -6.98907,-7.92878,-8.88066,-9.84567, -10.8187,-11.8093,-12.8128,-13.8399, -14.87,-15.9128,-16.9706,-18.0388, -19.1335,-20.7949,-21.3515,-21.4141)
FOOTPRINT_POINT_LONGITUDE = (323.016,322.171,321.011,320.219, 320.192,320.177,320.131,320.078,320.019 ,319.96,319.9,319.838,319.77,319.692, 319.626,319.556,319.487,319.41,319.325, 319.257,319.178,319.094,319.009,318.922 ,318.835,318.745,318.655,318.564, 318.472,318.328,318.232,318.134,318.036 ,317.935,317.834,317.727,317.627, 317.417,317.201,316.982,316.758,316.531 ,316.301,316.066,315.827,315.586, 315.525,315.517,316.307,317.261,318.369 ,319.16,321.062,322.334,323.935,324.015 ,324.042,323.976,323.913,323.853, 323.796,323.742,323.688,323.642,323.596 ,323.574,323.551,323.531,323.511, 323.491,323.471,323.451,323.429,323.41, 323.399,323.382,323.359,323.342,323.326 ,323.31,323.295,323.279,323.266,323.259 ,323.243,323.23,323.215,323.202,323.178 ,323.164,323.149,323.135,323.12,323.105 ,323.092,323.072,323.057,323.031, 323.022,323.016)
ORBIT_NUMBER = 12779
ORBITAL_ECCENTRICITY = 0.577
ORBITAL_INCLINATION = 86.9
ORBITAL_SEMIMAJOR_AXIS = 8768.87
PERIAPSIS_ALTITUDE = 329.45
PERIAPSIS_ARGUMENT_ANGLE = 294.36
PERIAPSIS_TIME = 2014-01-21T22:22:51.000Z
SPACECRAFT_ORIENTATION = (0.0,1.0,0.0)
^MEX_ORIENTATION_DESC = "MEX_ORIENTATION_DESC.TXT"
SPACECRAFT_POINTING_MODE = NADIR
^MEX_POINTING_DESC = "MEX_POINTING_DESC.TXT"
RIGHT_ASCENSION = -1e+32
DECLINATION = -1e+32
OFFSET_ANGLE = -1e+32
SPACECRAFT_SOLAR_DISTANCE = 2.48973e+08
TARGET_NAME = MARS
/* CAMERA DATA ELEMENTS */
DETECTOR_TEMPERATURE = 18.7783
FOCAL_PLANE_TEMPERATURE = 8.7872
INST_CMPRS_NAME = "DISCRETE COSINE TRANSFORMATION (DCT)"
INST_CMPRS_RATIO = 17.5817
INST_CMPRS_QUALITY = 0
INST_CMPRS_QUANTZ_TBL_ID = 0
INSTRUMENT_TEMPERATURE = 12.0496
LENS_TEMPERATURE = 9.6028
MACROPIXEL_SIZE = 4
PIXEL_SUBSAMPLING_FLAG = N
SIGNAL_CHAIN_ID = 2
/* RADIOMETRIC DATA ELEMENTS */
BANDWIDTH = 88.0
CENTER_FILTER_WAVELENGTH = 538.0
RADIANCE_OFFSET = 0.573444
RADIANCE_SCALING_FACTOR = 0.00888276
REFLECTANCE_SCALING_FACTOR = 0.000474068
MEX:REFLECTANCE_OFFSET = 0.0306044
/* IMAGE OBJECT DEFINITIONS */
OBJECT = IMAGE
  INTERCHANGE_FORMAT = BINARY
  LINES = 24369
  LINE_SAMPLES = 4293
  SAMPLE_TYPE = UNSIGNED_INTEGER
  SAMPLE_BITS = 8
  BANDS = 1
  BAND_STORAGE_TYPE = BAND_SEQUENTIAL
  MAXIMUM = 255
  MEAN = 151.853
  MINIMUM = 1
  STANDARD_DEVIATION = 53.1395
END_OBJECT = IMAGE
/* MAP OBJECT DEFINITIONS */
OBJECT = IMAGE_MAP_PROJECTION
  ^DATA_SET_MAP_PROJECTION_CATALOG= "DSMAP.CAT"
  A_AXIS_RADIUS = 3396.0
  B_AXIS_RADIUS = 3396.0
  C_AXIS_RADIUS = 3396.0
  CENTER_LATITUDE = 0.0
  CENTER_LONGITUDE = 321.0
  COORDINATE_SYSTEM_NAME = PLANETOGRAPHIC
  COORDINATE_SYSTEM_TYPE = "BODY-FIXED ROTATING"
  EASTERNMOST_LONGITUDE = 324.042
  FIRST_STANDARD_PARALLEL = "N/A"
  LINE_FIRST_PIXEL = 1
  LINE_LAST_PIXEL = 24369
  LINE_PROJECTION_OFFSET = 11648.0
  MAP_PROJECTION_ROTATION = 0.0
  MAP_PROJECTION_TYPE = SINUSOIDAL
  MAP_RESOLUTION = 592.713803866667
  MAP_SCALE = 0.1
  MAXIMUM_LATITUDE = 19.6443
  MINIMUM_LATITUDE = -21.4524
  POSITIVE_LONGITUDE_DIRECTION = EAST
  REFERENCE_LATITUDE = "N/A"
  REFERENCE_LONGITUDE = "N/A"
  SAMPLE_FIRST_PIXEL = 1
  SAMPLE_LAST_PIXEL = 4293
  SAMPLE_PROJECTION_OFFSET = 2832.0
  SECOND_STANDARD_PARALLEL = "N/A"
  WESTERNMOST_LONGITUDE = 315.517
END_OBJECT = IMAGE_MAP_PROJECTION
END
