PDS_VERSION_ID = PDS3
/* FILE DATA ELEMENTS */
RECORD_TYPE = UNDEFINED
/* POINTERS TO DATA OBJECTS */
^IMAGE = ("HC775_0000_BL4.TIF")
/* IDENTIFICATION DATA ELEMENTS */
DATA_SET_ID = "MEX-M-HRSC-4-REFDR-MAPPROJECT-EXT4-V4.0"
DATA_SET_NAME = "MARS EXPRESS HRSC MAP PROJECTED REFDR EXTENSION4 V4.0"
DETECTOR_ID = MEX_HRSC_BLUE
EVENT_TYPE = "MARS-REGIONAL-MAPPING-Im-Gl-Pf"
INSTRUMENT_HOST_ID = MEX
INSTRUMENT_HOST_NAME = "MARS EXPRESS"
INSTRUMENT_ID = HRSC
INSTRUMENT_NAME = "HIGH RESOLUTION STEREO CAMERA"
MISSION_NAME = "MARS EXPRESS"
MISSION_PHASE_NAME = ME_Phase_30
PROCESSING_LEVEL_ID = 4
PRODUCT_CREATION_TIME = 2023-01-31T11:51:40.000Z
PRODUCT_ID = "HC775_0000_BL4.TIF"
RELEASE_ID = 0003
REVISION_ID = 0000
/* QUALITY DATA ELEMENTS */
DATA_QUALITY_ID = 1
DATA_QUALITY_DESC = "Data calculated based on original SPICE kernels"
/* TIME DATA ELEMENTS */
SPACECRAFT_CLOCK_START_COUNT = "1/0338322572.08227"
SPACECRAFT_CLOCK_STOP_COUNT = "1/0338322920.55077"
START_TIME = 2014-01-20T18:30:04.970Z
STOP_TIME = 2014-01-20T18:34:14.772Z
/* ORBITAL DATA ELEMENTS */
ASCENDING_NODE_LONGITUDE = 333.93
MAXIMUM_RESOLUTION = 0.1205
FOOTPRINT_POINT_LATITUDE = (-48.3693,-48.3629,-48.3544,-48.3431, -48.3427,-48.3291,-47.9049,-47.6212, -47.3383,-47.0545,-46.7717,-46.2062, -45.6423,-44.7991,-44.378,-43.9477, -43.6607,-43.3724,-43.0848,-42.6449, -42.3515,-42.0587,-41.6096,-41.3106, -41.0117,-40.7068,-40.4012,-40.0962, -39.7875,-39.476,-39.009,-38.6921, -38.2166,-37.8954,-37.5718,-37.2496, -36.9208,-36.4275,-36.0932,-35.5917, -35.2514,-34.9115,-34.3948,-34.0492, -33.6971,-33.3463,-32.9892,-32.8108, -32.7905,-32.7914,-32.791,-32.7864, -32.7822,-32.7819,-32.7842,-33.1423, -33.6732,-34.1993,-34.5465,-34.8919, -35.2321,-35.5733,-35.9082,-36.4116, -36.9058,-37.2359,-37.5595,-37.8832, -38.2054,-38.5229,-38.8409,-39.1566, -39.4686,-39.7799,-40.0883,-40.3942, -40.7025,-41.0088,-41.3071,-41.6068, -41.9073,-42.3515,-42.6453,-42.9397, -43.2328,-43.5192,-43.8075,-44.239, -44.8042,-45.2267,-45.7907,-46.356, -46.6398,-46.923,-47.3487,-47.6327, -47.9171,-48.2016,-48.344,-48.3693)
FOOTPRINT_POINT_LONGITUDE = (11.8313,11.0753,10.4953,9.92339, 9.90565,9.89737,9.91476,9.92585,9.93652 ,9.94676,9.95659,9.975,9.99187,10.0144, 10.0244,10.0339,10.0398,10.0451,10.0504 ,10.0578,10.0622,10.0663,10.072,10.0754 ,10.0784,10.0811,10.0835,10.0856, 10.0874,10.0889,10.0902,10.0912,10.0915 ,10.0913,10.0906,10.0899,10.0886,10.086 ,10.0839,10.0801,10.0772,10.0739, 10.0684,10.0641,10.0593,10.0545,10.0489 ,10.0461,10.0458,10.5105,11.1867, 11.8294,12.2054,12.2263,12.2403,12.2351 ,12.2283,12.2203,12.2133,12.2073, 12.2041,12.1995,12.1939,12.1849,12.1756 ,12.1687,12.1619,12.1564,12.1506, 12.1448,12.1393,12.1317,12.1243,12.1214 ,12.121,12.1138,12.0986,12.0897,12.088, 12.0819,12.0741,12.0598,12.0527,12.0442 ,12.0351,12.0315,12.021,12.012,11.9951, 11.9821,11.9664,11.9486,11.9365,11.9279 ,11.913,11.9031,11.8928,11.8826,11.8773 ,11.8313)
ORBIT_NUMBER = 12775
ORBITAL_ECCENTRICITY = 0.577
ORBITAL_INCLINATION = 86.89
ORBITAL_SEMIMAJOR_AXIS = 8772.07
PERIAPSIS_ALTITUDE = 329.76
PERIAPSIS_ARGUMENT_ANGLE = 295.01
PERIAPSIS_TIME = 2014-01-20T18:25:57.000Z
SPACECRAFT_ORIENTATION = (0.0,1.0,0.0)
^MEX_ORIENTATION_DESC = "MEX_ORIENTATION_DESC.TXT"
SPACECRAFT_POINTING_MODE = ACROSSTRACK
^MEX_POINTING_DESC = "MEX_POINTING_DESC.TXT"
RIGHT_ASCENSION = -1e+32
DECLINATION = -1e+32
OFFSET_ANGLE = -0.62
SPACECRAFT_SOLAR_DISTANCE = 2.49005e+08
TARGET_NAME = MARS
/* CAMERA DATA ELEMENTS */
DETECTOR_TEMPERATURE = 17.9627
FOCAL_PLANE_TEMPERATURE = 7.7677
INST_CMPRS_NAME = "DISCRETE COSINE TRANSFORMATION (DCT)"
INST_CMPRS_RATIO = 8.79082
INST_CMPRS_QUALITY = 0
INST_CMPRS_QUANTZ_TBL_ID = 0
INSTRUMENT_TEMPERATURE = 11.0301
LENS_TEMPERATURE = 7.3599
MACROPIXEL_SIZE = 8
MISSING_FRAMES = 0
PIXEL_SUBSAMPLING_FLAG = N
SIGNAL_CHAIN_ID = 2
/* RADIOMETRIC DATA ELEMENTS */
BANDWIDTH = 76.0
CENTER_FILTER_WAVELENGTH = 444.0
RADIANCE_OFFSET = 0.0377402
RADIANCE_SCALING_FACTOR = 0.00214601
REFLECTANCE_SCALING_FACTOR = 0.000136711
MEX:REFLECTANCE_OFFSET = 0.00240423
/* IMAGE OBJECT DEFINITIONS */
OBJECT = IMAGE
  INTERCHANGE_FORMAT = BINARY
  LINES = 9238
  LINE_SAMPLES = 1123
  SAMPLE_TYPE = UNSIGNED_INTEGER
  SAMPLE_BITS = 8
  BANDS = 1
  BAND_STORAGE_TYPE = BAND_SEQUENTIAL
  MAXIMUM = 255
  MEAN = 115.549
  MINIMUM = 1
  STANDARD_DEVIATION = 25.7432
END_OBJECT = IMAGE
/* MAP OBJECT DEFINITIONS */
OBJECT = IMAGE_MAP_PROJECTION
  ^DATA_SET_MAP_PROJECTION_CATALOG= "DSMAP.CAT"
  A_AXIS_RADIUS = 3396.0
  B_AXIS_RADIUS = 3396.0
  C_AXIS_RADIUS = 3396.0
  CENTER_LATITUDE = 0.0
  CENTER_LONGITUDE = 11.0
  COORDINATE_SYSTEM_NAME = PLANETOGRAPHIC
  COORDINATE_SYSTEM_TYPE = "BODY-FIXED ROTATING"
  EASTERNMOST_LONGITUDE = 12.2403
  FIRST_STANDARD_PARALLEL = "N/A"
  LINE_FIRST_PIXEL = 1
  LINE_LAST_PIXEL = 9238
  LINE_PROJECTION_OFFSET = -19431.5625
  MAP_PROJECTION_ROTATION = 0.0
  MAP_PROJECTION_TYPE = SINUSOIDAL
  MAP_RESOLUTION = 592.713803866667
  MAP_SCALE = 0.1
  MAXIMUM_LATITUDE = -32.7819
  MINIMUM_LATITUDE = -48.3693
  POSITIVE_LONGITUDE_DIRECTION = EAST
  REFERENCE_LATITUDE = "N/A"
  REFERENCE_LONGITUDE = "N/A"
  SAMPLE_FIRST_PIXEL = 1
  SAMPLE_LAST_PIXEL = 1123
  SAMPLE_PROJECTION_OFFSET = 496.8125
  SECOND_STANDARD_PARALLEL = "N/A"
  WESTERNMOST_LONGITUDE = 9.89737
END_OBJECT = IMAGE_MAP_PROJECTION
END
