PDS_VERSION_ID = PDS3
/* FILE DATA ELEMENTS */
RECORD_TYPE = UNDEFINED
/* POINTERS TO DATA OBJECTS */
^IMAGE = ("HC774_0000_IR4.TIF")
/* IDENTIFICATION DATA ELEMENTS */
DATA_SET_ID = "MEX-M-HRSC-4-REFDR-MAPPROJECT-EXT4-V4.0"
DATA_SET_NAME = "MARS EXPRESS HRSC MAP PROJECTED REFDR EXTENSION4 V4.0"
DETECTOR_ID = MEX_HRSC_IR
EVENT_TYPE = "MARS-REGIONAL-MAPPING-Vo-Fl"
INSTRUMENT_HOST_ID = MEX
INSTRUMENT_HOST_NAME = "MARS EXPRESS"
INSTRUMENT_ID = HRSC
INSTRUMENT_NAME = "HIGH RESOLUTION STEREO CAMERA"
MISSION_NAME = "MARS EXPRESS"
MISSION_PHASE_NAME = ME_Phase_30
PROCESSING_LEVEL_ID = 4
PRODUCT_CREATION_TIME = 2023-01-31T11:51:40.000Z
PRODUCT_ID = "HC774_0000_IR4.TIF"
RELEASE_ID = 0003
REVISION_ID = 0000
/* QUALITY DATA ELEMENTS */
DATA_QUALITY_ID = 1
DATA_QUALITY_DESC = "Data calculated based on original SPICE kernels"
/* TIME DATA ELEMENTS */
SPACECRAFT_CLOCK_START_COUNT = "1/0338297547.08451"
SPACECRAFT_CLOCK_STOP_COUNT = "1/0338297879.12498"
START_TIME = 2014-01-20T11:33:51.236Z
STOP_TIME = 2014-01-20T11:37:47.917Z
/* ORBITAL DATA ELEMENTS */
ASCENDING_NODE_LONGITUDE = 333.95
MAXIMUM_RESOLUTION = 0.0799
FOOTPRINT_POINT_LATITUDE = (-39.7849,-39.7686,-39.7578,-39.7466, -39.7349,-39.7227,-39.7101,-39.7093, -39.7396,-39.1865,-38.7346,-38.268, -37.9215,-37.573,-37.1054,-36.7493, -36.2726,-36.0318,-35.7905,-35.5474, -35.3036,-34.9365,-34.6892,-34.4425, -34.1917,-33.9417,-33.5632,-33.3103, -33.0547,-32.6711,-32.4111,-32.152, -31.8905,-31.6289,-31.3641,-31.0994, -30.8322,-30.5647,-30.2942,-29.8873, -29.614,-29.3388,-28.9228,-28.6437, -28.3632,-27.9392,-27.5116,-27.2253, -27.0804,-27.0606,-27.0668,-27.0734, -27.0792,-27.0847,-27.0912,-27.0972, -27.0973,-27.0988,-27.5324,-27.8198, -28.1054,-28.3881,-28.6706,-28.9502, -29.3675,-29.6439,-29.9179,-30.3266, -30.598,-30.8664,-31.1346,-31.4001, -31.6662,-31.9286,-32.1913,-32.4511, -32.8404,-33.0974,-33.3543,-33.6079, -33.9878,-34.2387,-34.4905,-34.738, -34.9857,-35.232,-35.476,-35.7206, -35.9634,-36.2044,-36.4464,-36.9227, -37.1606,-37.63,-38.327,-38.787, -39.1292,-39.6937,-39.8059,-39.7849)
FOOTPRINT_POINT_LONGITUDE = (115.005,114.458,114.126,113.798, 113.474,113.153,112.835,112.815,112.815 ,112.811,112.807,112.8,112.795,112.79, 112.783,112.777,112.769,112.764,112.76, 112.755,112.75,112.742,112.736,112.73, 112.724,112.718,112.708,112.702,112.695 ,112.684,112.677,112.669,112.661, 112.653,112.645,112.637,112.628,112.619 ,112.61,112.595,112.586,112.575,112.56, 112.549,112.538,112.521,112.504,112.492 ,112.485,112.484,112.88,113.28,113.683, 114.089,114.602,115.173,115.199,115.207 ,115.202,115.198,115.194,115.191, 115.187,115.183,115.178,115.175,115.171 ,115.166,115.162,115.159,115.155, 115.152,115.149,115.146,115.142,115.139 ,115.135,115.132,115.13,115.127,115.122 ,115.119,115.117,115.114,115.111, 115.108,115.104,115.101,115.099,115.096 ,115.093,115.087,115.084,115.078, 115.068,115.062,115.057,115.049,115.047 ,115.005)
ORBIT_NUMBER = 12774
ORBITAL_ECCENTRICITY = 0.577
ORBITAL_INCLINATION = 86.89
ORBITAL_SEMIMAJOR_AXIS = 8774.09
PERIAPSIS_ALTITUDE = 329.04
PERIAPSIS_ARGUMENT_ANGLE = 295.18
PERIAPSIS_TIME = 2014-01-20T11:26:46.000Z
SPACECRAFT_ORIENTATION = (0.0,1.0,0.0)
^MEX_ORIENTATION_DESC = "MEX_ORIENTATION_DESC.TXT"
SPACECRAFT_POINTING_MODE = ACROSSTRACK
^MEX_POINTING_DESC = "MEX_POINTING_DESC.TXT"
RIGHT_ASCENSION = -1e+32
DECLINATION = -1e+32
OFFSET_ANGLE = -1.1
SPACECRAFT_SOLAR_DISTANCE = 2.49012e+08
TARGET_NAME = MARS
/* CAMERA DATA ELEMENTS */
DETECTOR_TEMPERATURE = 17.7588
FOCAL_PLANE_TEMPERATURE = 7.9716
INST_CMPRS_NAME = "DISCRETE COSINE TRANSFORMATION (DCT)"
INST_CMPRS_RATIO = 7.51265
INST_CMPRS_QUALITY = 0
INST_CMPRS_QUANTZ_TBL_ID = 0
INSTRUMENT_TEMPERATURE = 11.0301
LENS_TEMPERATURE = 8.3794
MACROPIXEL_SIZE = 4
MISSING_FRAMES = 0
PIXEL_SUBSAMPLING_FLAG = N
SIGNAL_CHAIN_ID = 2
/* RADIOMETRIC DATA ELEMENTS */
BANDWIDTH = 81.0
CENTER_FILTER_WAVELENGTH = 955.5
RADIANCE_OFFSET = 0.11455
RADIANCE_SCALING_FACTOR = 0.0062441
REFLECTANCE_SCALING_FACTOR = 0.000835292
MEX:REFLECTANCE_OFFSET = 0.0153237
/* IMAGE OBJECT DEFINITIONS */
OBJECT = IMAGE
  INTERCHANGE_FORMAT = BINARY
  LINES = 15081
  LINE_SAMPLES = 2617
  SAMPLE_TYPE = UNSIGNED_INTEGER
  SAMPLE_BITS = 8
  BANDS = 1
  BAND_STORAGE_TYPE = BAND_SEQUENTIAL
  MAXIMUM = 255
  MEAN = 111.693
  MINIMUM = 1
  STANDARD_DEVIATION = 19.0491
END_OBJECT = IMAGE
/* MAP OBJECT DEFINITIONS */
OBJECT = IMAGE_MAP_PROJECTION
  ^DATA_SET_MAP_PROJECTION_CATALOG= "DSMAP.CAT"
  A_AXIS_RADIUS = 3396.0
  B_AXIS_RADIUS = 3396.0
  C_AXIS_RADIUS = 3396.0
  CENTER_LATITUDE = 0.0
  CENTER_LONGITUDE = 114.0
  COORDINATE_SYSTEM_NAME = PLANETOGRAPHIC
  COORDINATE_SYSTEM_TYPE = "BODY-FIXED ROTATING"
  EASTERNMOST_LONGITUDE = 115.207
  FIRST_STANDARD_PARALLEL = "N/A"
  LINE_FIRST_PIXEL = 1
  LINE_LAST_PIXEL = 15081
  LINE_PROJECTION_OFFSET = -32101.875
  MAP_PROJECTION_ROTATION = 0.0
  MAP_PROJECTION_TYPE = SINUSOIDAL
  MAP_RESOLUTION = 1185.42760773333
  MAP_SCALE = 0.05
  MAXIMUM_LATITUDE = -27.0606
  MINIMUM_LATITUDE = -39.8059
  POSITIVE_LONGITUDE_DIRECTION = EAST
  REFERENCE_LATITUDE = "N/A"
  REFERENCE_LONGITUDE = "N/A"
  SAMPLE_FIRST_PIXEL = 1
  SAMPLE_LAST_PIXEL = 2617
  SAMPLE_PROJECTION_OFFSET = 1496.875
  SECOND_STANDARD_PARALLEL = "N/A"
  WESTERNMOST_LONGITUDE = 112.484
END_OBJECT = IMAGE_MAP_PROJECTION
END
