PDS_VERSION_ID = PDS3
/* FILE DATA ELEMENTS */
RECORD_TYPE = UNDEFINED
/* POINTERS TO DATA OBJECTS */
^IMAGE = ("HC772_0000_P24.TIF")
/* IDENTIFICATION DATA ELEMENTS */
DATA_SET_ID = "MEX-M-HRSC-4-REFDR-MAPPROJECT-EXT4-V4.0"
DATA_SET_NAME = "MARS EXPRESS HRSC MAP PROJECTED REFDR EXTENSION4 V4.0"
DETECTOR_ID = MEX_HRSC_P2
EVENT_TYPE = "MARS-REGIONAL-STEREO-Im-Gl-Pf"
INSTRUMENT_HOST_ID = MEX
INSTRUMENT_HOST_NAME = "MARS EXPRESS"
INSTRUMENT_ID = HRSC
INSTRUMENT_NAME = "HIGH RESOLUTION STEREO CAMERA"
MISSION_NAME = "MARS EXPRESS"
MISSION_PHASE_NAME = ME_Phase_30
PROCESSING_LEVEL_ID = 4
PRODUCT_CREATION_TIME = 2023-01-31T11:51:40.000Z
PRODUCT_ID = "HC772_0000_P24.TIF"
RELEASE_ID = 0003
REVISION_ID = 0000
/* QUALITY DATA ELEMENTS */
DATA_QUALITY_ID = 1
DATA_QUALITY_DESC = "Data calculated based on original SPICE kernels"
/* TIME DATA ELEMENTS */
SPACECRAFT_CLOCK_START_COUNT = "1/0338247186.09060"
SPACECRAFT_CLOCK_STOP_COUNT = "1/0338247418.25150"
START_TIME = 2014-01-19T21:33:23.279Z
STOP_TIME = 2014-01-19T21:35:34.925Z
/* ORBITAL DATA ELEMENTS */
ASCENDING_NODE_LONGITUDE = 333.98
MAXIMUM_RESOLUTION = 0.0336
FOOTPRINT_POINT_LATITUDE = (-42.9773,-42.9697,-42.965,-42.9587, -42.9529,-42.9375,-42.9369,-42.8908, -42.5827,-42.3501,-41.8749,-41.5579, -41.243,-40.9248,-40.6807,-40.5175, -40.355,-40.1935,-39.95,-39.7838, -39.621,-39.4535,-39.2863,-39.1206, -38.9561,-38.7876,-38.5341,-38.279, -38.1103,-37.8556,-37.6833,-37.5158, -37.3458,-37.1694,-36.9959,-36.8206, -36.6453,-36.4755,-36.2997,-36.1245, -35.9454,-35.6747,-35.4941,-35.3166, -35.0473,-34.8643,-34.5892,-34.4976, -34.477,-34.485,-34.4924,-34.4971, -34.4987,-34.4989,-34.499,-34.4991, -34.4997,-34.7719,-35.0452,-35.4074, -35.5883,-35.7686,-35.9483,-36.1268, -36.3031,-36.48,-36.6574,-36.8347, -37.0109,-37.1833,-37.3554,-37.5269, -37.6992,-37.8708,-38.0417,-38.2111, -38.3817,-38.5482,-38.7177,-38.8864, -39.0528,-39.2181,-39.3838,-39.5497, -39.7175,-39.9656,-40.2098,-40.3724, -40.5336,-40.6958,-40.8576,-41.0198, -41.1821,-41.4198,-41.8968,-42.2932, -42.6077,-42.8395,-42.9161,-42.9773)
FOOTPRINT_POINT_LONGITUDE = (317.668,317.116,316.859,316.564, 316.326,315.792,315.774,315.743,315.754 ,315.761,315.775,315.783,315.792, 315.802,315.808,315.811,315.814,315.817 ,315.823,315.826,315.831,315.832, 315.835,315.837,315.84,315.843,315.847, 315.85,315.852,315.856,315.858,315.862, 315.866,315.865,315.866,315.868,315.869 ,315.874,315.875,315.876,315.877, 315.877,315.878,315.879,315.881,315.881 ,315.881,315.881,315.881,316.241, 316.662,317.022,317.302,317.723,317.923 ,317.943,317.951,317.945,317.94,317.931 ,317.926,317.921,317.917,317.912, 317.907,317.902,317.897,317.892,317.887 ,317.883,317.878,317.874,317.87,317.865 ,317.861,317.856,317.85,317.847,317.841 ,317.837,317.832,317.827,317.822, 317.817,317.81,317.803,317.795,317.789, 317.785,317.779,317.774,317.768,317.763 ,317.754,317.736,317.722,317.708, 317.699,317.697,317.668)
ORBIT_NUMBER = 12772
ORBITAL_ECCENTRICITY = 0.577
ORBITAL_INCLINATION = 86.9
ORBITAL_SEMIMAJOR_AXIS = 8771.25
PERIAPSIS_ALTITUDE = 329.66
PERIAPSIS_ARGUMENT_ANGLE = 295.55
PERIAPSIS_TIME = 2014-01-19T21:28:18.000Z
SPACECRAFT_ORIENTATION = (0.0,1.0,0.0)
^MEX_ORIENTATION_DESC = "MEX_ORIENTATION_DESC.TXT"
SPACECRAFT_POINTING_MODE = NADIR
^MEX_POINTING_DESC = "MEX_POINTING_DESC.TXT"
RIGHT_ASCENSION = -1e+32
DECLINATION = -1e+32
OFFSET_ANGLE = -1e+32
SPACECRAFT_SOLAR_DISTANCE = 2.49027e+08
TARGET_NAME = MARS
/* CAMERA DATA ELEMENTS */
DETECTOR_TEMPERATURE = 18.5744
FOCAL_PLANE_TEMPERATURE = 8.5833
INST_CMPRS_NAME = "DISCRETE COSINE TRANSFORMATION (DCT)"
INST_CMPRS_RATIO = 6.83799
INST_CMPRS_QUALITY = 0
INST_CMPRS_QUANTZ_TBL_ID = 0
INSTRUMENT_TEMPERATURE = 11.6418
LENS_TEMPERATURE = 9.195
MACROPIXEL_SIZE = 2
MISSING_FRAMES = 0
PIXEL_SUBSAMPLING_FLAG = N
SIGNAL_CHAIN_ID = 3
/* RADIOMETRIC DATA ELEMENTS */
BANDWIDTH = 177.0
CENTER_FILTER_WAVELENGTH = 676.5
RADIANCE_OFFSET = 0.31029
RADIANCE_SCALING_FACTOR = 0.012832
REFLECTANCE_SCALING_FACTOR = 0.000421933
MEX:REFLECTANCE_OFFSET = 0.0102028
/* IMAGE OBJECT DEFINITIONS */
OBJECT = IMAGE
  INTERCHANGE_FORMAT = BINARY
  LINES = 20065
  LINE_SAMPLES = 4223
  SAMPLE_TYPE = UNSIGNED_INTEGER
  SAMPLE_BITS = 8
  BANDS = 1
  BAND_STORAGE_TYPE = BAND_SEQUENTIAL
  MAXIMUM = 255
  MEAN = 108.054
  MINIMUM = 1
  STANDARD_DEVIATION = 24.8208
END_OBJECT = IMAGE
/* MAP OBJECT DEFINITIONS */
OBJECT = IMAGE_MAP_PROJECTION
  ^DATA_SET_MAP_PROJECTION_CATALOG= "DSMAP.CAT"
  A_AXIS_RADIUS = 3396.0
  B_AXIS_RADIUS = 3396.0
  C_AXIS_RADIUS = 3396.0
  CENTER_LATITUDE = 0.0
  CENTER_LONGITUDE = 317.0
  COORDINATE_SYSTEM_NAME = PLANETOGRAPHIC
  COORDINATE_SYSTEM_TYPE = "BODY-FIXED ROTATING"
  EASTERNMOST_LONGITUDE = 317.951
  FIRST_STANDARD_PARALLEL = "N/A"
  LINE_FIRST_PIXEL = 1
  LINE_LAST_PIXEL = 20065
  LINE_PROJECTION_OFFSET = -81734.25
  MAP_PROJECTION_ROTATION = 0.0
  MAP_PROJECTION_TYPE = SINUSOIDAL
  MAP_RESOLUTION = 2370.85521546667
  MAP_SCALE = 0.025
  MAXIMUM_LATITUDE = -34.477
  MINIMUM_LATITUDE = -42.9773
  POSITIVE_LONGITUDE_DIRECTION = EAST
  REFERENCE_LATITUDE = "N/A"
  REFERENCE_LONGITUDE = "N/A"
  SAMPLE_FIRST_PIXEL = 1
  SAMPLE_LAST_PIXEL = 4223
  SAMPLE_PROJECTION_OFFSET = 2280.25
  SECOND_STANDARD_PARALLEL = "N/A"
  WESTERNMOST_LONGITUDE = 315.743
END_OBJECT = IMAGE_MAP_PROJECTION
END
