PDS_VERSION_ID = PDS3
/* FILE DATA ELEMENTS */
RECORD_TYPE = UNDEFINED
/* POINTERS TO DATA OBJECTS */
^IMAGE = ("HC771_0000_ND4.TIF")
/* IDENTIFICATION DATA ELEMENTS */
DATA_SET_ID = "MEX-M-HRSC-4-REFDR-MAPPROJECT-EXT4-V4.0"
DATA_SET_NAME = "MARS EXPRESS HRSC MAP PROJECTED REFDR EXTENSION4 V4.0"
DETECTOR_ID = MEX_HRSC_NADIR
EVENT_TYPE = "MARS-REGIONAL-MAPPING-Im-Gl-At"
INSTRUMENT_HOST_ID = MEX
INSTRUMENT_HOST_NAME = "MARS EXPRESS"
INSTRUMENT_ID = HRSC
INSTRUMENT_NAME = "HIGH RESOLUTION STEREO CAMERA"
MISSION_NAME = "MARS EXPRESS"
MISSION_PHASE_NAME = ME_Phase_29
PROCESSING_LEVEL_ID = 4
PRODUCT_CREATION_TIME = 2023-01-31T11:51:40.000Z
PRODUCT_ID = "HC771_0000_ND4.TIF"
RELEASE_ID = 0003
REVISION_ID = 0000
/* QUALITY DATA ELEMENTS */
DATA_QUALITY_ID = 1
DATA_QUALITY_DESC = "Data calculated based on original SPICE kernels"
/* TIME DATA ELEMENTS */
SPACECRAFT_CLOCK_START_COUNT = "1/0338222004.08234"
SPACECRAFT_CLOCK_STOP_COUNT = "1/0338222310.52655"
START_TIME = 2014-01-19T14:34:05.001Z
STOP_TIME = 2014-01-19T14:37:32.989Z
/* ORBITAL DATA ELEMENTS */
ASCENDING_NODE_LONGITUDE = 334.0
MAXIMUM_RESOLUTION = 0.0164
FOOTPRINT_POINT_LATITUDE = (-44.416,-44.4023,-44.3851,-44.3615, -44.3607,-44.3557,-43.9088,-43.2243, -42.7676,-42.3028,-42.0694,-41.6032, -41.2463,-41.0081,-40.7702,-40.5327, -40.2898,-40.0469,-39.8043,-39.438, -39.1902,-38.9428,-38.6958,-38.3191, -38.0671,-37.8153,-37.4319,-37.1753, -36.9191,-36.6588,-36.3977,-36.1369, -35.8733,-35.6075,-35.3422,-35.074, -34.8039,-34.5343,-34.1236,-33.8495, -33.5727,-33.294,-33.0157,-32.7328, -32.3088,-31.878,-31.7347,-31.7189, -31.7247,-31.7292,-31.7339,-31.7371, -31.7391,-31.7406,-31.7406,-31.7409, -32.0288,-32.3173,-32.6008,-32.8848, -33.306,-33.5856,-33.8635,-34.1385, -34.5507,-34.8211,-35.092,-35.3613, -35.6274,-35.8939,-36.1587,-36.4202, -36.6821,-36.9434,-37.2003,-37.4577, -37.8423,-38.0947,-38.3474,-38.7255, -38.9732,-39.2213,-39.4697,-39.7156, -39.9588,-40.2022,-40.446,-40.8062, -41.0448,-41.2836,-41.6418,-41.8753, -42.1091,-42.3432,-42.8096,-43.2674, -43.954,-44.29,-44.4021,-44.416)
FOOTPRINT_POINT_LONGITUDE = (59.0589,58.4528,57.8397,57.1406,57.121 ,57.0371,57.0607,57.0955,57.1156, 57.1361,57.1457,57.1642,57.1779,57.1866 ,57.1953,57.2051,57.2134,57.2217, 57.2297,57.2396,57.246,57.2525,57.2589, 57.268,57.2742,57.2788,57.2831,57.2885, 57.2923,57.297,57.3022,57.3066,57.3098, 57.3125,57.3143,57.3172,57.3205,57.3222 ,57.3253,57.3271,57.3282,57.3297, 57.3302,57.3323,57.3318,57.3336,57.335, 57.3363,57.6757,57.9898,58.3951,58.7539 ,59.0669,59.5779,59.6,59.6108,59.6025, 59.5936,59.5849,59.5759,59.5625,59.5533 ,59.5441,59.535,59.5207,59.5111,59.5016 ,59.4919,59.482,59.4721,59.4616,59.4517 ,59.4415,59.4312,59.4211,59.4107, 59.3951,59.3847,59.3739,59.3575,59.3467 ,59.3357,59.3245,59.3136,59.3024,59.291 ,59.2794,59.2621,59.2504,59.2387, 59.2207,59.2087,59.1966,59.1843,59.1593 ,59.1341,59.0951,59.0754,59.0687, 59.0589)
ORBIT_NUMBER = 12771
ORBITAL_ECCENTRICITY = 0.577
ORBITAL_INCLINATION = 86.9
ORBITAL_SEMIMAJOR_AXIS = 8774.83
PERIAPSIS_ALTITUDE = 329.27
PERIAPSIS_ARGUMENT_ANGLE = 295.71
PERIAPSIS_TIME = 2014-01-19T14:29:01.000Z
SPACECRAFT_ORIENTATION = (0.0,1.0,0.0)
^MEX_ORIENTATION_DESC = "MEX_ORIENTATION_DESC.TXT"
SPACECRAFT_POINTING_MODE = ACROSSTRACK
^MEX_POINTING_DESC = "MEX_POINTING_DESC.TXT"
RIGHT_ASCENSION = -1e+32
DECLINATION = -1e+32
OFFSET_ANGLE = 0.539
SPACECRAFT_SOLAR_DISTANCE = 2.49035e+08
TARGET_NAME = MARS
/* CAMERA DATA ELEMENTS */
DETECTOR_TEMPERATURE = 18.3705
FOCAL_PLANE_TEMPERATURE = 8.1755
INST_CMPRS_NAME = "DISCRETE COSINE TRANSFORMATION (DCT)"
INST_CMPRS_RATIO = 5.62485
INST_CMPRS_QUALITY = 0
INST_CMPRS_QUANTZ_TBL_ID = 0
INSTRUMENT_TEMPERATURE = 11.6418
LENS_TEMPERATURE = 8.5833
MACROPIXEL_SIZE = 1
MISSING_FRAMES = 0
PIXEL_SUBSAMPLING_FLAG = N
SIGNAL_CHAIN_ID = 0
/* RADIOMETRIC DATA ELEMENTS */
BANDWIDTH = 177.0
CENTER_FILTER_WAVELENGTH = 677.5
RADIANCE_OFFSET = 1.46488
RADIANCE_SCALING_FACTOR = 0.0114892
REFLECTANCE_SCALING_FACTOR = 0.000378525
MEX:REFLECTANCE_OFFSET = 0.0482619
/* IMAGE OBJECT DEFINITIONS */
OBJECT = IMAGE
  INTERCHANGE_FORMAT = BINARY
  LINES = 60199
  LINE_SAMPLES = 9761
  SAMPLE_TYPE = UNSIGNED_INTEGER
  SAMPLE_BITS = 8
  BANDS = 1
  BAND_STORAGE_TYPE = BAND_SEQUENTIAL
  MAXIMUM = 255
  MEAN = 138.125
  MINIMUM = 1
  STANDARD_DEVIATION = 32.4077
END_OBJECT = IMAGE
/* MAP OBJECT DEFINITIONS */
OBJECT = IMAGE_MAP_PROJECTION
  ^DATA_SET_MAP_PROJECTION_CATALOG= "DSMAP.CAT"
  A_AXIS_RADIUS = 3396.0
  B_AXIS_RADIUS = 3396.0
  C_AXIS_RADIUS = 3396.0
  CENTER_LATITUDE = 0.0
  CENTER_LONGITUDE = 58.0
  COORDINATE_SYSTEM_NAME = PLANETOGRAPHIC
  COORDINATE_SYSTEM_TYPE = "BODY-FIXED ROTATING"
  EASTERNMOST_LONGITUDE = 59.6108
  FIRST_STANDARD_PARALLEL = "N/A"
  LINE_FIRST_PIXEL = 1
  LINE_LAST_PIXEL = 60199
  LINE_PROJECTION_OFFSET = -150403.0
  MAP_PROJECTION_ROTATION = 0.0
  MAP_PROJECTION_TYPE = SINUSOIDAL
  MAP_RESOLUTION = 4741.71043093333
  MAP_SCALE = 0.0125
  MAXIMUM_LATITUDE = -31.7189
  MINIMUM_LATITUDE = -44.416
  POSITIVE_LONGITUDE_DIRECTION = EAST
  REFERENCE_LATITUDE = "N/A"
  REFERENCE_LONGITUDE = "N/A"
  SAMPLE_FIRST_PIXEL = 1
  SAMPLE_LAST_PIXEL = 9761
  SAMPLE_PROJECTION_OFFSET = 3263.0
  SECOND_STANDARD_PARALLEL = "N/A"
  WESTERNMOST_LONGITUDE = 57.0371
END_OBJECT = IMAGE_MAP_PROJECTION
END
