PDS_VERSION_ID = PDS3
/* FILE DATA ELEMENTS */
RECORD_TYPE = UNDEFINED
/* POINTERS TO DATA OBJECTS */
^IMAGE = ("HC766_0000_S14.TIF")
/* IDENTIFICATION DATA ELEMENTS */
DATA_SET_ID = "MEX-M-HRSC-4-REFDR-MAPPROJECT-EXT4-V4.0"
DATA_SET_NAME = "MARS EXPRESS HRSC MAP PROJECTED REFDR EXTENSION4 V4.0"
DETECTOR_ID = MEX_HRSC_S1
EVENT_TYPE = "MARS-REGIONAL-MAPPING-Im-Fl"
INSTRUMENT_HOST_ID = MEX
INSTRUMENT_HOST_NAME = "MARS EXPRESS"
INSTRUMENT_ID = HRSC
INSTRUMENT_NAME = "HIGH RESOLUTION STEREO CAMERA"
MISSION_NAME = "MARS EXPRESS"
MISSION_PHASE_NAME = ME_Phase_29
PROCESSING_LEVEL_ID = 4
PRODUCT_CREATION_TIME = 2023-01-31T11:51:40.000Z
PRODUCT_ID = "HC766_0000_S14.TIF"
RELEASE_ID = 0003
REVISION_ID = 0000
/* QUALITY DATA ELEMENTS */
DATA_QUALITY_ID = 1
DATA_QUALITY_DESC = "Data calculated based on original SPICE kernels"
/* TIME DATA ELEMENTS */
SPACECRAFT_CLOCK_START_COUNT = "1/0338096141.07305"
SPACECRAFT_CLOCK_STOP_COUNT = "1/0338096445.39814"
START_TIME = 2014-01-18T03:36:53.502Z
STOP_TIME = 2014-01-18T03:40:48.394Z
/* ORBITAL DATA ELEMENTS */
ASCENDING_NODE_LONGITUDE = 334.09
MAXIMUM_RESOLUTION = 0.0324
FOOTPRINT_POINT_LATITUDE = (-48.6381,-48.6241,-48.6065,-48.5906, -48.5901,-48.6395,-48.2521,-47.9962, -47.7392,-47.4826,-47.2288,-46.9745, -46.478,-46.2169,-45.7149,-45.3399, -44.9561,-44.6962,-44.4405,-44.1853, -43.9241,-43.6605,-43.402,-43.01, -42.7441,-42.4797,-42.2162,-41.9466, -41.678,-41.2743,-40.8635,-40.454, -40.1757,-39.759,-39.4805,-39.1982, -38.7764,-38.489,-38.2044,-37.9172, -37.6255,-37.3355,-36.894,-36.5995, -36.3005,-35.8522,-35.5483,-35.2448, -35.0911,-35.0692,-35.0732,-35.0764, -35.0797,-35.0818,-35.0819,-35.0824, -35.5405,-35.9952,-36.2952,-36.5954, -37.0387,-37.334,-37.6248,-37.9143, -38.3469,-38.6345,-38.9186,-39.202, -39.6268,-40.044,-40.3227,-40.5965, -40.8686,-41.1461,-41.5597,-41.8297, -42.0999,-42.3605,-42.6261,-42.8933, -43.1595,-43.4225,-43.6891,-43.9501, -44.3335,-44.7177,-45.1063,-45.3635, -45.8662,-46.3706,-46.6238,-46.8772, -47.1309,-47.3854,-47.6405,-48.0245, -48.2815,-48.5423,-48.6709,-48.6381)
FOOTPRINT_POINT_LONGITUDE = (210.635,209.945,209.237,208.681, 208.662,208.629,208.652,208.667,208.683 ,208.698,208.712,208.725,208.746, 208.762,208.784,208.8,208.816,208.826, 208.835,208.845,208.854,208.864,208.871 ,208.883,208.891,208.898,208.905, 208.911,208.917,208.926,208.935,208.942 ,208.947,208.953,208.957,208.96,208.964 ,208.967,208.969,208.971,208.973, 208.974,208.976,208.977,208.977,208.977 ,208.976,208.976,208.976,208.975, 209.394,210.076,210.539,211.222,211.245 ,211.253,211.238,211.223,211.213, 211.203,211.188,211.178,211.167,211.156 ,211.141,211.13,211.119,211.109,211.093 ,211.076,211.065,211.053,211.041, 211.031,211.017,211.006,210.994,210.98, 210.968,210.957,210.945,210.934,210.924 ,210.912,210.891,210.872,210.852,210.84 ,210.814,210.787,210.774,210.76,210.746 ,210.731,210.717,210.695,210.681, 210.665,210.658,210.635)
ORBIT_NUMBER = 12766
ORBITAL_ECCENTRICITY = 0.577
ORBITAL_INCLINATION = 86.9
ORBITAL_SEMIMAJOR_AXIS = 8772.96
PERIAPSIS_ALTITUDE = 329.24
PERIAPSIS_ARGUMENT_ANGLE = 296.55
PERIAPSIS_TIME = 2014-01-18T03:32:35.000Z
SPACECRAFT_ORIENTATION = (0.0,1.0,0.0)
^MEX_ORIENTATION_DESC = "MEX_ORIENTATION_DESC.TXT"
SPACECRAFT_POINTING_MODE = NADIR
^MEX_POINTING_DESC = "MEX_POINTING_DESC.TXT"
RIGHT_ASCENSION = -1e+32
DECLINATION = -1e+32
OFFSET_ANGLE = -1e+32
SPACECRAFT_SOLAR_DISTANCE = 2.49069e+08
TARGET_NAME = MARS
/* CAMERA DATA ELEMENTS */
DETECTOR_TEMPERATURE = 17.1471
FOCAL_PLANE_TEMPERATURE = 7.9716
INST_CMPRS_NAME = "DISCRETE COSINE TRANSFORMATION (DCT)"
INST_CMPRS_RATIO = 6.49712
INST_CMPRS_QUALITY = 0
INST_CMPRS_QUANTZ_TBL_ID = 0
INSTRUMENT_TEMPERATURE = 11.0301
LENS_TEMPERATURE = 8.9911
MACROPIXEL_SIZE = 2
PIXEL_SUBSAMPLING_FLAG = N
SIGNAL_CHAIN_ID = 1
/* RADIOMETRIC DATA ELEMENTS */
BANDWIDTH = 180.0
CENTER_FILTER_WAVELENGTH = 677.0
RADIANCE_OFFSET = 0.111106
RADIANCE_SCALING_FACTOR = 0.0188445
REFLECTANCE_SCALING_FACTOR = 0.000609909
MEX:REFLECTANCE_OFFSET = 0.003596
/* IMAGE OBJECT DEFINITIONS */
OBJECT = IMAGE
  INTERCHANGE_FORMAT = BINARY
  LINES = 32335
  LINE_SAMPLES = 4321
  SAMPLE_TYPE = UNSIGNED_INTEGER
  SAMPLE_BITS = 8
  BANDS = 1
  BAND_STORAGE_TYPE = BAND_SEQUENTIAL
  MAXIMUM = 255
  MEAN = 91.6798
  MINIMUM = 1
  STANDARD_DEVIATION = 24.7462
END_OBJECT = IMAGE
/* MAP OBJECT DEFINITIONS */
OBJECT = IMAGE_MAP_PROJECTION
  ^DATA_SET_MAP_PROJECTION_CATALOG= "DSMAP.CAT"
  A_AXIS_RADIUS = 3396.0
  B_AXIS_RADIUS = 3396.0
  C_AXIS_RADIUS = 3396.0
  CENTER_LATITUDE = 0.0
  CENTER_LONGITUDE = 210.0
  COORDINATE_SYSTEM_NAME = PLANETOGRAPHIC
  COORDINATE_SYSTEM_TYPE = "BODY-FIXED ROTATING"
  EASTERNMOST_LONGITUDE = 211.253
  FIRST_STANDARD_PARALLEL = "N/A"
  LINE_FIRST_PIXEL = 1
  LINE_LAST_PIXEL = 32335
  LINE_PROJECTION_OFFSET = -83166.25
  MAP_PROJECTION_ROTATION = 0.0
  MAP_PROJECTION_TYPE = SINUSOIDAL
  MAP_RESOLUTION = 2370.85521546667
  MAP_SCALE = 0.025
  MAXIMUM_LATITUDE = -35.0692
  MINIMUM_LATITUDE = -48.6709
  POSITIVE_LONGITUDE_DIRECTION = EAST
  REFERENCE_LATITUDE = "N/A"
  REFERENCE_LONGITUDE = "N/A"
  SAMPLE_FIRST_PIXEL = 1
  SAMPLE_LAST_PIXEL = 4321
  SAMPLE_PROJECTION_OFFSET = 2093.25
  SECOND_STANDARD_PARALLEL = "N/A"
  WESTERNMOST_LONGITUDE = 208.629
END_OBJECT = IMAGE_MAP_PROJECTION
END
