PDS_VERSION_ID = PDS3
/* FILE DATA ELEMENTS */
RECORD_TYPE = UNDEFINED
/* POINTERS TO DATA OBJECTS */
^IMAGE = ("HC758_0000_P14.TIF")
/* IDENTIFICATION DATA ELEMENTS */
DATA_SET_ID = "MEX-M-HRSC-4-REFDR-MAPPROJECT-EXT4-V4.0"
DATA_SET_NAME = "MARS EXPRESS HRSC MAP PROJECTED REFDR EXTENSION4 V4.0"
DETECTOR_ID = MEX_HRSC_P1
EVENT_TYPE = "MARS-REGIONAL-STEREO-Im-Gl-Pf"
INSTRUMENT_HOST_ID = MEX
INSTRUMENT_HOST_NAME = "MARS EXPRESS"
INSTRUMENT_ID = HRSC
INSTRUMENT_NAME = "HIGH RESOLUTION STEREO CAMERA"
MISSION_NAME = "MARS EXPRESS"
MISSION_PHASE_NAME = ME_Phase_29
PROCESSING_LEVEL_ID = 4
PRODUCT_CREATION_TIME = 2023-01-31T11:51:40.000Z
PRODUCT_ID = "HC758_0000_P14.TIF"
RELEASE_ID = 0003
REVISION_ID = 0000
/* QUALITY DATA ELEMENTS */
DATA_QUALITY_ID = 1
DATA_QUALITY_DESC = "Data calculated based on original SPICE kernels"
/* TIME DATA ELEMENTS */
SPACECRAFT_CLOCK_START_COUNT = "1/0337894898.09037"
SPACECRAFT_CLOCK_STOP_COUNT = "1/0337895108.50406"
START_TIME = 2014-01-15T19:42:38.887Z
STOP_TIME = 2014-01-15T19:44:55.370Z
/* ORBITAL DATA ELEMENTS */
ASCENDING_NODE_LONGITUDE = 334.25
MAXIMUM_RESOLUTION = 0.0313
FOOTPRINT_POINT_LATITUDE = (-46.7013,-46.6908,-46.6802,-46.6729, -46.665,-46.6581,-46.6576,-46.6975, -46.529,-46.3678,-46.131,-45.8913, -45.7294,-45.5679,-45.3191,-45.1527, -44.8313,-44.5925,-44.2721,-43.9498, -43.6311,-43.47,-43.1538,-42.9904, -42.8247,-42.6612,-42.3402,-42.1757, -42.0132,-41.847,-41.6818,-41.5184, -41.3518,-41.1852,-41.0188,-40.8504, -40.6802,-40.5098,-40.3405,-40.172, -40.0037,-39.831,-39.5721,-39.4, -39.2275,-39.0563,-38.8812,-38.7062, -38.5339,-38.447,-38.4438,-38.4489, -38.4557,-38.4592,-38.4606,-38.4646, -38.4647,-38.4649,-38.4654,-38.6401, -38.8162,-38.995,-39.174,-39.3476, -39.6059,-39.7785,-39.9524,-40.1235, -40.2926,-40.4578,-40.6274,-40.8819, -41.0485,-41.2133,-41.5373,-41.7097, -41.8801,-42.1272,-42.2943,-42.4584, -42.7005,-43.0226,-43.1902,-43.4379, -43.7578,-44.154,-44.4699,-44.6309, -44.7972,-44.9624,-45.1246,-45.2859, -45.6041,-45.8388,-46.159,-46.3263, -46.4952,-46.6586,-46.7406,-46.7013)
FOOTPRINT_POINT_LONGITUDE = (308.264,307.694,307.215,306.921, 306.627,306.388,306.369,306.332,306.345 ,306.353,306.36,306.37,306.378,306.385, 306.401,306.412,306.426,306.434,306.447 ,306.461,306.472,306.479,306.488, 306.494,306.501,306.506,306.513,306.519 ,306.524,306.528,306.532,306.534, 306.539,306.544,306.549,306.552,306.557 ,306.561,306.565,306.569,306.572, 306.575,306.58,306.583,306.587,306.589, 306.592,306.594,306.595,306.596,306.596 ,306.891,307.345,307.641,307.976,308.39 ,308.606,308.626,308.633,308.627, 308.621,308.617,308.614,308.609,308.6, 308.594,308.588,308.582,308.576,308.567 ,308.561,308.552,308.544,308.537, 308.519,308.516,308.512,308.501,308.497 ,308.491,308.479,308.462,308.458, 308.452,308.439,308.418,308.4,308.392, 308.388,308.383,308.376,308.368,308.349 ,308.332,308.313,308.308,308.304, 308.296,308.292,308.264)
ORBIT_NUMBER = 12758
ORBITAL_ECCENTRICITY = 0.577
ORBITAL_INCLINATION = 86.89
ORBITAL_SEMIMAJOR_AXIS = 8774.98
PERIAPSIS_ALTITUDE = 330.05
PERIAPSIS_ARGUMENT_ANGLE = 297.93
PERIAPSIS_TIME = 2014-01-15T19:38:23.000Z
SPACECRAFT_ORIENTATION = (0.0,1.0,0.0)
^MEX_ORIENTATION_DESC = "MEX_ORIENTATION_DESC.TXT"
SPACECRAFT_POINTING_MODE = NADIR
^MEX_POINTING_DESC = "MEX_POINTING_DESC.TXT"
RIGHT_ASCENSION = -1e+32
DECLINATION = -1e+32
OFFSET_ANGLE = -1e+32
SPACECRAFT_SOLAR_DISTANCE = 2.49117e+08
TARGET_NAME = MARS
/* CAMERA DATA ELEMENTS */
DETECTOR_TEMPERATURE = 17.7588
FOCAL_PLANE_TEMPERATURE = 8.1755
INST_CMPRS_NAME = "DISCRETE COSINE TRANSFORMATION (DCT)"
INST_CMPRS_RATIO = 8.87363
INST_CMPRS_QUALITY = 0
INST_CMPRS_QUANTZ_TBL_ID = 0
INSTRUMENT_TEMPERATURE = 11.6418
LENS_TEMPERATURE = 8.5833
MACROPIXEL_SIZE = 2
MISSING_FRAMES = 0
PIXEL_SUBSAMPLING_FLAG = N
SIGNAL_CHAIN_ID = 3
/* RADIOMETRIC DATA ELEMENTS */
BANDWIDTH = 174.0
CENTER_FILTER_WAVELENGTH = 675.0
RADIANCE_OFFSET = 0.192216
RADIANCE_SCALING_FACTOR = 0.0107415
REFLECTANCE_SCALING_FACTOR = 0.000358556
MEX:REFLECTANCE_OFFSET = 0.00641626
/* IMAGE OBJECT DEFINITIONS */
OBJECT = IMAGE
  INTERCHANGE_FORMAT = BINARY
  LINES = 19663
  LINE_SAMPLES = 3997
  SAMPLE_TYPE = UNSIGNED_INTEGER
  SAMPLE_BITS = 8
  BANDS = 1
  BAND_STORAGE_TYPE = BAND_SEQUENTIAL
  MAXIMUM = 255
  MEAN = 100.555
  MINIMUM = 1
  STANDARD_DEVIATION = 32.6569
END_OBJECT = IMAGE
/* MAP OBJECT DEFINITIONS */
OBJECT = IMAGE_MAP_PROJECTION
  ^DATA_SET_MAP_PROJECTION_CATALOG= "DSMAP.CAT"
  A_AXIS_RADIUS = 3396.0
  B_AXIS_RADIUS = 3396.0
  C_AXIS_RADIUS = 3396.0
  CENTER_LATITUDE = 0.0
  CENTER_LONGITUDE = 307.0
  COORDINATE_SYSTEM_NAME = PLANETOGRAPHIC
  COORDINATE_SYSTEM_TYPE = "BODY-FIXED ROTATING"
  EASTERNMOST_LONGITUDE = 308.633
  FIRST_STANDARD_PARALLEL = "N/A"
  LINE_FIRST_PIXEL = 1
  LINE_LAST_PIXEL = 19663
  LINE_PROJECTION_OFFSET = -91164.25
  MAP_PROJECTION_ROTATION = 0.0
  MAP_PROJECTION_TYPE = SINUSOIDAL
  MAP_RESOLUTION = 2370.85521546667
  MAP_SCALE = 0.025
  MAXIMUM_LATITUDE = -38.4438
  MINIMUM_LATITUDE = -46.7406
  POSITIVE_LONGITUDE_DIRECTION = EAST
  REFERENCE_LATITUDE = "N/A"
  REFERENCE_LONGITUDE = "N/A"
  SAMPLE_FIRST_PIXEL = 1
  SAMPLE_LAST_PIXEL = 3997
  SAMPLE_PROJECTION_OFFSET = 1053.25
  SECOND_STANDARD_PARALLEL = "N/A"
  WESTERNMOST_LONGITUDE = 306.332
END_OBJECT = IMAGE_MAP_PROJECTION
END
