PDS_VERSION_ID = PDS3
/* FILE DATA ELEMENTS */
RECORD_TYPE = UNDEFINED
/* POINTERS TO DATA OBJECTS */
^IMAGE = ("HC754_0000_IR4.TIF")
/* IDENTIFICATION DATA ELEMENTS */
DATA_SET_ID = "MEX-M-HRSC-4-REFDR-MAPPROJECT-EXT4-V4.0"
DATA_SET_NAME = "MARS EXPRESS HRSC MAP PROJECTED REFDR EXTENSION4 V4.0"
DETECTOR_ID = MEX_HRSC_IR
EVENT_TYPE = "MARS-REGIONAL-MAPPING-Im-Gl-Pf"
INSTRUMENT_HOST_ID = MEX
INSTRUMENT_HOST_NAME = "MARS EXPRESS"
INSTRUMENT_ID = HRSC
INSTRUMENT_NAME = "HIGH RESOLUTION STEREO CAMERA"
MISSION_NAME = "MARS EXPRESS"
MISSION_PHASE_NAME = ME_Phase_29
PROCESSING_LEVEL_ID = 4
PRODUCT_CREATION_TIME = 2023-01-31T11:51:40.000Z
PRODUCT_ID = "HC754_0000_IR4.TIF"
RELEASE_ID = 0003
REVISION_ID = 0000
/* QUALITY DATA ELEMENTS */
DATA_QUALITY_ID = 1
DATA_QUALITY_DESC = "Data calculated based on original SPICE kernels"
/* TIME DATA ELEMENTS */
SPACECRAFT_CLOCK_START_COUNT = "1/0337794274.09100"
SPACECRAFT_CLOCK_STOP_COUNT = "1/0337794441.15746"
START_TIME = 2014-01-14T15:45:43.050Z
STOP_TIME = 2014-01-14T15:47:16.603Z
/* ORBITAL DATA ELEMENTS */
ASCENDING_NODE_LONGITUDE = 334.32
MAXIMUM_RESOLUTION = 0.1307
FOOTPRINT_POINT_LATITUDE = (-45.3352,-45.3288,-45.3169,-45.3046, -45.2919,-45.2788,-45.2654,-45.2516, -45.2507,-45.2905,-45.02,-44.8037, -44.5877,-44.3722,-44.2105,-43.9958, -43.8345,-43.5664,-43.3478,-43.238, -43.0733,-42.9091,-42.6903,-42.5808, -42.3625,-42.2505,-42.0846,-41.9724, -41.8038,-41.6924,-41.581,-41.4698, -41.3587,-41.1907,-41.077,-40.9631, -40.8497,-40.736,-40.6226,-40.4526, -40.2826,-40.11,-39.9942,-39.8783, -39.7628,-39.7049,-39.6679,-39.6763, -39.6826,-39.6886,-39.6944,-39.7023, -39.7083,-39.7137,-39.7213,-39.7308, -39.7366,-39.7422,-39.7429,-39.7453, -39.919,-40.0926,-40.2083,-40.3239, -40.4371,-40.5503,-40.6639,-40.7776, -40.8917,-41.0054,-41.119,-41.2331, -41.3467,-41.4579,-41.569,-41.68, -41.8474,-42.0154,-42.1274,-42.2393, -42.351,-42.462,-42.6808,-42.7908, -42.9559,-43.0658,-43.2305,-43.3953, -43.5055,-43.6148,-43.8296,-43.9911, -44.2086,-44.3714,-44.6416,-44.856, -45.1269,-45.289,-45.3431,-45.3352)
FOOTPRINT_POINT_LONGITUDE = (358.714,358.543,358.243,357.946, 357.653,357.364,357.078,356.795,356.778 ,356.781,356.785,356.788,356.791, 356.794,356.796,356.799,356.801,356.804 ,356.806,356.807,356.808,356.809, 356.811,356.812,356.813,356.813,356.815 ,356.815,356.816,356.816,356.816, 356.817,356.817,356.817,356.817,356.818 ,356.818,356.818,356.818,356.818, 356.817,356.817,356.817,356.817,356.816 ,356.816,356.816,356.999,357.148, 357.299,357.45,357.659,357.83,357.984, 358.197,358.471,358.649,358.827,358.847 ,358.86,358.858,358.856,358.854,358.852 ,358.85,358.849,358.847,358.845,358.844 ,358.843,358.841,358.839,358.837, 358.835,358.833,358.831,358.828,358.826 ,358.825,358.823,358.821,358.819, 358.815,358.814,358.812,358.81,358.808, 358.805,358.803,358.801,358.797,358.795 ,358.794,358.793,358.788,358.782, 358.778,358.774,358.773,358.714)
ORBIT_NUMBER = 12754
ORBITAL_ECCENTRICITY = 0.577
ORBITAL_INCLINATION = 86.89
ORBITAL_SEMIMAJOR_AXIS = 8777.12
PERIAPSIS_ALTITUDE = 330.13
PERIAPSIS_ARGUMENT_ANGLE = 298.57
PERIAPSIS_TIME = 2014-01-14T15:41:08.000Z
SPACECRAFT_ORIENTATION = (0.0,1.0,0.0)
^MEX_ORIENTATION_DESC = "MEX_ORIENTATION_DESC.TXT"
SPACECRAFT_POINTING_MODE = ACROSSTRACK
^MEX_POINTING_DESC = "MEX_POINTING_DESC.TXT"
RIGHT_ASCENSION = -1e+32
DECLINATION = -1e+32
OFFSET_ANGLE = -1.05
SPACECRAFT_SOLAR_DISTANCE = 2.49139e+08
TARGET_NAME = MARS
/* CAMERA DATA ELEMENTS */
DETECTOR_TEMPERATURE = 17.5549
FOCAL_PLANE_TEMPERATURE = 7.9716
INST_CMPRS_NAME = "DISCRETE COSINE TRANSFORMATION (DCT)"
INST_CMPRS_RATIO = 6.63271
INST_CMPRS_QUALITY = 0
INST_CMPRS_QUANTZ_TBL_ID = 0
INSTRUMENT_TEMPERATURE = 10.6223
LENS_TEMPERATURE = 8.5833
MACROPIXEL_SIZE = 8
MISSING_FRAMES = 0
PIXEL_SUBSAMPLING_FLAG = N
SIGNAL_CHAIN_ID = 2
/* RADIOMETRIC DATA ELEMENTS */
BANDWIDTH = 81.0
CENTER_FILTER_WAVELENGTH = 955.5
RADIANCE_OFFSET = 0.0201157
RADIANCE_SCALING_FACTOR = 0.00370761
REFLECTANCE_SCALING_FACTOR = 0.000496482
MEX:REFLECTANCE_OFFSET = 0.00269368
/* IMAGE OBJECT DEFINITIONS */
OBJECT = IMAGE
  INTERCHANGE_FORMAT = BINARY
  LINES = 3348
  LINE_SAMPLES = 896
  SAMPLE_TYPE = UNSIGNED_INTEGER
  SAMPLE_BITS = 8
  BANDS = 1
  BAND_STORAGE_TYPE = BAND_SEQUENTIAL
  MAXIMUM = 255
  MEAN = 95.638
  MINIMUM = 1
  STANDARD_DEVIATION = 20.0942
END_OBJECT = IMAGE
/* MAP OBJECT DEFINITIONS */
OBJECT = IMAGE_MAP_PROJECTION
  ^DATA_SET_MAP_PROJECTION_CATALOG= "DSMAP.CAT"
  A_AXIS_RADIUS = 3396.0
  B_AXIS_RADIUS = 3396.0
  C_AXIS_RADIUS = 3396.0
  CENTER_LATITUDE = 0.0
  CENTER_LONGITUDE = 358.0
  COORDINATE_SYSTEM_NAME = PLANETOGRAPHIC
  COORDINATE_SYSTEM_TYPE = "BODY-FIXED ROTATING"
  EASTERNMOST_LONGITUDE = 358.86
  FIRST_STANDARD_PARALLEL = "N/A"
  LINE_FIRST_PIXEL = 1
  LINE_LAST_PIXEL = 3348
  LINE_PROJECTION_OFFSET = -23543.5625
  MAP_PROJECTION_ROTATION = 0.0
  MAP_PROJECTION_TYPE = SINUSOIDAL
  MAP_RESOLUTION = 592.713803866667
  MAP_SCALE = 0.1
  MAXIMUM_LATITUDE = -39.6679
  MINIMUM_LATITUDE = -45.3431
  POSITIVE_LONGITUDE_DIRECTION = EAST
  REFERENCE_LATITUDE = "N/A"
  REFERENCE_LONGITUDE = "N/A"
  SAMPLE_FIRST_PIXEL = 1
  SAMPLE_LAST_PIXEL = 896
  SAMPLE_PROJECTION_OFFSET = 530.5625
  SECOND_STANDARD_PARALLEL = "N/A"
  WESTERNMOST_LONGITUDE = 356.778
END_OBJECT = IMAGE_MAP_PROJECTION
END
