PDS_VERSION_ID = PDS3
/* FILE DATA ELEMENTS */
RECORD_TYPE = UNDEFINED
/* POINTERS TO DATA OBJECTS */
^IMAGE = ("HC754_0000_BL4.TIF")
/* IDENTIFICATION DATA ELEMENTS */
DATA_SET_ID = "MEX-M-HRSC-4-REFDR-MAPPROJECT-EXT4-V4.0"
DATA_SET_NAME = "MARS EXPRESS HRSC MAP PROJECTED REFDR EXTENSION4 V4.0"
DETECTOR_ID = MEX_HRSC_BLUE
EVENT_TYPE = "MARS-REGIONAL-MAPPING-Im-Gl-Pf"
INSTRUMENT_HOST_ID = MEX
INSTRUMENT_HOST_NAME = "MARS EXPRESS"
INSTRUMENT_ID = HRSC
INSTRUMENT_NAME = "HIGH RESOLUTION STEREO CAMERA"
MISSION_NAME = "MARS EXPRESS"
MISSION_PHASE_NAME = ME_Phase_29
PROCESSING_LEVEL_ID = 4
PRODUCT_CREATION_TIME = 2023-01-31T11:51:40.000Z
PRODUCT_ID = "HC754_0000_BL4.TIF"
RELEASE_ID = 0003
REVISION_ID = 0000
/* QUALITY DATA ELEMENTS */
DATA_QUALITY_ID = 1
DATA_QUALITY_DESC = "Data calculated based on original SPICE kernels"
/* TIME DATA ELEMENTS */
SPACECRAFT_CLOCK_START_COUNT = "1/0337794274.09100"
SPACECRAFT_CLOCK_STOP_COUNT = "1/0337794441.15746"
START_TIME = 2014-01-14T15:45:06.929Z
STOP_TIME = 2014-01-14T15:46:34.975Z
/* ORBITAL DATA ELEMENTS */
ASCENDING_NODE_LONGITUDE = 334.32
MAXIMUM_RESOLUTION = 0.1201
FOOTPRINT_POINT_LATITUDE = (-45.3602,-45.3612,-45.3623,-45.3627, -45.3623,-45.3612,-45.3595,-45.3571, -45.3569,-45.3455,-45.1807,-45.0708, -44.961,-44.8513,-44.6868,-44.5771, -44.4675,-44.358,-44.2485,-44.1389, -43.9747,-43.8654,-43.756,-43.6467, -43.4282,-43.2099,-42.9917,-42.7736, -42.5558,-42.3381,-42.1207,-41.903, -41.6861,-41.4691,-41.3064,-41.0878, -40.9766,-40.8655,-40.7544,-40.6433, -40.5324,-40.4214,-40.3105,-40.1997, -40.0336,-39.9224,-39.8088,-39.752, -39.7268,-39.7276,-39.7279,-39.7278, -39.7275,-39.7266,-39.7258,-39.7247, -39.7232,-39.7196,-39.7193,-39.7213, -39.835,-39.9485,-40.0594,-40.1705, -40.2816,-40.3928,-40.504,-40.6708, -40.7819,-40.8932,-41.0046,-41.1714, -41.3885,-41.6604,-41.9324,-42.1501, -42.3137,-42.4773,-42.6955,-42.8591, -43.0229,-43.2415,-43.3509,-43.5696, -43.6792,-43.7889,-43.8984,-44.0081, -44.1177,-44.2816,-44.4461,-44.5559, -44.6658,-44.776,-44.8859,-44.9958, -45.1058,-45.271,-45.326,-45.3602)
FOOTPRINT_POINT_LONGITUDE = (358.661,358.498,358.211,357.927, 357.647,357.371,357.097,356.827,356.81, 356.817,356.82,356.822,356.824,356.826, 356.829,356.83,356.832,356.834,356.835, 356.837,356.84,356.841,356.842,356.844, 356.847,356.849,356.852,356.854,356.856 ,356.858,356.859,356.861,356.862, 356.864,356.865,356.866,356.866,356.866 ,356.867,356.867,356.867,356.868, 356.868,356.868,356.868,356.868,356.868 ,356.868,356.868,357.128,357.411, 357.571,357.75,357.966,358.112,358.258, 358.424,358.759,358.778,358.79,358.789, 358.788,358.787,358.785,358.784,358.783 ,358.781,358.779,358.779,358.778, 358.776,358.774,358.772,358.768,358.764 ,358.762,358.76,358.757,358.754,358.753 ,358.751,358.749,358.747,358.745, 358.743,358.74,358.74,358.738,358.736, 358.738,358.736,358.735,358.732,358.729 ,358.727,358.726,358.724,358.721,358.72 ,358.661)
ORBIT_NUMBER = 12754
ORBITAL_ECCENTRICITY = 0.577
ORBITAL_INCLINATION = 86.89
ORBITAL_SEMIMAJOR_AXIS = 8777.12
PERIAPSIS_ALTITUDE = 330.13
PERIAPSIS_ARGUMENT_ANGLE = 298.57
PERIAPSIS_TIME = 2014-01-14T15:41:08.000Z
SPACECRAFT_ORIENTATION = (0.0,1.0,0.0)
^MEX_ORIENTATION_DESC = "MEX_ORIENTATION_DESC.TXT"
SPACECRAFT_POINTING_MODE = ACROSSTRACK
^MEX_POINTING_DESC = "MEX_POINTING_DESC.TXT"
RIGHT_ASCENSION = -1e+32
DECLINATION = -1e+32
OFFSET_ANGLE = -1.05
SPACECRAFT_SOLAR_DISTANCE = 2.49139e+08
TARGET_NAME = MARS
/* CAMERA DATA ELEMENTS */
DETECTOR_TEMPERATURE = 18.5744
FOCAL_PLANE_TEMPERATURE = 7.9716
INST_CMPRS_NAME = "DISCRETE COSINE TRANSFORMATION (DCT)"
INST_CMPRS_RATIO = 6.48431
INST_CMPRS_QUALITY = 0
INST_CMPRS_QUANTZ_TBL_ID = 0
INSTRUMENT_TEMPERATURE = 10.6223
LENS_TEMPERATURE = 8.5833
MACROPIXEL_SIZE = 8
MISSING_FRAMES = 0
PIXEL_SUBSAMPLING_FLAG = N
SIGNAL_CHAIN_ID = 2
/* RADIOMETRIC DATA ELEMENTS */
BANDWIDTH = 76.0
CENTER_FILTER_WAVELENGTH = 444.0
RADIANCE_OFFSET = 0.0636193
RADIANCE_SCALING_FACTOR = 0.00170238
REFLECTANCE_SCALING_FACTOR = 0.000108566
MEX:REFLECTANCE_OFFSET = 0.0040572
/* IMAGE OBJECT DEFINITIONS */
OBJECT = IMAGE
  INTERCHANGE_FORMAT = BINARY
  LINES = 3348
  LINE_SAMPLES = 896
  SAMPLE_TYPE = UNSIGNED_INTEGER
  SAMPLE_BITS = 8
  BANDS = 1
  BAND_STORAGE_TYPE = BAND_SEQUENTIAL
  MAXIMUM = 255
  MEAN = 112.449
  MINIMUM = 1
  STANDARD_DEVIATION = 15.3525
END_OBJECT = IMAGE
/* MAP OBJECT DEFINITIONS */
OBJECT = IMAGE_MAP_PROJECTION
  ^DATA_SET_MAP_PROJECTION_CATALOG= "DSMAP.CAT"
  A_AXIS_RADIUS = 3396.0
  B_AXIS_RADIUS = 3396.0
  C_AXIS_RADIUS = 3396.0
  CENTER_LATITUDE = 0.0
  CENTER_LONGITUDE = 358.0
  COORDINATE_SYSTEM_NAME = PLANETOGRAPHIC
  COORDINATE_SYSTEM_TYPE = "BODY-FIXED ROTATING"
  EASTERNMOST_LONGITUDE = 358.79
  FIRST_STANDARD_PARALLEL = "N/A"
  LINE_FIRST_PIXEL = 1
  LINE_LAST_PIXEL = 3348
  LINE_PROJECTION_OFFSET = -23543.5625
  MAP_PROJECTION_ROTATION = 0.0
  MAP_PROJECTION_TYPE = SINUSOIDAL
  MAP_RESOLUTION = 592.713803866667
  MAP_SCALE = 0.1
  MAXIMUM_LATITUDE = -39.7193
  MINIMUM_LATITUDE = -45.3627
  POSITIVE_LONGITUDE_DIRECTION = EAST
  REFERENCE_LATITUDE = "N/A"
  REFERENCE_LONGITUDE = "N/A"
  SAMPLE_FIRST_PIXEL = 1
  SAMPLE_LAST_PIXEL = 896
  SAMPLE_PROJECTION_OFFSET = 530.5625
  SECOND_STANDARD_PARALLEL = "N/A"
  WESTERNMOST_LONGITUDE = 356.81
END_OBJECT = IMAGE_MAP_PROJECTION
END
