PDS_VERSION_ID = PDS3
/* FILE DATA ELEMENTS */
RECORD_TYPE = UNDEFINED
/* POINTERS TO DATA OBJECTS */
^IMAGE = ("HC750_0000_ND4.TIF")
/* IDENTIFICATION DATA ELEMENTS */
DATA_SET_ID = "MEX-M-HRSC-4-REFDR-MAPPROJECT-EXT4-V4.0"
DATA_SET_NAME = "MARS EXPRESS HRSC MAP PROJECTED REFDR EXTENSION4 V4.0"
DETECTOR_ID = MEX_HRSC_NADIR
EVENT_TYPE = "MARS-REGIONAL-MAPPING-Vo-Eb-Ts"
INSTRUMENT_HOST_ID = MEX
INSTRUMENT_HOST_NAME = "MARS EXPRESS"
INSTRUMENT_ID = HRSC
INSTRUMENT_NAME = "HIGH RESOLUTION STEREO CAMERA"
MISSION_NAME = "MARS EXPRESS"
MISSION_PHASE_NAME = ME_Phase_29
PROCESSING_LEVEL_ID = 4
PRODUCT_CREATION_TIME = 2023-01-31T11:51:40.000Z
PRODUCT_ID = "HC750_0000_ND4.TIF"
RELEASE_ID = 0003
REVISION_ID = 0000
/* QUALITY DATA ELEMENTS */
DATA_QUALITY_ID = 1
DATA_QUALITY_DESC = "Data calculated based on original SPICE kernels"
/* TIME DATA ELEMENTS */
SPACECRAFT_CLOCK_START_COUNT = "1/0337693637.07315"
SPACECRAFT_CLOCK_STOP_COUNT = "1/0337693875.05000"
START_TIME = 2014-01-13T11:47:54.953Z
STOP_TIME = 2014-01-13T11:50:30.948Z
/* ORBITAL DATA ELEMENTS */
ASCENDING_NODE_LONGITUDE = 334.39
MAXIMUM_RESOLUTION = 0.015
FOOTPRINT_POINT_LATITUDE = (-45.183,-45.1726,-45.1622,-45.1545, -45.1421,-45.1416,-45.139,-44.9469, -44.7548,-44.5628,-44.3709,-44.1792, -43.9876,-43.7961,-43.6048,-43.4136, -43.2225,-42.8408,-42.4597,-42.0791, -41.6991,-41.3196,-40.9408,-40.5627, -40.1852,-39.9918,-39.7982,-39.6049, -39.4118,-39.2189,-38.9273,-38.7297, -38.5325,-38.3353,-38.1383,-37.9414, -37.7401,-37.5386,-37.3373,-37.1363, -36.9354,-36.7308,-36.5252,-36.32, -36.1151,-35.9102,-35.7007,-35.4915, -35.3869,-35.3622,-35.3737,-35.3778, -35.3815,-35.3824,-35.3824,-35.3827, -35.5924,-35.8024,-36.0107,-36.216, -36.4216,-36.6274,-36.936,-37.1371, -37.3386,-37.5403,-37.7422,-38.0432, -38.2405,-38.4381,-38.7349,-38.9329, -39.1289,-39.3222,-39.5157,-39.7095, -39.9034,-40.0972,-40.289,-40.6676, -41.1417,-41.5217,-41.9022,-42.2833, -42.474,-42.6649,-42.856,-43.0473, -43.2386,-43.4301,-43.6218,-43.8136, -44.0054,-44.1973,-44.3895,-44.5818, -44.7744,-45.0631,-45.1594,-45.183)
FOOTPRINT_POINT_LONGITUDE = (45.9033,45.315,44.8517,44.5491,44.1213 ,44.1035,44.0677,44.0775,44.0866, 44.0945,44.103,44.1109,44.1188,44.1264, 44.1341,44.1414,44.1485,44.1627,44.1756 ,44.1887,44.2004,44.2106,44.2211,44.232 ,44.2431,44.2463,44.2483,44.2532,44.258 ,44.2624,44.267,44.27,44.276,44.2795, 44.2828,44.2857,44.2884,44.2912,44.2937 ,44.2959,44.2986,44.3011,44.3015, 44.3033,44.3055,44.3072,44.3086,44.3108 ,44.3113,44.3114,45.0622,45.4292, 45.9912,46.2446,46.264,46.2735,46.2675, 46.2592,46.2533,46.2477,46.2417,46.236, 46.2296,46.2279,46.2226,46.2168,46.2108 ,46.2013,46.1966,46.1907,46.1788, 46.1721,46.1686,46.1626,46.1549,46.1447 ,46.1369,46.1342,46.1292,46.1171, 46.0996,46.0844,46.0702,46.0575,46.0505 ,46.0434,46.0359,46.0263,46.0176,46.009 ,46.0002,45.9901,45.9861,45.9786, 45.9693,45.9606,45.9468,45.9376,45.9328 ,45.9033)
ORBIT_NUMBER = 12750
ORBITAL_ECCENTRICITY = 0.577
ORBITAL_INCLINATION = 86.89
ORBITAL_SEMIMAJOR_AXIS = 8780.4
PERIAPSIS_ALTITUDE = 330.14
PERIAPSIS_ARGUMENT_ANGLE = 299.27
PERIAPSIS_TIME = 2014-01-13T11:43:58.000Z
SPACECRAFT_ORIENTATION = (0.0,1.0,0.0)
^MEX_ORIENTATION_DESC = "MEX_ORIENTATION_DESC.TXT"
SPACECRAFT_POINTING_MODE = NADIR
^MEX_POINTING_DESC = "MEX_POINTING_DESC.TXT"
RIGHT_ASCENSION = -1e+32
DECLINATION = -1e+32
OFFSET_ANGLE = -1e+32
SPACECRAFT_SOLAR_DISTANCE = 2.49158e+08
TARGET_NAME = MARS
/* CAMERA DATA ELEMENTS */
DETECTOR_TEMPERATURE = 18.1666
FOCAL_PLANE_TEMPERATURE = 8.1755
INST_CMPRS_NAME = "DISCRETE COSINE TRANSFORMATION (DCT)"
INST_CMPRS_RATIO = 5.709
INST_CMPRS_QUALITY = 0
INST_CMPRS_QUANTZ_TBL_ID = 0
INSTRUMENT_TEMPERATURE = 11.234
LENS_TEMPERATURE = 8.9911
MACROPIXEL_SIZE = 1
MISSING_FRAMES = 0
PIXEL_SUBSAMPLING_FLAG = N
SIGNAL_CHAIN_ID = 0
/* RADIOMETRIC DATA ELEMENTS */
BANDWIDTH = 177.0
CENTER_FILTER_WAVELENGTH = 677.5
RADIANCE_OFFSET = 0.194694
RADIANCE_SCALING_FACTOR = 0.0119979
REFLECTANCE_SCALING_FACTOR = 0.000395676
MEX:REFLECTANCE_OFFSET = 0.00642074
/* IMAGE OBJECT DEFINITIONS */
OBJECT = IMAGE
  INTERCHANGE_FORMAT = BINARY
  LINES = 46563
  LINE_SAMPLES = 8041
  SAMPLE_TYPE = UNSIGNED_INTEGER
  SAMPLE_BITS = 8
  BANDS = 1
  BAND_STORAGE_TYPE = BAND_SEQUENTIAL
  MAXIMUM = 255
  MEAN = 98.6543
  MINIMUM = 1
  STANDARD_DEVIATION = 30.3603
END_OBJECT = IMAGE
/* MAP OBJECT DEFINITIONS */
OBJECT = IMAGE_MAP_PROJECTION
  ^DATA_SET_MAP_PROJECTION_CATALOG= "DSMAP.CAT"
  A_AXIS_RADIUS = 3396.0
  B_AXIS_RADIUS = 3396.0
  C_AXIS_RADIUS = 3396.0
  CENTER_LATITUDE = 0.0
  CENTER_LONGITUDE = 45.0
  COORDINATE_SYSTEM_NAME = PLANETOGRAPHIC
  COORDINATE_SYSTEM_TYPE = "BODY-FIXED ROTATING"
  EASTERNMOST_LONGITUDE = 46.2735
  FIRST_STANDARD_PARALLEL = "N/A"
  LINE_FIRST_PIXEL = 1
  LINE_LAST_PIXEL = 46563
  LINE_PROJECTION_OFFSET = -167679.0
  MAP_PROJECTION_ROTATION = 0.0
  MAP_PROJECTION_TYPE = SINUSOIDAL
  MAP_RESOLUTION = 4741.71043093333
  MAP_SCALE = 0.0125
  MAXIMUM_LATITUDE = -35.3622
  MINIMUM_LATITUDE = -45.183
  POSITIVE_LONGITUDE_DIRECTION = EAST
  REFERENCE_LATITUDE = "N/A"
  REFERENCE_LONGITUDE = "N/A"
  SAMPLE_FIRST_PIXEL = 1
  SAMPLE_LAST_PIXEL = 8041
  SAMPLE_PROJECTION_OFFSET = 3119.0
  SECOND_STANDARD_PARALLEL = "N/A"
  WESTERNMOST_LONGITUDE = 44.0677
END_OBJECT = IMAGE_MAP_PROJECTION
END
