PDS_VERSION_ID = PDS3
/* FILE DATA ELEMENTS */
RECORD_TYPE = UNDEFINED
/* POINTERS TO DATA OBJECTS */
^IMAGE = ("HC750_0000_IR4.TIF")
/* IDENTIFICATION DATA ELEMENTS */
DATA_SET_ID = "MEX-M-HRSC-4-REFDR-MAPPROJECT-EXT4-V4.0"
DATA_SET_NAME = "MARS EXPRESS HRSC MAP PROJECTED REFDR EXTENSION4 V4.0"
DETECTOR_ID = MEX_HRSC_IR
EVENT_TYPE = "MARS-REGIONAL-MAPPING-Vo-Eb-Ts"
INSTRUMENT_HOST_ID = MEX
INSTRUMENT_HOST_NAME = "MARS EXPRESS"
INSTRUMENT_ID = HRSC
INSTRUMENT_NAME = "HIGH RESOLUTION STEREO CAMERA"
MISSION_NAME = "MARS EXPRESS"
MISSION_PHASE_NAME = ME_Phase_29
PROCESSING_LEVEL_ID = 4
PRODUCT_CREATION_TIME = 2023-01-31T11:51:40.000Z
PRODUCT_ID = "HC750_0000_IR4.TIF"
RELEASE_ID = 0003
REVISION_ID = 0000
/* QUALITY DATA ELEMENTS */
DATA_QUALITY_ID = 1
DATA_QUALITY_DESC = "Data calculated based on original SPICE kernels"
/* TIME DATA ELEMENTS */
SPACECRAFT_CLOCK_START_COUNT = "1/0337693637.07315"
SPACECRAFT_CLOCK_STOP_COUNT = "1/0337693875.05000"
START_TIME = 2014-01-13T11:48:24.343Z
STOP_TIME = 2014-01-13T11:51:09.301Z
/* ORBITAL DATA ELEMENTS */
ASCENDING_NODE_LONGITUDE = 334.39
MAXIMUM_RESOLUTION = 0.0648
FOOTPRINT_POINT_LATITUDE = (-45.1311,-45.1194,-45.1118,-45.1055, -45.0924,-45.0919,-45.1425,-44.9548, -44.6707,-44.3925,-44.2057,-44.0192, -43.8329,-43.647,-43.2755,-42.9047, -42.5344,-42.1654,-41.9758,-41.7851, -41.5039,-41.3153,-41.1287,-40.84, -40.6456,-40.3545,-40.1635,-39.9754, -39.7833,-39.5861,-39.3895,-39.1942, -38.9978,-38.801,-38.6002,-38.2997, -38.1006,-37.8987,-37.6969,-37.4943, -37.2932,-37.0891,-36.8828,-36.5776, -36.268,-36.0581,-35.8495,-35.5354, -35.4284,-35.3651,-35.3707,-35.3805, -35.3812,-35.387,-35.3935,-35.3935, -35.3947,-35.6077,-35.8145,-36.0189, -36.2273,-36.4351,-36.6402,-36.846, -37.0645,-37.2729,-37.4752,-37.6782, -37.9816,-38.1856,-38.3847,-38.6833, -38.9786,-39.1795,-39.3749,-39.567, -39.7526,-39.954,-40.2518,-40.4426, -40.6373,-40.8314,-41.0251,-41.2123, -41.5843,-41.8678,-42.0587,-42.2496, -42.6203,-42.8061,-43.3554,-43.7243, -43.9154,-44.1045,-44.2925,-44.4784, -44.7509,-45.0374,-45.1302,-45.1311)
FOOTPRINT_POINT_LONGITUDE = (45.944,45.2637,44.8975,44.6187,44.0955 ,44.078,44.0432,44.0516,44.0654,44.0757 ,44.0833,44.0906,44.0977,44.1046, 44.1179,44.1307,44.143,44.1544,44.1603, 44.1667,44.1736,44.1788,44.1829,44.1908 ,44.1965,44.2047,44.2085,44.2102, 44.2121,44.2167,44.2209,44.2244,44.2281 ,44.23,44.2339,44.2394,44.2424,44.2446, 44.2466,44.249,44.2507,44.2525,44.2545, 44.2554,44.2574,44.2589,44.2598,44.2616 ,44.2622,44.2623,44.7636,44.9941, 45.4784,45.7503,46.3147,46.3341,46.3406 ,46.3345,46.3274,46.319,46.3121,46.3052 ,46.2987,46.2923,46.2915,46.286,46.2796 ,46.2734,46.263,46.2572,46.2507,46.2405 ,46.2283,46.2231,46.2163,46.2077, 46.1958,46.1911,46.1842,46.1765,46.1705 ,46.1639,46.157,46.1481,46.1309,46.1197 ,46.1129,46.1063,46.0915,46.084,46.0565 ,46.0384,46.0323,46.025,46.017,46.0078, 45.9903,45.9794,45.9743,45.944)
ORBIT_NUMBER = 12750
ORBITAL_ECCENTRICITY = 0.577
ORBITAL_INCLINATION = 86.89
ORBITAL_SEMIMAJOR_AXIS = 8780.4
PERIAPSIS_ALTITUDE = 330.14
PERIAPSIS_ARGUMENT_ANGLE = 299.27
PERIAPSIS_TIME = 2014-01-13T11:43:58.000Z
SPACECRAFT_ORIENTATION = (0.0,1.0,0.0)
^MEX_ORIENTATION_DESC = "MEX_ORIENTATION_DESC.TXT"
SPACECRAFT_POINTING_MODE = NADIR
^MEX_POINTING_DESC = "MEX_POINTING_DESC.TXT"
RIGHT_ASCENSION = -1e+32
DECLINATION = -1e+32
OFFSET_ANGLE = -1e+32
SPACECRAFT_SOLAR_DISTANCE = 2.49158e+08
TARGET_NAME = MARS
/* CAMERA DATA ELEMENTS */
DETECTOR_TEMPERATURE = 17.351
FOCAL_PLANE_TEMPERATURE = 8.1755
INST_CMPRS_NAME = "DISCRETE COSINE TRANSFORMATION (DCT)"
INST_CMPRS_RATIO = 9.32208
INST_CMPRS_QUALITY = 0
INST_CMPRS_QUANTZ_TBL_ID = 0
INSTRUMENT_TEMPERATURE = 11.234
LENS_TEMPERATURE = 8.9911
MACROPIXEL_SIZE = 4
MISSING_FRAMES = 0
PIXEL_SUBSAMPLING_FLAG = N
SIGNAL_CHAIN_ID = 2
/* RADIOMETRIC DATA ELEMENTS */
BANDWIDTH = 81.0
CENTER_FILTER_WAVELENGTH = 955.5
RADIANCE_OFFSET = 0.0
RADIANCE_SCALING_FACTOR = 0.00337891
REFLECTANCE_SCALING_FACTOR = 0.000452536
MEX:REFLECTANCE_OFFSET = 0.0
/* IMAGE OBJECT DEFINITIONS */
OBJECT = IMAGE
  INTERCHANGE_FORMAT = BINARY
  LINES = 11641
  LINE_SAMPLES = 2011
  SAMPLE_TYPE = UNSIGNED_INTEGER
  SAMPLE_BITS = 8
  BANDS = 1
  BAND_STORAGE_TYPE = BAND_SEQUENTIAL
  MAXIMUM = 255
  MEAN = 96.3654
  MINIMUM = 1
  STANDARD_DEVIATION = 30.1513
END_OBJECT = IMAGE
/* MAP OBJECT DEFINITIONS */
OBJECT = IMAGE_MAP_PROJECTION
  ^DATA_SET_MAP_PROJECTION_CATALOG= "DSMAP.CAT"
  A_AXIS_RADIUS = 3396.0
  B_AXIS_RADIUS = 3396.0
  C_AXIS_RADIUS = 3396.0
  CENTER_LATITUDE = 0.0
  CENTER_LONGITUDE = 45.0
  COORDINATE_SYSTEM_NAME = PLANETOGRAPHIC
  COORDINATE_SYSTEM_TYPE = "BODY-FIXED ROTATING"
  EASTERNMOST_LONGITUDE = 46.3406
  FIRST_STANDARD_PARALLEL = "N/A"
  LINE_FIRST_PIXEL = 1
  LINE_LAST_PIXEL = 11641
  LINE_PROJECTION_OFFSET = -41920.125
  MAP_PROJECTION_ROTATION = 0.0
  MAP_PROJECTION_TYPE = SINUSOIDAL
  MAP_RESOLUTION = 1185.42760773333
  MAP_SCALE = 0.05
  MAXIMUM_LATITUDE = -35.3651
  MINIMUM_LATITUDE = -45.1425
  POSITIVE_LONGITUDE_DIRECTION = EAST
  REFERENCE_LATITUDE = "N/A"
  REFERENCE_LONGITUDE = "N/A"
  SAMPLE_FIRST_PIXEL = 1
  SAMPLE_LAST_PIXEL = 2011
  SAMPLE_PROJECTION_OFFSET = 779.375
  SECOND_STANDARD_PARALLEL = "N/A"
  WESTERNMOST_LONGITUDE = 44.0432
END_OBJECT = IMAGE_MAP_PROJECTION
END
