PDS_VERSION_ID = PDS3
/* FILE DATA ELEMENTS */
RECORD_TYPE = UNDEFINED
/* POINTERS TO DATA OBJECTS */
^IMAGE = ("HC750_0000_BL4.TIF")
/* IDENTIFICATION DATA ELEMENTS */
DATA_SET_ID = "MEX-M-HRSC-4-REFDR-MAPPROJECT-EXT4-V4.0"
DATA_SET_NAME = "MARS EXPRESS HRSC MAP PROJECTED REFDR EXTENSION4 V4.0"
DETECTOR_ID = MEX_HRSC_BLUE
EVENT_TYPE = "MARS-REGIONAL-MAPPING-Vo-Eb-Ts"
INSTRUMENT_HOST_ID = MEX
INSTRUMENT_HOST_NAME = "MARS EXPRESS"
INSTRUMENT_ID = HRSC
INSTRUMENT_NAME = "HIGH RESOLUTION STEREO CAMERA"
MISSION_NAME = "MARS EXPRESS"
MISSION_PHASE_NAME = ME_Phase_29
PROCESSING_LEVEL_ID = 4
PRODUCT_CREATION_TIME = 2023-01-31T11:51:40.000Z
PRODUCT_ID = "HC750_0000_BL4.TIF"
RELEASE_ID = 0003
REVISION_ID = 0000
/* QUALITY DATA ELEMENTS */
DATA_QUALITY_ID = 1
DATA_QUALITY_DESC = "Data calculated based on original SPICE kernels"
/* TIME DATA ELEMENTS */
SPACECRAFT_CLOCK_START_COUNT = "1/0337693637.07315"
SPACECRAFT_CLOCK_STOP_COUNT = "1/0337693875.05000"
START_TIME = 2014-01-13T11:47:49.232Z
STOP_TIME = 2014-01-13T11:50:23.652Z
/* ORBITAL DATA ELEMENTS */
ASCENDING_NODE_LONGITUDE = 334.39
MAXIMUM_RESOLUTION = 0.0597
FOOTPRINT_POINT_LATITUDE = (-45.1925,-45.1874,-45.1787,-45.1712, -45.151,-45.1505,-45.1363,-44.8477, -44.5576,-44.3648,-44.0757,-43.8832, -43.6907,-43.4984,-43.3062,-43.1142, -42.9222,-42.7305,-42.3475,-42.0603, -41.7737,-41.5821,-41.2004,-40.8194, -40.534,-40.1547,-39.7733,-39.5791, -39.3849,-39.1907,-38.9966,-38.8015, -38.6081,-38.41,-38.2115,-38.0126, -37.8143,-37.5171,-37.213,-37.0104, -36.8081,-36.6054,-36.4014,-36.1944, -35.9878,-35.678,-35.4722,-35.3666, -35.3644,-35.3705,-35.3747,-35.3785, -35.3822,-35.3829,-35.3829,-35.3841, -35.6978,-36.009,-36.2163,-36.424, -36.6281,-36.8307,-37.0314,-37.3355, -37.5386,-37.7371,-37.9362,-38.1348, -38.3336,-38.5326,-38.8275,-39.1189, -39.3137,-39.6074,-39.8042,-40.1822, -40.5635,-40.9439,-41.1353,-41.3267, -41.5185,-41.7107,-41.9021,-42.1891, -42.3807,-42.5725,-42.7646,-42.9571, -43.1503,-43.4396,-43.6328,-43.8263, -44.0178,-44.2102,-44.4036,-44.5972, -44.7923,-45.0813,-45.1784,-45.1925)
FOOTPRINT_POINT_LONGITUDE = (45.8978,45.5978,45.1647,44.8484, 44.1325,44.1159,44.0854,44.101,44.1125, 44.1211,44.1332,44.1412,44.1488,44.1563 ,44.1637,44.171,44.178,44.1852,44.1989, 44.2081,44.2177,44.2224,44.2336,44.2446 ,44.2523,44.2635,44.2689,44.2739, 44.2788,44.2832,44.2874,44.2893,44.2937 ,44.2985,44.3022,44.3049,44.3081, 44.3123,44.3163,44.319,44.3218,44.3233, 44.3246,44.3266,44.3288,44.3312,44.3334 ,44.334,44.334,44.6559,45.0672,45.337, 45.8595,46.2398,46.2579,46.2639,46.2536 ,46.2442,46.2386,46.2325,46.2271,46.222 ,46.221,46.214,46.2083,46.2027,46.1962, 46.191,46.1857,46.1801,46.1693,46.1613, 46.1551,46.1432,46.1331,46.1258,46.1125 ,46.1019,46.0943,46.087,46.079,46.0704, 46.0637,46.0542,46.0474,46.0406,46.0333 ,46.0252,46.0156,46.0027,45.9937, 45.9841,45.9793,45.9726,45.9635,45.9544 ,45.9417,45.9317,45.9267,45.8978)
ORBIT_NUMBER = 12750
ORBITAL_ECCENTRICITY = 0.577
ORBITAL_INCLINATION = 86.89
ORBITAL_SEMIMAJOR_AXIS = 8780.4
PERIAPSIS_ALTITUDE = 330.14
PERIAPSIS_ARGUMENT_ANGLE = 299.27
PERIAPSIS_TIME = 2014-01-13T11:43:58.000Z
SPACECRAFT_ORIENTATION = (0.0,1.0,0.0)
^MEX_ORIENTATION_DESC = "MEX_ORIENTATION_DESC.TXT"
SPACECRAFT_POINTING_MODE = NADIR
^MEX_POINTING_DESC = "MEX_POINTING_DESC.TXT"
RIGHT_ASCENSION = -1e+32
DECLINATION = -1e+32
OFFSET_ANGLE = -1e+32
SPACECRAFT_SOLAR_DISTANCE = 2.49158e+08
TARGET_NAME = MARS
/* CAMERA DATA ELEMENTS */
DETECTOR_TEMPERATURE = 18.1666
FOCAL_PLANE_TEMPERATURE = 8.1755
INST_CMPRS_NAME = "DISCRETE COSINE TRANSFORMATION (DCT)"
INST_CMPRS_RATIO = 4.3895
INST_CMPRS_QUALITY = 0
INST_CMPRS_QUANTZ_TBL_ID = 0
INSTRUMENT_TEMPERATURE = 11.234
LENS_TEMPERATURE = 8.9911
MACROPIXEL_SIZE = 4
MISSING_FRAMES = 0
PIXEL_SUBSAMPLING_FLAG = N
SIGNAL_CHAIN_ID = 2
/* RADIOMETRIC DATA ELEMENTS */
BANDWIDTH = 76.0
CENTER_FILTER_WAVELENGTH = 444.0
RADIANCE_OFFSET = 0.0549837
RADIANCE_SCALING_FACTOR = 0.00200221
REFLECTANCE_SCALING_FACTOR = 0.000127707
MEX:REFLECTANCE_OFFSET = 0.00350703
/* IMAGE OBJECT DEFINITIONS */
OBJECT = IMAGE
  INTERCHANGE_FORMAT = BINARY
  LINES = 11641
  LINE_SAMPLES = 2011
  SAMPLE_TYPE = UNSIGNED_INTEGER
  SAMPLE_BITS = 8
  BANDS = 1
  BAND_STORAGE_TYPE = BAND_SEQUENTIAL
  MAXIMUM = 255
  MEAN = 134.062
  MINIMUM = 1
  STANDARD_DEVIATION = 31.4417
END_OBJECT = IMAGE
/* MAP OBJECT DEFINITIONS */
OBJECT = IMAGE_MAP_PROJECTION
  ^DATA_SET_MAP_PROJECTION_CATALOG= "DSMAP.CAT"
  A_AXIS_RADIUS = 3396.0
  B_AXIS_RADIUS = 3396.0
  C_AXIS_RADIUS = 3396.0
  CENTER_LATITUDE = 0.0
  CENTER_LONGITUDE = 45.0
  COORDINATE_SYSTEM_NAME = PLANETOGRAPHIC
  COORDINATE_SYSTEM_TYPE = "BODY-FIXED ROTATING"
  EASTERNMOST_LONGITUDE = 46.2639
  FIRST_STANDARD_PARALLEL = "N/A"
  LINE_FIRST_PIXEL = 1
  LINE_LAST_PIXEL = 11641
  LINE_PROJECTION_OFFSET = -41920.125
  MAP_PROJECTION_ROTATION = 0.0
  MAP_PROJECTION_TYPE = SINUSOIDAL
  MAP_RESOLUTION = 1185.42760773333
  MAP_SCALE = 0.05
  MAXIMUM_LATITUDE = -35.3644
  MINIMUM_LATITUDE = -45.1925
  POSITIVE_LONGITUDE_DIRECTION = EAST
  REFERENCE_LATITUDE = "N/A"
  REFERENCE_LONGITUDE = "N/A"
  SAMPLE_FIRST_PIXEL = 1
  SAMPLE_LAST_PIXEL = 2011
  SAMPLE_PROJECTION_OFFSET = 779.375
  SECOND_STANDARD_PARALLEL = "N/A"
  WESTERNMOST_LONGITUDE = 44.0854
END_OBJECT = IMAGE_MAP_PROJECTION
END
