PDS_VERSION_ID = PDS3
/* FILE DATA ELEMENTS */
RECORD_TYPE = UNDEFINED
/* POINTERS TO DATA OBJECTS */
^IMAGE = ("HC748_0000_S24.TIF")
/* IDENTIFICATION DATA ELEMENTS */
DATA_SET_ID = "MEX-M-HRSC-4-REFDR-MAPPROJECT-EXT4-V4.0"
DATA_SET_NAME = "MARS EXPRESS HRSC MAP PROJECTED REFDR EXTENSION4 V4.0"
DETECTOR_ID = MEX_HRSC_S2
EVENT_TYPE = "MARS-REGIONAL-MAPPING-Te-Im-Pf"
INSTRUMENT_HOST_ID = MEX
INSTRUMENT_HOST_NAME = "MARS EXPRESS"
INSTRUMENT_ID = HRSC
INSTRUMENT_NAME = "HIGH RESOLUTION STEREO CAMERA"
MISSION_NAME = "MARS EXPRESS"
MISSION_PHASE_NAME = ME_Phase_29
PROCESSING_LEVEL_ID = 4
PRODUCT_CREATION_TIME = 2023-01-31T11:51:40.000Z
PRODUCT_ID = "HC748_0000_S24.TIF"
RELEASE_ID = 0003
REVISION_ID = 0000
/* QUALITY DATA ELEMENTS */
DATA_QUALITY_ID = 1
DATA_QUALITY_DESC = "Data calculated based on original SPICE kernels"
/* TIME DATA ELEMENTS */
SPACECRAFT_CLOCK_START_COUNT = "1/0337643322.09054"
SPACECRAFT_CLOCK_STOP_COUNT = "1/0337643534.39064"
START_TIME = 2014-01-12T21:48:46.886Z
STOP_TIME = 2014-01-12T21:50:51.267Z
/* ORBITAL DATA ELEMENTS */
ASCENDING_NODE_LONGITUDE = 334.43
MAXIMUM_RESOLUTION = 0.0305
FOOTPRINT_POINT_LATITUDE = (-44.8851,-44.8786,-44.8731,-44.8612, -44.8532,-44.8425,-44.8419,-44.8, -44.5249,-44.2258,-44.0617,-43.8977, -43.6519,-43.4878,-43.3236,-43.1595, -42.9955,-42.8312,-42.667,-42.5029, -42.3392,-42.175,-41.9302,-41.6067, -41.4399,-41.2753,-41.029,-40.8654, -40.7018,-40.5382,-40.2928,-40.1292, -39.9658,-39.8025,-39.4758,-39.1495, -38.9051,-38.5796,-38.4158,-38.2483, -38.0807,-37.9132,-37.7457,-37.5785, -37.3276,-37.1588,-36.9874,-36.7303, -36.6446,-36.5957,-36.6066,-36.6126, -36.6182,-36.6232,-36.6266,-36.6273, -36.6278,-36.8875,-37.0547,-37.3089, -37.5584,-37.726,-37.8934,-38.0611, -38.3126,-38.5622,-38.8074,-38.971, -39.1345,-39.2982,-39.4618,-39.6255, -39.7894,-39.9532,-40.1987,-40.3628, -40.5265,-40.7724,-40.9363,-41.1008, -41.3467,-41.5107,-41.6746,-41.8389, -42.003,-42.1674,-42.4136,-42.5779, -42.7424,-42.989,-43.2357,-43.4823, -43.6468,-43.8112,-43.9756,-44.1401, -44.4607,-44.7366,-44.8055,-44.8851)
FOOTPRINT_POINT_LONGITUDE = (250.29,249.903,249.634,249.162,248.893 ,248.573,248.556,248.536,248.549, 248.562,248.569,248.577,248.587,248.594 ,248.601,248.607,248.614,248.62,248.626 ,248.632,248.638,248.643,248.652, 248.664,248.669,248.673,248.68,248.685, 248.69,248.695,248.701,248.705,248.71, 248.714,248.722,248.729,248.734,248.741 ,248.745,248.748,248.751,248.753, 248.756,248.759,248.763,248.765,248.768 ,248.771,248.772,248.773,249.227, 249.577,249.944,250.206,250.556,250.573 ,250.579,250.572,250.569,250.563, 250.557,250.553,250.548,250.543,250.536 ,250.529,250.522,250.517,250.513, 250.508,250.503,250.498,250.493,250.488 ,250.48,250.475,250.469,250.461,250.456 ,250.45,250.442,250.437,250.431,250.425 ,250.42,250.414,250.405,250.399,250.393 ,250.383,250.374,250.365,250.358, 250.352,250.345,250.339,250.325,250.314 ,250.311,250.29)
ORBIT_NUMBER = 12748
ORBITAL_ECCENTRICITY = 0.577
ORBITAL_INCLINATION = 86.89
ORBITAL_SEMIMAJOR_AXIS = 8778.91
PERIAPSIS_ALTITUDE = 329.44
PERIAPSIS_ARGUMENT_ANGLE = 299.59
PERIAPSIS_TIME = 2014-01-12T21:45:21.000Z
SPACECRAFT_ORIENTATION = (0.0,1.0,0.0)
^MEX_ORIENTATION_DESC = "MEX_ORIENTATION_DESC.TXT"
SPACECRAFT_POINTING_MODE = NADIR
^MEX_POINTING_DESC = "MEX_POINTING_DESC.TXT"
RIGHT_ASCENSION = -1e+32
DECLINATION = -1e+32
OFFSET_ANGLE = -1e+32
SPACECRAFT_SOLAR_DISTANCE = 2.49167e+08
TARGET_NAME = MARS
/* CAMERA DATA ELEMENTS */
DETECTOR_TEMPERATURE = 18.5744
FOCAL_PLANE_TEMPERATURE = 8.1755
INST_CMPRS_NAME = "DISCRETE COSINE TRANSFORMATION (DCT)"
INST_CMPRS_RATIO = 7.37611
INST_CMPRS_QUALITY = 0
INST_CMPRS_QUANTZ_TBL_ID = 0
INSTRUMENT_TEMPERATURE = 11.234
LENS_TEMPERATURE = 8.1755
MACROPIXEL_SIZE = 2
MISSING_FRAMES = 0
PIXEL_SUBSAMPLING_FLAG = N
SIGNAL_CHAIN_ID = 1
/* RADIOMETRIC DATA ELEMENTS */
BANDWIDTH = 178.0
CENTER_FILTER_WAVELENGTH = 679.0
RADIANCE_OFFSET = 0.314818
RADIANCE_SCALING_FACTOR = 0.012907
REFLECTANCE_SCALING_FACTOR = 0.000424359
MEX:REFLECTANCE_OFFSET = 0.0103507
/* IMAGE OBJECT DEFINITIONS */
OBJECT = IMAGE
  INTERCHANGE_FORMAT = BINARY
  LINES = 19591
  LINE_SAMPLES = 3710
  SAMPLE_TYPE = UNSIGNED_INTEGER
  SAMPLE_BITS = 8
  BANDS = 1
  BAND_STORAGE_TYPE = BAND_SEQUENTIAL
  MAXIMUM = 255
  MEAN = 91.1959
  MINIMUM = 1
  STANDARD_DEVIATION = 22.5672
END_OBJECT = IMAGE
/* MAP OBJECT DEFINITIONS */
OBJECT = IMAGE_MAP_PROJECTION
  ^DATA_SET_MAP_PROJECTION_CATALOG= "DSMAP.CAT"
  A_AXIS_RADIUS = 3396.0
  B_AXIS_RADIUS = 3396.0
  C_AXIS_RADIUS = 3396.0
  CENTER_LATITUDE = 0.0
  CENTER_LONGITUDE = 250.0
  COORDINATE_SYSTEM_NAME = PLANETOGRAPHIC
  COORDINATE_SYSTEM_TYPE = "BODY-FIXED ROTATING"
  EASTERNMOST_LONGITUDE = 250.579
  FIRST_STANDARD_PARALLEL = "N/A"
  LINE_FIRST_PIXEL = 1
  LINE_LAST_PIXEL = 19591
  LINE_PROJECTION_OFFSET = -86583.25
  MAP_PROJECTION_ROTATION = 0.0
  MAP_PROJECTION_TYPE = SINUSOIDAL
  MAP_RESOLUTION = 2370.85521546667
  MAP_SCALE = 0.025
  MAXIMUM_LATITUDE = -36.5957
  MINIMUM_LATITUDE = -44.8851
  POSITIVE_LONGITUDE_DIRECTION = EAST
  REFERENCE_LATITUDE = "N/A"
  REFERENCE_LONGITUDE = "N/A"
  SAMPLE_FIRST_PIXEL = 1
  SAMPLE_LAST_PIXEL = 3710
  SAMPLE_PROJECTION_OFFSET = 2514.25
  SECOND_STANDARD_PARALLEL = "N/A"
  WESTERNMOST_LONGITUDE = 248.536
END_OBJECT = IMAGE_MAP_PROJECTION
END
