PDS_VERSION_ID = PDS3
/* FILE DATA ELEMENTS */
RECORD_TYPE = UNDEFINED
/* POINTERS TO DATA OBJECTS */
^IMAGE = ("HC748_0000_GR4.TIF")
/* IDENTIFICATION DATA ELEMENTS */
DATA_SET_ID = "MEX-M-HRSC-4-REFDR-MAPPROJECT-EXT4-V4.0"
DATA_SET_NAME = "MARS EXPRESS HRSC MAP PROJECTED REFDR EXTENSION4 V4.0"
DETECTOR_ID = MEX_HRSC_GREEN
EVENT_TYPE = "MARS-REGIONAL-MAPPING-Te-Im-Pf"
INSTRUMENT_HOST_ID = MEX
INSTRUMENT_HOST_NAME = "MARS EXPRESS"
INSTRUMENT_ID = HRSC
INSTRUMENT_NAME = "HIGH RESOLUTION STEREO CAMERA"
MISSION_NAME = "MARS EXPRESS"
MISSION_PHASE_NAME = ME_Phase_29
PROCESSING_LEVEL_ID = 4
PRODUCT_CREATION_TIME = 2023-01-31T11:51:40.000Z
PRODUCT_ID = "HC748_0000_GR4.TIF"
RELEASE_ID = 0003
REVISION_ID = 0000
/* QUALITY DATA ELEMENTS */
DATA_QUALITY_ID = 1
DATA_QUALITY_DESC = "Data calculated based on original SPICE kernels"
/* TIME DATA ELEMENTS */
SPACECRAFT_CLOCK_START_COUNT = "1/0337643322.09054"
SPACECRAFT_CLOCK_STOP_COUNT = "1/0337643534.39064"
START_TIME = 2014-01-12T21:49:26.419Z
STOP_TIME = 2014-01-12T21:51:38.721Z
/* ORBITAL DATA ELEMENTS */
ASCENDING_NODE_LONGITUDE = 334.43
MAXIMUM_RESOLUTION = 0.1201
FOOTPRINT_POINT_LATITUDE = (-44.7586,-44.751,-44.7458,-44.7399, -44.7343,-44.7273,-44.7198,-44.7193, -44.7247,-44.5647,-44.4049,-44.2451, -44.0854,-43.9259,-43.7664,-43.607, -43.2887,-42.9708,-42.6534,-42.3363, -41.9405,-41.6235,-41.2301,-40.9893, -40.8277,-40.6662,-40.5049,-40.3436, -40.1826,-40.0216,-39.7745,-39.6097, -39.4449,-39.2803,-39.1159,-38.9516, -38.7835,-38.6153,-38.4472,-38.2793, -38.1117,-37.9441,-37.6881,-37.5168, -37.3456,-37.1746,-37.0038,-36.8306, -36.656,-36.5687,-36.5032,-36.5114, -36.5159,-36.5187,-36.5227,-36.5242, -36.5243,-36.5265,-36.701,-36.8756, -37.1351,-37.307,-37.5649,-37.7366, -37.9928,-38.1607,-38.3288,-38.4971, -38.6655,-38.8341,-39.0019,-39.1665, -39.3313,-39.4963,-39.6613,-39.8265, -39.9919,-40.1543,-40.3157,-40.4772, -40.6389,-40.8007,-40.9626,-41.2054, -41.5215,-41.8381,-42.155,-42.4725, -42.7903,-43.1086,-43.4274,-43.5869, -43.7466,-43.9064,-44.0663,-44.2262, -44.3863,-44.6266,-44.7067,-44.7586)
FOOTPRINT_POINT_LONGITUDE = (250.331,249.877,249.608,249.339, 249.104,248.835,248.566,248.549,248.523 ,248.53,248.537,248.544,248.551,248.557 ,248.564,248.57,248.582,248.594,248.605 ,248.615,248.628,248.64,248.65,248.656, 248.66,248.664,248.668,248.672,248.676, 248.68,248.685,248.689,248.692,248.696, 248.699,248.702,248.705,248.708,248.711 ,248.714,248.716,248.719,248.722, 248.724,248.727,248.729,248.73,248.732, 248.734,248.735,248.736,249.216,249.537 ,249.805,250.288,250.609,250.627, 250.639,250.633,250.627,250.621,250.617 ,250.611,250.605,250.598,250.593, 250.587,250.582,250.577,250.572,250.566 ,250.561,250.556,250.55,250.545,250.539 ,250.534,250.528,250.522,250.517, 250.511,250.505,250.5,250.491,250.479, 250.468,250.456,250.443,250.431,250.418 ,250.405,250.398,250.392,250.385, 250.378,250.372,250.365,250.354,250.35, 250.331)
ORBIT_NUMBER = 12748
ORBITAL_ECCENTRICITY = 0.577
ORBITAL_INCLINATION = 86.89
ORBITAL_SEMIMAJOR_AXIS = 8778.91
PERIAPSIS_ALTITUDE = 329.44
PERIAPSIS_ARGUMENT_ANGLE = 299.59
PERIAPSIS_TIME = 2014-01-12T21:45:21.000Z
SPACECRAFT_ORIENTATION = (0.0,1.0,0.0)
^MEX_ORIENTATION_DESC = "MEX_ORIENTATION_DESC.TXT"
SPACECRAFT_POINTING_MODE = NADIR
^MEX_POINTING_DESC = "MEX_POINTING_DESC.TXT"
RIGHT_ASCENSION = -1e+32
DECLINATION = -1e+32
OFFSET_ANGLE = -1e+32
SPACECRAFT_SOLAR_DISTANCE = 2.49167e+08
TARGET_NAME = MARS
/* CAMERA DATA ELEMENTS */
DETECTOR_TEMPERATURE = 18.5744
FOCAL_PLANE_TEMPERATURE = 8.1755
INST_CMPRS_NAME = "DISCRETE COSINE TRANSFORMATION (DCT)"
INST_CMPRS_RATIO = 7.42398
INST_CMPRS_QUALITY = 0
INST_CMPRS_QUANTZ_TBL_ID = 0
INSTRUMENT_TEMPERATURE = 11.234
LENS_TEMPERATURE = 8.1755
MACROPIXEL_SIZE = 8
MISSING_FRAMES = 0
PIXEL_SUBSAMPLING_FLAG = N
SIGNAL_CHAIN_ID = 2
/* RADIOMETRIC DATA ELEMENTS */
BANDWIDTH = 88.0
CENTER_FILTER_WAVELENGTH = 538.0
RADIANCE_OFFSET = 0.139487
RADIANCE_SCALING_FACTOR = 0.00406836
REFLECTANCE_SCALING_FACTOR = 0.000217464
MEX:REFLECTANCE_OFFSET = 0.00745592
/* IMAGE OBJECT DEFINITIONS */
OBJECT = IMAGE
  INTERCHANGE_FORMAT = BINARY
  LINES = 4898
  LINE_SAMPLES = 928
  SAMPLE_TYPE = UNSIGNED_INTEGER
  SAMPLE_BITS = 8
  BANDS = 1
  BAND_STORAGE_TYPE = BAND_SEQUENTIAL
  MAXIMUM = 255
  MEAN = 109.047
  MINIMUM = 1
  STANDARD_DEVIATION = 23.1957
END_OBJECT = IMAGE
/* MAP OBJECT DEFINITIONS */
OBJECT = IMAGE_MAP_PROJECTION
  ^DATA_SET_MAP_PROJECTION_CATALOG= "DSMAP.CAT"
  A_AXIS_RADIUS = 3396.0
  B_AXIS_RADIUS = 3396.0
  C_AXIS_RADIUS = 3396.0
  CENTER_LATITUDE = 0.0
  CENTER_LONGITUDE = 250.0
  COORDINATE_SYSTEM_NAME = PLANETOGRAPHIC
  COORDINATE_SYSTEM_TYPE = "BODY-FIXED ROTATING"
  EASTERNMOST_LONGITUDE = 250.639
  FIRST_STANDARD_PARALLEL = "N/A"
  LINE_FIRST_PIXEL = 1
  LINE_LAST_PIXEL = 4898
  LINE_PROJECTION_OFFSET = -21646.1875
  MAP_PROJECTION_ROTATION = 0.0
  MAP_PROJECTION_TYPE = SINUSOIDAL
  MAP_RESOLUTION = 592.713803866667
  MAP_SCALE = 0.1
  MAXIMUM_LATITUDE = -36.5032
  MINIMUM_LATITUDE = -44.7586
  POSITIVE_LONGITUDE_DIRECTION = EAST
  REFERENCE_LATITUDE = "N/A"
  REFERENCE_LONGITUDE = "N/A"
  SAMPLE_FIRST_PIXEL = 1
  SAMPLE_LAST_PIXEL = 928
  SAMPLE_PROJECTION_OFFSET = 628.1875
  SECOND_STANDARD_PARALLEL = "N/A"
  WESTERNMOST_LONGITUDE = 248.523
END_OBJECT = IMAGE_MAP_PROJECTION
END
