PDS_VERSION_ID = PDS3
/* FILE DATA ELEMENTS */
RECORD_TYPE = UNDEFINED
/* POINTERS TO DATA OBJECTS */
^IMAGE = ("HC746_0000_S24.TIF")
/* IDENTIFICATION DATA ELEMENTS */
DATA_SET_ID = "MEX-M-HRSC-4-REFDR-MAPPROJECT-EXT4-V4.0"
DATA_SET_NAME = "MARS EXPRESS HRSC MAP PROJECTED REFDR EXTENSION4 V4.0"
DETECTOR_ID = MEX_HRSC_S2
EVENT_TYPE = "MARS-TERMINATOR-CALIBRATION-Tc"
INSTRUMENT_HOST_ID = MEX
INSTRUMENT_HOST_NAME = "MARS EXPRESS"
INSTRUMENT_ID = HRSC
INSTRUMENT_NAME = "HIGH RESOLUTION STEREO CAMERA"
MISSION_NAME = "MARS EXPRESS"
MISSION_PHASE_NAME = ME_Phase_29
PROCESSING_LEVEL_ID = 4
PRODUCT_CREATION_TIME = 2023-01-31T11:51:40.000Z
PRODUCT_ID = "HC746_0000_S24.TIF"
RELEASE_ID = 0003
REVISION_ID = 0000
/* QUALITY DATA ELEMENTS */
DATA_QUALITY_ID = 1
DATA_QUALITY_DESC = "Data calculated based on original SPICE kernels"
/* TIME DATA ELEMENTS */
SPACECRAFT_CLOCK_START_COUNT = "1/0337598849.07312"
SPACECRAFT_CLOCK_STOP_COUNT = "1/0337599322.04544"
START_TIME = 2014-01-12T09:27:33.841Z
STOP_TIME = 2014-01-12T09:31:25.815Z
/* ORBITAL DATA ELEMENTS */
ASCENDING_NODE_LONGITUDE = 334.47
MAXIMUM_RESOLUTION = 1.2502 <m/pixel>
FOOTPRINT_POINT_LATITUDE = (12.3644,12.2899,12.7463,13.7708, 12.6846,15.4482,13.8473,15.5342,19.3492 ,23.9605,27.3173,32.187,35.1328,39.6082 ,44.8188,49.3915,52.3107,56.0771, 58.8492,61.4108,65.9736,69.0193,72.9291 ,76.2112,78.5365,79.6643,79.5117, 78.1963,75.314,71.1963,68.5991,65.3353, 62.5083,57.1871,52.5281,49.6657,46.0067 ,41.892,39.2291,34.6182,30.8832,28.4241 ,24.6311,24.8951,22.671,23.8399,22.5637 ,22.5766,22.1652,21.9748,22.934,21.5843 ,23.2729,21.2076,23.4643,20.9799, 22.4156,26.215,29.0205,32.6681,37.6475, 40.8207,45.6191,49.5218,54.9053,59.4633 ,62.5681,66.6559,68.7598,70.8601, 72.8422,73.6201,73.4425,72.8382,71.0585 ,69.1427,65.9367,63.1829,59.0534, 55.2225,52.5686,49.6763,45.4993,41.7722 ,38.7548,36.3242,33.3917,29.4417, 24.8469,21.696,17.1167,12.8722,12.4097, 12.0776,14.0215,12.2478,12.8732,13.2086 ,12.3644)
FOOTPRINT_POINT_LONGITUDE = (76.3779,76.3464,75.4863,71.5912, 69.0781,65.2526,62.3328,60.2468,59.5509 ,59.7213,59.7611,59.68,59.5524,59.2032, 58.5309,57.6279,56.8492,55.5347,54.2731 ,52.8141,49.1922,45.6395,38.6215, 28.2085,13.8071,357.741,331.962,316.388 ,301.347,290.881,286.86,283.245,280.956 ,277.948,276.205,275.408,274.629, 273.978,273.678,273.335,273.184,273.145 ,272.847,269.436,267.485,264.775, 262.513,257.261,255.977,253.022,249.043 ,246.19,242.773,239.962,238.77,237.318, 234.501,234.075,233.685,233.055,231.941 ,231.04,229.319,227.504,224.11,219.989, 216.121,208.742,203.152,195.144,181.893 ,167.907,156.09,147.675,135.446,127.718 ,119.366,114.494,109.328,105.931, 104.093,102.444,100.55,99.2305,98.3579, 97.7636,97.1523,96.4863,95.9034,95.607, 95.3086,95.1535,92.6376,89.8359,87.4405 ,85.2322,82.2069,79.4849,76.3779)
ORBIT_NUMBER = 12746
ORBITAL_ECCENTRICITY = 0.577
ORBITAL_INCLINATION = 86.9
ORBITAL_SEMIMAJOR_AXIS = 8781.79
PERIAPSIS_ALTITUDE = 329.23
PERIAPSIS_ARGUMENT_ANGLE = 299.93
PERIAPSIS_TIME = 2014-01-12T07:46:46.000Z
SPACECRAFT_ORIENTATION = (0.0,1.0,0.0)
^MEX_ORIENTATION_DESC = "MEX_ORIENTATION_DESC.TXT"
SPACECRAFT_POINTING_MODE = INERT
^MEX_POINTING_DESC = "MEX_POINTING_DESC.TXT"
RIGHT_ASCENSION = 148.476
DECLINATION = -52.658
OFFSET_ANGLE = -1e+32
SPACECRAFT_SOLAR_DISTANCE = 2.49175e+08
TARGET_NAME = MARS
/* CAMERA DATA ELEMENTS */
DETECTOR_TEMPERATURE = 18.9822 <degC>
FOCAL_PLANE_TEMPERATURE = 8.3794 <degC>
INST_CMPRS_NAME = "DISCRETE COSINE TRANSFORMATION (DCT)"
INST_CMPRS_RATIO = 16.9533
INST_CMPRS_QUALITY = 0
INST_CMPRS_QUANTZ_TBL_ID = 0
INSTRUMENT_TEMPERATURE = 11.4379 <degC>
LENS_TEMPERATURE = 8.7872 <degC>
MACROPIXEL_SIZE = 4
MISSING_FRAMES = 0
PIXEL_SUBSAMPLING_FLAG = N
SIGNAL_CHAIN_ID = 1
/* RADIOMETRIC DATA ELEMENTS */
BANDWIDTH = 178.0 <nm>
CENTER_FILTER_WAVELENGTH = 679.0 <nm>
RADIANCE_OFFSET = 0.0 <W*m**-2*sr**-1>
RADIANCE_SCALING_FACTOR = 0.0426951 <W*m**-2*sr**-1>
REFLECTANCE_SCALING_FACTOR = 0.00140383
MEX:REFLECTANCE_OFFSET = 0.0
/* IMAGE OBJECT DEFINITIONS */
OBJECT = IMAGE
  INTERCHANGE_FORMAT = BINARY
  LINES = 3877
  LINE_SAMPLES = 3383
  SAMPLE_TYPE = UNSIGNED_INTEGER
  SAMPLE_BITS = 8
  BANDS = 1
  BAND_STORAGE_TYPE = BAND_SEQUENTIAL
  MAXIMUM = 255
  MEAN = 88.4872
  MINIMUM = 1
  STANDARD_DEVIATION = 70.0225
END_OBJECT = IMAGE
/* MAP OBJECT DEFINITIONS */
OBJECT = IMAGE_MAP_PROJECTION
  ^DATA_SET_MAP_PROJECTION_CATALOG= "DSMAP.CAT"
  A_AXIS_RADIUS = 3396.0 <km>
  B_AXIS_RADIUS = 3396.0 <km>
  C_AXIS_RADIUS = 3396.0 <km>
  CENTER_LATITUDE = 84.5141
  CENTER_LONGITUDE = 111.978
  COORDINATE_SYSTEM_NAME = PLANETOGRAPHIC
  COORDINATE_SYSTEM_TYPE = "BODY-FIXED ROTATING"
  EASTERNMOST_LONGITUDE = 360.0
  FIRST_STANDARD_PARALLEL = "N/A"
  LINE_FIRST_PIXEL = 1
  LINE_LAST_PIXEL = 3877
  LINE_PROJECTION_OFFSET = 1937.0
  MAP_PROJECTION_ROTATION = 0.0
  MAP_PROJECTION_TYPE = ORTHOGRAPHIC
  MAP_RESOLUTION = 37.0446127416667 <pixel/degree>
  MAP_SCALE = 1.6 <km/pixel>
  MAXIMUM_LATITUDE = 90.0
  MINIMUM_LATITUDE = 12.0776
  POSITIVE_LONGITUDE_DIRECTION = EAST
  REFERENCE_LATITUDE = "N/A"
  REFERENCE_LONGITUDE = "N/A"
  SAMPLE_FIRST_PIXEL = 1
  SAMPLE_LAST_PIXEL = 3383
  SAMPLE_PROJECTION_OFFSET = 1668.0
  SECOND_STANDARD_PARALLEL = "N/A"
  WESTERNMOST_LONGITUDE = 0.0
END_OBJECT = IMAGE_MAP_PROJECTION
END
