PDS_VERSION_ID = PDS3
/* FILE DATA ELEMENTS */
RECORD_TYPE = UNDEFINED
/* POINTERS TO DATA OBJECTS */
^IMAGE = ("HC746_0000_S14.TIF")
/* IDENTIFICATION DATA ELEMENTS */
DATA_SET_ID = "MEX-M-HRSC-4-REFDR-MAPPROJECT-EXT4-V4.0"
DATA_SET_NAME = "MARS EXPRESS HRSC MAP PROJECTED REFDR EXTENSION4 V4.0"
DETECTOR_ID = MEX_HRSC_S1
EVENT_TYPE = "MARS-TERMINATOR-CALIBRATION-Tc"
INSTRUMENT_HOST_ID = MEX
INSTRUMENT_HOST_NAME = "MARS EXPRESS"
INSTRUMENT_ID = HRSC
INSTRUMENT_NAME = "HIGH RESOLUTION STEREO CAMERA"
MISSION_NAME = "MARS EXPRESS"
MISSION_PHASE_NAME = ME_Phase_29
PROCESSING_LEVEL_ID = 4
PRODUCT_CREATION_TIME = 2023-01-31T11:51:40.000Z
PRODUCT_ID = "HC746_0000_S14.TIF"
RELEASE_ID = 0003
REVISION_ID = 0000
/* QUALITY DATA ELEMENTS */
DATA_QUALITY_ID = 1
DATA_QUALITY_DESC = "Data calculated based on original SPICE kernels"
/* TIME DATA ELEMENTS */
SPACECRAFT_CLOCK_START_COUNT = "1/0337598849.07312"
SPACECRAFT_CLOCK_STOP_COUNT = "1/0337599322.04544"
START_TIME = 2014-01-12T09:31:36.864Z
STOP_TIME = 2014-01-12T09:35:24.825Z
/* ORBITAL DATA ELEMENTS */
ASCENDING_NODE_LONGITUDE = 334.47
MAXIMUM_RESOLUTION = 1.2826
FOOTPRINT_POINT_LATITUDE = (13.651,13.5747,14.4632,14.9473,14.4548 ,16.8876,14.5029,15.3894,20.5505, 23.5598,28.1471,33.2874,36.257,40.6579, 43.2245,47.1986,50.3825,54.8398,57.2712 ,60.1592,62.5131,65.4746,69.2047, 71.5782,73.5213,76.4827,79.42,79.6809, 78.8976,76.7074,72.6871,69.6632,65.0602 ,62.367,60.1424,57.4655,52.4938,48.12, 45.4388,41.4792,38.0976,34.4237,29.7623 ,25.4338,22.5298,21.1864,22.5295,20.304 ,21.6215,20.2136,20.7688,20.1274, 21.0452,20.7227,19.7095,19.7706,20.7784 ,21.3035,21.2548,21.044,23.5858,27.2502 ,32.8789,38.8013,41.7373,46.5002,49.795 ,54.3332,59.9976,63.0992,64.9165, 66.9017,69.2941,71.8018,72.7797,72.9208 ,71.972,70.5498,68.7911,65.7201,63.2599 ,60.1362,57.5902,53.6978,49.832,44.7405 ,41.6755,36.861,33.5541,29.3661,26.8434 ,23.8812,19.6271,14.9868,14.236,13.8609 ,14.4377,15.1548,13.651)
FOOTPRINT_POINT_LONGITUDE = (75.7577,75.7252,74.2979,71.1985, 66.7618,64.3757,63.2614,59.124,58.4706, 58.5734,58.6149,58.4952,58.3248,57.9415 ,57.62,56.9551,56.2316,54.8596,53.8759, 52.4194,50.9304,48.5311,44.2516,40.3609 ,36.062,25.927,2.15631,334.178,321.509, 305.827,292.619,287.087,281.748,279.616 ,278.212,276.844,274.972,273.833, 273.317,272.727,272.374,272.125,271.964 ,271.955,272.013,269.004,266.244, 262.657,259.943,257.048,255.701,255.08, 251.411,251.102,250.806,247.844,243.486 ,239.117,236.092,233.045,232.787, 232.327,231.36,229.911,228.984,227.092, 225.422,222.441,216.993,212.655,209.389 ,204.893,197.381,183.697,171.341, 163.202,145.972,136.4,128.962,120.51, 115.847,111.441,108.677,105.41,102.962, 100.558,99.4378,98.0455,97.2964,96.5422 ,96.176,95.8231,95.443,92.9234,90.332, 86.8274,82.7646,78.4204,75.7577)
ORBIT_NUMBER = 12746
ORBITAL_ECCENTRICITY = 0.577
ORBITAL_INCLINATION = 86.9
ORBITAL_SEMIMAJOR_AXIS = 8781.79
PERIAPSIS_ALTITUDE = 329.23
PERIAPSIS_ARGUMENT_ANGLE = 299.93
PERIAPSIS_TIME = 2014-01-12T07:46:46.000Z
SPACECRAFT_ORIENTATION = (0.0,1.0,0.0)
^MEX_ORIENTATION_DESC = "MEX_ORIENTATION_DESC.TXT"
SPACECRAFT_POINTING_MODE = INERT
^MEX_POINTING_DESC = "MEX_POINTING_DESC.TXT"
RIGHT_ASCENSION = 148.476
DECLINATION = -52.658
OFFSET_ANGLE = -1e+32
SPACECRAFT_SOLAR_DISTANCE = 2.49175e+08
TARGET_NAME = MARS
/* CAMERA DATA ELEMENTS */
DETECTOR_TEMPERATURE = 17.5549
FOCAL_PLANE_TEMPERATURE = 8.3794
INST_CMPRS_NAME = "DISCRETE COSINE TRANSFORMATION (DCT)"
INST_CMPRS_RATIO = 17.2319
INST_CMPRS_QUALITY = 0
INST_CMPRS_QUANTZ_TBL_ID = 0
INSTRUMENT_TEMPERATURE = 11.4379
LENS_TEMPERATURE = 8.7872
MACROPIXEL_SIZE = 4
MISSING_FRAMES = 0
PIXEL_SUBSAMPLING_FLAG = N
SIGNAL_CHAIN_ID = 1
/* RADIOMETRIC DATA ELEMENTS */
BANDWIDTH = 180.0
CENTER_FILTER_WAVELENGTH = 677.0
RADIANCE_OFFSET = 0.0
RADIANCE_SCALING_FACTOR = 0.0433736
REFLECTANCE_SCALING_FACTOR = 0.00140499
MEX:REFLECTANCE_OFFSET = 0.0
/* IMAGE OBJECT DEFINITIONS */
OBJECT = IMAGE
  INTERCHANGE_FORMAT = BINARY
  LINES = 3877
  LINE_SAMPLES = 3383
  SAMPLE_TYPE = UNSIGNED_INTEGER
  SAMPLE_BITS = 8
  BANDS = 1
  BAND_STORAGE_TYPE = BAND_SEQUENTIAL
  MAXIMUM = 255
  MEAN = 88.9482
  MINIMUM = 1
  STANDARD_DEVIATION = 70.7413
END_OBJECT = IMAGE
/* MAP OBJECT DEFINITIONS */
OBJECT = IMAGE_MAP_PROJECTION
  ^DATA_SET_MAP_PROJECTION_CATALOG= "DSMAP.CAT"
  A_AXIS_RADIUS = 3396.0
  B_AXIS_RADIUS = 3396.0
  C_AXIS_RADIUS = 3396.0
  CENTER_LATITUDE = 84.5141
  CENTER_LONGITUDE = 111.978
  COORDINATE_SYSTEM_NAME = PLANETOGRAPHIC
  COORDINATE_SYSTEM_TYPE = "BODY-FIXED ROTATING"
  EASTERNMOST_LONGITUDE = 360.0
  FIRST_STANDARD_PARALLEL = "N/A"
  LINE_FIRST_PIXEL = 1
  LINE_LAST_PIXEL = 3877
  LINE_PROJECTION_OFFSET = 1937.0
  MAP_PROJECTION_ROTATION = 0.0
  MAP_PROJECTION_TYPE = ORTHOGRAPHIC
  MAP_RESOLUTION = 37.0446127416667
  MAP_SCALE = 1.6
  MAXIMUM_LATITUDE = 90.0
  MINIMUM_LATITUDE = 13.5747
  POSITIVE_LONGITUDE_DIRECTION = EAST
  REFERENCE_LATITUDE = "N/A"
  REFERENCE_LONGITUDE = "N/A"
  SAMPLE_FIRST_PIXEL = 1
  SAMPLE_LAST_PIXEL = 3383
  SAMPLE_PROJECTION_OFFSET = 1668.0
  SECOND_STANDARD_PARALLEL = "N/A"
  WESTERNMOST_LONGITUDE = 0.0
END_OBJECT = IMAGE_MAP_PROJECTION
END
