PDS_VERSION_ID = PDS3
/* FILE DATA ELEMENTS */
RECORD_TYPE = UNDEFINED
/* POINTERS TO DATA OBJECTS */
^IMAGE = ("HC743_0000_P24.TIF")
/* IDENTIFICATION DATA ELEMENTS */
DATA_SET_ID = "MEX-M-HRSC-4-REFDR-MAPPROJECT-EXT4-V4.0"
DATA_SET_NAME = "MARS EXPRESS HRSC MAP PROJECTED REFDR EXTENSION4 V4.0"
DETECTOR_ID = MEX_HRSC_P2
EVENT_TYPE = "MARS-REGIONAL-MAPPING-Vo-Im-Fl"
INSTRUMENT_HOST_ID = MEX
INSTRUMENT_HOST_NAME = "MARS EXPRESS"
INSTRUMENT_ID = HRSC
INSTRUMENT_NAME = "HIGH RESOLUTION STEREO CAMERA"
MISSION_NAME = "MARS EXPRESS"
MISSION_PHASE_NAME = ME_Phase_29
PROCESSING_LEVEL_ID = 4
PRODUCT_CREATION_TIME = 2023-01-31T11:51:40.000Z
PRODUCT_ID = "HC743_0000_P24.TIF"
RELEASE_ID = 0003
REVISION_ID = 0000
/* QUALITY DATA ELEMENTS */
DATA_QUALITY_ID = 1
DATA_QUALITY_DESC = "Data calculated based on original SPICE kernels"
/* TIME DATA ELEMENTS */
SPACECRAFT_CLOCK_START_COUNT = "1/0337517534.09048"
SPACECRAFT_CLOCK_STOP_COUNT = "1/0337517752.05328"
START_TIME = 2014-01-11T10:52:30.253Z
STOP_TIME = 2014-01-11T10:54:40.482Z
/* ORBITAL DATA ELEMENTS */
ASCENDING_NODE_LONGITUDE = 334.53
MAXIMUM_RESOLUTION = 0.0301
FOOTPRINT_POINT_LATITUDE = (-43.8215,-43.8086,-43.7948,-43.78, -43.7643,-43.7475,-43.7228,-43.7217, -43.6875,-43.5217,-43.3557,-43.19, -43.0227,-42.8541,-42.6879,-42.3602, -42.194,-41.9455,-41.7796,-41.6137, -41.4482,-41.2004,-40.9524,-40.787, -40.6218,-40.4567,-40.1276,-39.8811, -39.6329,-39.385,-39.0543,-38.7252, -38.5584,-38.3898,-38.2216,-38.0538, -37.8849,-37.7135,-37.5446,-37.2881, -37.1156,-36.9469,-36.7733,-36.5148, -36.2561,-36.0794,-35.9035,-35.7262, -35.5498,-35.3735,-35.2852,-35.2491, -35.2725,-35.2966,-35.3068,-35.3175, -35.3316,-35.3322,-35.333,-35.5974, -35.774,-35.9508,-36.1279,-36.3934, -36.5669,-36.7399,-36.9124,-37.0855, -37.259,-37.5191,-37.6889,-37.9429, -38.273,-38.4426,-38.6163,-38.7839, -39.1134,-39.443,-39.6083,-39.9384, -40.1043,-40.3528,-40.6012,-40.8486, -41.1759,-41.3413,-41.5072,-41.6749, -41.9265,-42.092,-42.2577,-42.4237, -42.5902,-42.7565,-43.0061,-43.2563, -43.5059,-43.6722,-43.7556,-43.8215)
FOOTPRINT_POINT_LONGITUDE = (40.2456,39.9786,39.7095,39.4378, 39.1637,38.8871,38.5018,38.4841,38.4347 ,38.4455,38.456,38.4665,38.4748,38.4812 ,38.4904,38.5143,38.5229,38.5365, 38.5449,38.5531,38.5616,38.5745,38.5868 ,38.5946,38.6024,38.6101,38.6262, 38.6381,38.6475,38.6568,38.6682,38.6808 ,38.6872,38.6936,38.7003,38.7071, 38.7124,38.7146,38.7195,38.7267,38.7322 ,38.7417,38.7455,38.7528,38.7598, 38.7643,38.7693,38.7726,38.7765,38.7805 ,38.7822,38.7829,39.225,39.7332,39.9846 ,40.252,40.6232,40.6408,40.6472,40.6372 ,40.6305,40.6237,40.6168,40.6065, 40.5996,40.5927,40.5857,40.5786,40.5714 ,40.5606,40.5535,40.5427,40.5275,40.52, 40.5127,40.505,40.4899,40.4744,40.4666, 40.4507,40.4427,40.4305,40.4181,40.4054 ,40.3879,40.3791,40.3704,40.3617, 40.3485,40.3394,40.3302,40.3209,40.3116 ,40.3021,40.2878,40.2733,40.2585, 40.2485,40.2435,40.2456)
ORBIT_NUMBER = 12743
ORBITAL_ECCENTRICITY = 0.577
ORBITAL_INCLINATION = 86.89
ORBITAL_SEMIMAJOR_AXIS = 8782.2
PERIAPSIS_ALTITUDE = 330.27
PERIAPSIS_ARGUMENT_ANGLE = 300.45
PERIAPSIS_TIME = 2014-01-11T10:48:51.000Z
SPACECRAFT_ORIENTATION = (0.0,1.0,0.0)
^MEX_ORIENTATION_DESC = "MEX_ORIENTATION_DESC.TXT"
SPACECRAFT_POINTING_MODE = ACROSSTRACK
^MEX_POINTING_DESC = "MEX_POINTING_DESC.TXT"
RIGHT_ASCENSION = -1e+32
DECLINATION = -1e+32
OFFSET_ANGLE = 0.8
SPACECRAFT_SOLAR_DISTANCE = 2.49186e+08
TARGET_NAME = MARS
/* CAMERA DATA ELEMENTS */
DETECTOR_TEMPERATURE = 18.7783
FOCAL_PLANE_TEMPERATURE = 8.5833
INST_CMPRS_NAME = "DISCRETE COSINE TRANSFORMATION (DCT)"
INST_CMPRS_RATIO = 6.9082
INST_CMPRS_QUALITY = 0
INST_CMPRS_QUANTZ_TBL_ID = 0
INSTRUMENT_TEMPERATURE = 11.8457
LENS_TEMPERATURE = 8.1755
MACROPIXEL_SIZE = 2
MISSING_FRAMES = 0
PIXEL_SUBSAMPLING_FLAG = N
SIGNAL_CHAIN_ID = 3
/* RADIOMETRIC DATA ELEMENTS */
BANDWIDTH = 177.0
CENTER_FILTER_WAVELENGTH = 676.5
RADIANCE_OFFSET = 0.310287
RADIANCE_SCALING_FACTOR = 0.0144801
REFLECTANCE_SCALING_FACTOR = 0.000476733
MEX:REFLECTANCE_OFFSET = 0.0102157
/* IMAGE OBJECT DEFINITIONS */
OBJECT = IMAGE
  INTERCHANGE_FORMAT = BINARY
  LINES = 20159
  LINE_SAMPLES = 4044
  SAMPLE_TYPE = UNSIGNED_INTEGER
  SAMPLE_BITS = 8
  BANDS = 1
  BAND_STORAGE_TYPE = BAND_SEQUENTIAL
  MAXIMUM = 255
  MEAN = 102.844
  MINIMUM = 1
  STANDARD_DEVIATION = 30.8561
END_OBJECT = IMAGE
/* MAP OBJECT DEFINITIONS */
OBJECT = IMAGE_MAP_PROJECTION
  ^DATA_SET_MAP_PROJECTION_CATALOG= "DSMAP.CAT"
  A_AXIS_RADIUS = 3396.0
  B_AXIS_RADIUS = 3396.0
  C_AXIS_RADIUS = 3396.0
  CENTER_LATITUDE = 0.0
  CENTER_LONGITUDE = 40.0
  COORDINATE_SYSTEM_NAME = PLANETOGRAPHIC
  COORDINATE_SYSTEM_TYPE = "BODY-FIXED ROTATING"
  EASTERNMOST_LONGITUDE = 40.6472
  FIRST_STANDARD_PARALLEL = "N/A"
  LINE_FIRST_PIXEL = 1
  LINE_LAST_PIXEL = 20159
  LINE_PROJECTION_OFFSET = -83539.75
  MAP_PROJECTION_ROTATION = 0.0
  MAP_PROJECTION_TYPE = SINUSOIDAL
  MAP_RESOLUTION = 2370.85521546667
  MAP_SCALE = 0.025
  MAXIMUM_LATITUDE = -35.2491
  MINIMUM_LATITUDE = -43.8215
  POSITIVE_LONGITUDE_DIRECTION = EAST
  REFERENCE_LATITUDE = "N/A"
  REFERENCE_LONGITUDE = "N/A"
  SAMPLE_FIRST_PIXEL = 1
  SAMPLE_LAST_PIXEL = 4044
  SAMPLE_PROJECTION_OFFSET = 2718.75
  SECOND_STANDARD_PARALLEL = "N/A"
  WESTERNMOST_LONGITUDE = 38.4347
END_OBJECT = IMAGE_MAP_PROJECTION
END
