PDS_VERSION_ID = PDS3
/* FILE DATA ELEMENTS */
RECORD_TYPE = UNDEFINED
/* POINTERS TO DATA OBJECTS */
^IMAGE = ("HC742_0000_RE4.TIF")
/* IDENTIFICATION DATA ELEMENTS */
DATA_SET_ID = "MEX-M-HRSC-4-REFDR-MAPPROJECT-EXT4-V4.0"
DATA_SET_NAME = "MARS EXPRESS HRSC MAP PROJECTED REFDR EXTENSION4 V4.0"
DETECTOR_ID = MEX_HRSC_RED
EVENT_TYPE = "MARS-REGIONAL-MAPPING-Im-Fl-Pf"
INSTRUMENT_HOST_ID = MEX
INSTRUMENT_HOST_NAME = "MARS EXPRESS"
INSTRUMENT_ID = HRSC
INSTRUMENT_NAME = "HIGH RESOLUTION STEREO CAMERA"
MISSION_NAME = "MARS EXPRESS"
MISSION_PHASE_NAME = ME_Phase_29
PROCESSING_LEVEL_ID = 4
PRODUCT_CREATION_TIME = 2023-01-31T11:51:40.000Z
PRODUCT_ID = "HC742_0000_RE4.TIF"
RELEASE_ID = 0003
REVISION_ID = 0000
/* QUALITY DATA ELEMENTS */
DATA_QUALITY_ID = 1
DATA_QUALITY_DESC = "Data calculated based on original SPICE kernels"
/* TIME DATA ELEMENTS */
SPACECRAFT_CLOCK_START_COUNT = "1/0337492418.09064"
SPACECRAFT_CLOCK_STOP_COUNT = "1/0337492582.30412"
START_TIME = 2014-01-11T03:53:49.075Z
STOP_TIME = 2014-01-11T03:55:05.963Z
/* ORBITAL DATA ELEMENTS */
ASCENDING_NODE_LONGITUDE = 334.54
MAXIMUM_RESOLUTION = 0.0634 <m/pixel>
FOOTPRINT_POINT_LATITUDE = (-40.9268,-40.9208,-40.9142,-40.9033, -40.8989,-40.8943,-40.8896,-40.8846, -40.8794,-40.8698,-40.8691,-40.8326, -40.6841,-40.5868,-40.3964,-40.2966, -40.1983,-40.0521,-39.8105,-39.6219, -39.5244,-39.4266,-39.329,-39.086, -38.9398,-38.7453,-38.5515,-38.406, -38.1636,-37.9701,-37.7747,-37.6752, -37.5756,-37.4759,-37.3764,-37.2272, -37.0783,-36.9789,-36.8795,-36.7306, -36.6312,-36.4699,-36.3173,-36.2152, -36.1098,-36.0085,-35.9066,-35.8567, -35.8101,-35.8195,-35.8245,-35.8357, -35.8401,-35.8414,-35.8439,-35.8469, -35.8511,-35.8564,-35.8567,-35.8579, -35.9587,-36.0611,-36.1654,-36.2706, -36.4255,-36.5749,-36.6852,-36.7849, -36.886,-37.0816,-37.2295,-37.3287, -37.429,-37.5317,-37.6841,-37.8334, -38.0288,-38.2715,-38.4173,-38.6114, -38.8543,-39.0003,-39.0976,-39.1951, -39.2928,-39.3904,-39.4879,-39.5853, -39.7314,-39.829,-39.9266,-40.0241, -40.1214,-40.2188,-40.4622,-40.6084, -40.7063,-40.8039,-40.8527,-40.9268)
FOOTPRINT_POINT_LONGITUDE = (143.282,143.042,142.802,142.448,142.32 ,142.191,142.061,141.932,141.802, 141.574,141.558,141.532,141.535,141.539 ,141.548,141.55,141.552,141.557,141.566 ,141.575,141.578,141.58,141.583,141.59, 141.593,141.598,141.603,141.607,141.613 ,141.618,141.622,141.624,141.626, 141.628,141.63,141.633,141.636,141.638, 141.64,141.643,141.645,141.647,141.65, 141.651,141.651,141.653,141.654,141.655 ,141.656,141.843,141.979,142.317, 142.586,142.805,142.94,143.074,143.276, 143.443,143.459,143.465,143.462,143.459 ,143.455,143.451,143.446,143.443, 143.439,143.436,143.433,143.427,143.423 ,143.42,143.417,143.412,143.407,143.402 ,143.396,143.387,143.383,143.376, 143.368,143.362,143.359,143.356,143.352 ,143.348,143.345,143.341,143.336, 143.332,143.329,143.325,143.321,143.318 ,143.309,143.303,143.299,143.295, 143.293,143.282)
ORBIT_NUMBER = 12742
ORBITAL_ECCENTRICITY = 0.577
ORBITAL_INCLINATION = 86.88
ORBITAL_SEMIMAJOR_AXIS = 8782.57
PERIAPSIS_ALTITUDE = 330.72
PERIAPSIS_ARGUMENT_ANGLE = 300.63
PERIAPSIS_TIME = 2014-01-11T03:49:34.000Z
SPACECRAFT_ORIENTATION = (0.0,1.0,0.0)
^MEX_ORIENTATION_DESC = "MEX_ORIENTATION_DESC.TXT"
SPACECRAFT_POINTING_MODE = ACROSSTRACK
^MEX_POINTING_DESC = "MEX_POINTING_DESC.TXT"
RIGHT_ASCENSION = -1e+32
DECLINATION = -1e+32
OFFSET_ANGLE = 0.269
SPACECRAFT_SOLAR_DISTANCE = 2.4919e+08
TARGET_NAME = MARS
/* CAMERA DATA ELEMENTS */
DETECTOR_TEMPERATURE = 18.3705 <degC>
FOCAL_PLANE_TEMPERATURE = 8.3794 <degC>
INST_CMPRS_NAME = "DISCRETE COSINE TRANSFORMATION (DCT)"
INST_CMPRS_RATIO = 3.89697
INST_CMPRS_QUALITY = 0
INST_CMPRS_QUANTZ_TBL_ID = 0
INSTRUMENT_TEMPERATURE = 11.6418 <degC>
LENS_TEMPERATURE = 8.9911 <degC>
MACROPIXEL_SIZE = 4
MISSING_FRAMES = 1
PIXEL_SUBSAMPLING_FLAG = N
SIGNAL_CHAIN_ID = 2
/* RADIOMETRIC DATA ELEMENTS */
BANDWIDTH = 48.0 <nm>
CENTER_FILTER_WAVELENGTH = 748.0 <nm>
RADIANCE_OFFSET = 0.0530297 <W*m**-2*sr**-1>
RADIANCE_SCALING_FACTOR = 0.00611995 <W*m**-2*sr**-1>
REFLECTANCE_SCALING_FACTOR = 0.000867236
MEX:REFLECTANCE_OFFSET = 0.00751464
/* IMAGE OBJECT DEFINITIONS */
OBJECT = IMAGE
  INTERCHANGE_FORMAT = BINARY
  LINES = 6035
  LINE_SAMPLES = 1900
  SAMPLE_TYPE = UNSIGNED_INTEGER
  SAMPLE_BITS = 8
  BANDS = 1
  BAND_STORAGE_TYPE = BAND_SEQUENTIAL
  MAXIMUM = 255
  MEAN = 84.4051
  MINIMUM = 1
  STANDARD_DEVIATION = 23.8331
END_OBJECT = IMAGE
/* MAP OBJECT DEFINITIONS */
OBJECT = IMAGE_MAP_PROJECTION
  ^DATA_SET_MAP_PROJECTION_CATALOG= "DSMAP.CAT"
  A_AXIS_RADIUS = 3396.0 <km>
  B_AXIS_RADIUS = 3396.0 <km>
  C_AXIS_RADIUS = 3396.0 <km>
  CENTER_LATITUDE = 0.0
  CENTER_LONGITUDE = 142.0
  COORDINATE_SYSTEM_NAME = PLANETOGRAPHIC
  COORDINATE_SYSTEM_TYPE = "BODY-FIXED ROTATING"
  EASTERNMOST_LONGITUDE = 143.465
  FIRST_STANDARD_PARALLEL = "N/A"
  LINE_FIRST_PIXEL = 1
  LINE_LAST_PIXEL = 6035
  LINE_PROJECTION_OFFSET = -42398.375
  MAP_PROJECTION_ROTATION = 0.0
  MAP_PROJECTION_TYPE = SINUSOIDAL
  MAP_RESOLUTION = 1185.42760773333 <pixel/degree>
  MAP_SCALE = 0.05 <km/pixel>
  MAXIMUM_LATITUDE = -35.8101
  MINIMUM_LATITUDE = -40.9268
  POSITIVE_LONGITUDE_DIRECTION = EAST
  REFERENCE_LATITUDE = "N/A"
  REFERENCE_LONGITUDE = "N/A"
  SAMPLE_FIRST_PIXEL = 1
  SAMPLE_LAST_PIXEL = 1900
  SAMPLE_PROJECTION_OFFSET = 449.375
  SECOND_STANDARD_PARALLEL = "N/A"
  WESTERNMOST_LONGITUDE = 141.532
END_OBJECT = IMAGE_MAP_PROJECTION
END
