PDS_VERSION_ID = PDS3
/* FILE DATA ELEMENTS */
RECORD_TYPE = UNDEFINED
/* POINTERS TO DATA OBJECTS */
^IMAGE = ("HC741_0000_S24.TIF")
/* IDENTIFICATION DATA ELEMENTS */
DATA_SET_ID = "MEX-M-HRSC-4-REFDR-MAPPROJECT-EXT4-V4.0"
DATA_SET_NAME = "MARS EXPRESS HRSC MAP PROJECTED REFDR EXTENSION4 V4.0"
DETECTOR_ID = MEX_HRSC_S2
EVENT_TYPE = "MARS-REGIONAL-MAPPING-Im-Fl-Pf"
INSTRUMENT_HOST_ID = MEX
INSTRUMENT_HOST_NAME = "MARS EXPRESS"
INSTRUMENT_ID = HRSC
INSTRUMENT_NAME = "HIGH RESOLUTION STEREO CAMERA"
MISSION_NAME = "MARS EXPRESS"
MISSION_PHASE_NAME = ME_Phase_29
PROCESSING_LEVEL_ID = 4
PRODUCT_CREATION_TIME = 2023-01-31T11:51:40.000Z
PRODUCT_ID = "HC741_0000_S24.TIF"
RELEASE_ID = 0003
REVISION_ID = 0000
/* QUALITY DATA ELEMENTS */
DATA_QUALITY_ID = 1
DATA_QUALITY_DESC = "Data calculated based on original SPICE kernels"
/* TIME DATA ELEMENTS */
SPACECRAFT_CLOCK_START_COUNT = "1/0337467090.09036"
SPACECRAFT_CLOCK_STOP_COUNT = "1/0337467344.55073"
START_TIME = 2014-01-10T20:51:34.844Z
STOP_TIME = 2014-01-10T20:54:32.006Z
/* ORBITAL DATA ELEMENTS */
ASCENDING_NODE_LONGITUDE = 334.57
MAXIMUM_RESOLUTION = 0.028
FOOTPRINT_POINT_LATITUDE = (-51.9238,-51.9132,-51.8931,-51.8927, -51.8327,-51.6151,-51.2894,-50.8544, -50.4185,-50.1932,-49.8558,-49.6308, -49.4051,-49.0669,-48.8416,-48.6199, -48.3934,-48.168,-47.9413,-47.7149, -47.489,-47.1507,-46.9253,-46.6996, -46.3613,-46.1358,-45.91,-45.6845, -45.3485,-45.0128,-44.7818,-44.4388, -44.2106,-43.8803,-43.5464,-43.3218, -43.0982,-42.8282,-42.4238,-42.1531, -41.8834,-41.615,-41.3467,-41.0793, -40.8083,-40.5401,-40.2772,-40.1445, -40.1016,-40.1029,-40.1044,-40.1043, -40.1053,-40.1051,-40.1065,-40.3717, -40.7787,-41.0487,-41.3142,-41.718, -41.9872,-42.2586,-42.5289,-42.798, -43.0671,-43.2973,-43.6315,-43.8572, -44.0831,-44.3113,-44.5379,-44.7634, -45.1015,-45.3274,-45.5535,-45.8926, -46.1185,-46.4589,-46.7985,-47.0256, -47.2513,-47.4756,-47.7013,-47.9278, -48.1555,-48.383,-48.7248,-48.9457, -49.1715,-49.4,-49.6255,-50.0639, -50.2893,-50.5129,-50.7319,-50.9515, -51.1777,-51.7279,-51.8353,-51.9238)
FOOTPRINT_POINT_LONGITUDE = (245.768,244.879,243.965,243.948, 243.932,243.951,243.978,244.012,244.046 ,244.062,244.087,244.102,244.118,244.14 ,244.155,244.17,244.183,244.197,244.21, 244.223,244.235,244.254,244.266,244.278 ,244.295,244.306,244.316,244.327, 244.342,244.357,244.366,244.379,244.387 ,244.401,244.414,244.422,244.43,244.439 ,244.451,244.459,244.466,244.474, 244.481,244.488,244.494,244.5,244.507, 244.51,244.511,245.214,245.518,245.925, 246.23,246.247,246.252,246.248,246.235, 246.227,246.222,246.211,246.204,246.195 ,246.186,246.179,246.171,246.165, 246.158,246.151,246.143,246.135,246.127 ,246.119,246.108,246.101,246.093,246.08 ,246.072,246.059,246.045,246.036, 246.027,246.019,246.01,246.001,245.99, 245.979,245.962,245.956,245.946,245.934 ,245.924,245.912,245.902,245.891, 245.879,245.868,245.85,245.817,245.813, 245.768)
ORBIT_NUMBER = 12741
ORBITAL_ECCENTRICITY = 0.577
ORBITAL_INCLINATION = 86.89
ORBITAL_SEMIMAJOR_AXIS = 8780.58
PERIAPSIS_ALTITUDE = 329.41
PERIAPSIS_ARGUMENT_ANGLE = 300.77
PERIAPSIS_TIME = 2014-01-10T20:50:13.000Z
SPACECRAFT_ORIENTATION = (0.0,1.0,0.0)
^MEX_ORIENTATION_DESC = "MEX_ORIENTATION_DESC.TXT"
SPACECRAFT_POINTING_MODE = ACROSSTRACK
^MEX_POINTING_DESC = "MEX_POINTING_DESC.TXT"
RIGHT_ASCENSION = -1e+32
DECLINATION = -1e+32
OFFSET_ANGLE = -0.269
SPACECRAFT_SOLAR_DISTANCE = 2.49194e+08
TARGET_NAME = MARS
/* CAMERA DATA ELEMENTS */
DETECTOR_TEMPERATURE = 19.1861
FOCAL_PLANE_TEMPERATURE = 8.7872
INST_CMPRS_NAME = "DISCRETE COSINE TRANSFORMATION (DCT)"
INST_CMPRS_RATIO = 6.44513
INST_CMPRS_QUALITY = 0
INST_CMPRS_QUANTZ_TBL_ID = 0
INSTRUMENT_TEMPERATURE = 11.8457
LENS_TEMPERATURE = 9.195
MACROPIXEL_SIZE = 2
MISSING_FRAMES = 0
PIXEL_SUBSAMPLING_FLAG = N
SIGNAL_CHAIN_ID = 1
/* RADIOMETRIC DATA ELEMENTS */
BANDWIDTH = 178.0
CENTER_FILTER_WAVELENGTH = 679.0
RADIANCE_OFFSET = 0.0958284
RADIANCE_SCALING_FACTOR = 0.0135287
REFLECTANCE_SCALING_FACTOR = 0.000444897
MEX:REFLECTANCE_OFFSET = 0.00315136
/* IMAGE OBJECT DEFINITIONS */
OBJECT = IMAGE
  INTERCHANGE_FORMAT = BINARY
  LINES = 28004
  LINE_SAMPLES = 3919
  SAMPLE_TYPE = UNSIGNED_INTEGER
  SAMPLE_BITS = 8
  BANDS = 1
  BAND_STORAGE_TYPE = BAND_SEQUENTIAL
  MAXIMUM = 255
  MEAN = 71.9107
  MINIMUM = 1
  STANDARD_DEVIATION = 25.758
END_OBJECT = IMAGE
/* MAP OBJECT DEFINITIONS */
OBJECT = IMAGE_MAP_PROJECTION
  ^DATA_SET_MAP_PROJECTION_CATALOG= "DSMAP.CAT"
  A_AXIS_RADIUS = 3396.0
  B_AXIS_RADIUS = 3396.0
  C_AXIS_RADIUS = 3396.0
  CENTER_LATITUDE = 0.0
  CENTER_LONGITUDE = 245.0
  COORDINATE_SYSTEM_NAME = PLANETOGRAPHIC
  COORDINATE_SYSTEM_TYPE = "BODY-FIXED ROTATING"
  EASTERNMOST_LONGITUDE = 246.252
  FIRST_STANDARD_PARALLEL = "N/A"
  LINE_FIRST_PIXEL = 1
  LINE_LAST_PIXEL = 28004
  LINE_PROJECTION_OFFSET = -94916.25
  MAP_PROJECTION_ROTATION = 0.0
  MAP_PROJECTION_TYPE = SINUSOIDAL
  MAP_RESOLUTION = 2370.85521546667
  MAP_SCALE = 0.025
  MAXIMUM_LATITUDE = -40.1016
  MINIMUM_LATITUDE = -51.9238
  POSITIVE_LONGITUDE_DIRECTION = EAST
  REFERENCE_LATITUDE = "N/A"
  REFERENCE_LONGITUDE = "N/A"
  SAMPLE_FIRST_PIXEL = 1
  SAMPLE_LAST_PIXEL = 3919
  SAMPLE_PROJECTION_OFFSET = 1583.25
  SECOND_STANDARD_PARALLEL = "N/A"
  WESTERNMOST_LONGITUDE = 243.932
END_OBJECT = IMAGE_MAP_PROJECTION
END
