PDS_VERSION_ID = PDS3
/* FILE DATA ELEMENTS */
RECORD_TYPE = UNDEFINED
/* POINTERS TO DATA OBJECTS */
^IMAGE = ("HC741_0000_RE4.TIF")
/* IDENTIFICATION DATA ELEMENTS */
DATA_SET_ID = "MEX-M-HRSC-4-REFDR-MAPPROJECT-EXT4-V4.0"
DATA_SET_NAME = "MARS EXPRESS HRSC MAP PROJECTED REFDR EXTENSION4 V4.0"
DETECTOR_ID = MEX_HRSC_RED
EVENT_TYPE = "MARS-REGIONAL-MAPPING-Im-Fl-Pf"
INSTRUMENT_HOST_ID = MEX
INSTRUMENT_HOST_NAME = "MARS EXPRESS"
INSTRUMENT_ID = HRSC
INSTRUMENT_NAME = "HIGH RESOLUTION STEREO CAMERA"
MISSION_NAME = "MARS EXPRESS"
MISSION_PHASE_NAME = ME_Phase_29
PROCESSING_LEVEL_ID = 4
PRODUCT_CREATION_TIME = 2023-01-31T11:51:40.000Z
PRODUCT_ID = "HC741_0000_RE4.TIF"
RELEASE_ID = 0003
REVISION_ID = 0000
/* QUALITY DATA ELEMENTS */
DATA_QUALITY_ID = 1
DATA_QUALITY_DESC = "Data calculated based on original SPICE kernels"
/* TIME DATA ELEMENTS */
SPACECRAFT_CLOCK_START_COUNT = "1/0337467090.09036"
SPACECRAFT_CLOCK_STOP_COUNT = "1/0337467344.55073"
START_TIME = 2014-01-10T20:51:39.757Z
STOP_TIME = 2014-01-10T20:54:37.867Z
/* ORBITAL DATA ELEMENTS */
ASCENDING_NODE_LONGITUDE = 334.57
MAXIMUM_RESOLUTION = 0.0552
FOOTPRINT_POINT_LATITUDE = (-51.9197,-51.9101,-51.8994,-51.8862, -51.8857,-51.8356,-51.2954,-50.863, -50.6422,-50.4186,-50.1951,-49.8598, -49.5244,-49.3001,-49.0762,-48.7408, -48.4069,-48.1832,-47.9586,-47.6218, -47.3977,-47.174,-46.8384,-46.6144, -46.3907,-46.1671,-45.9432,-45.7195, -45.4961,-45.2741,-44.9409,-44.7129, -44.3741,-44.1481,-43.8195,-43.5994, -43.2288,-42.8302,-42.564,-42.296, -41.8952,-41.6292,-41.364,-40.9661, -40.5655,-40.3052,-40.1737,-40.0927, -40.0967,-40.0967,-40.0982,-40.0988, -40.0988,-40.0998,-40.364,-40.6311, -40.9005,-41.1645,-41.4294,-41.696, -42.0962,-42.3642,-42.6319,-42.8984, -43.1642,-43.4267,-43.6562,-43.8798, -44.1036,-44.3293,-44.6659,-44.8897, -45.1126,-45.3366,-45.6731,-46.0091, -46.2333,-46.4585,-46.6829,-46.9079, -47.1328,-47.3562,-47.5793,-47.8036, -48.1414,-48.4805,-48.7069,-48.9263, -49.1505,-49.3775,-49.6013,-50.0396, -50.263,-50.5992,-50.8234,-51.042, -51.2669,-51.7024,-51.81,-51.9197)
FOOTPRINT_POINT_LONGITUDE = (245.766,245.03,244.488,243.966,243.949 ,243.934,243.979,244.013,244.03,244.047 ,244.063,244.087,244.111,244.126,244.14 ,244.162,244.183,244.196,244.209, 244.228,244.241,244.253,244.27,244.282, 244.293,244.304,244.314,244.325,244.335 ,244.345,244.36,244.368,244.38,244.388, 244.402,244.411,244.424,244.437,244.446 ,244.453,244.464,244.471,244.478, 244.488,244.497,244.504,244.507,244.509 ,244.814,245.106,245.594,246.233,246.25 ,246.255,246.25,246.242,246.233,246.227 ,246.221,246.213,246.201,246.193, 246.184,246.176,246.169,246.164,246.157 ,246.15,246.143,246.134,246.123,246.115 ,246.108,246.1,246.088,246.076,246.068, 246.058,246.05,246.04,246.031,246.023, 246.015,246.005,245.99,245.973,245.962, 245.956,245.946,245.933,245.923,245.911 ,245.901,245.885,245.873,245.86,245.841 ,245.817,245.812,245.766)
ORBIT_NUMBER = 12741
ORBITAL_ECCENTRICITY = 0.577
ORBITAL_INCLINATION = 86.89
ORBITAL_SEMIMAJOR_AXIS = 8780.58
PERIAPSIS_ALTITUDE = 329.41
PERIAPSIS_ARGUMENT_ANGLE = 300.77
PERIAPSIS_TIME = 2014-01-10T20:50:13.000Z
SPACECRAFT_ORIENTATION = (0.0,1.0,0.0)
^MEX_ORIENTATION_DESC = "MEX_ORIENTATION_DESC.TXT"
SPACECRAFT_POINTING_MODE = ACROSSTRACK
^MEX_POINTING_DESC = "MEX_POINTING_DESC.TXT"
RIGHT_ASCENSION = -1e+32
DECLINATION = -1e+32
OFFSET_ANGLE = -0.269
SPACECRAFT_SOLAR_DISTANCE = 2.49194e+08
TARGET_NAME = MARS
/* CAMERA DATA ELEMENTS */
DETECTOR_TEMPERATURE = 19.1861
FOCAL_PLANE_TEMPERATURE = 8.7872
INST_CMPRS_NAME = "DISCRETE COSINE TRANSFORMATION (DCT)"
INST_CMPRS_RATIO = 8.81944
INST_CMPRS_QUALITY = 0
INST_CMPRS_QUANTZ_TBL_ID = 0
INSTRUMENT_TEMPERATURE = 11.8457
LENS_TEMPERATURE = 9.195
MACROPIXEL_SIZE = 4
MISSING_FRAMES = 0
PIXEL_SUBSAMPLING_FLAG = N
SIGNAL_CHAIN_ID = 2
/* RADIOMETRIC DATA ELEMENTS */
BANDWIDTH = 48.0
CENTER_FILTER_WAVELENGTH = 748.0
RADIANCE_OFFSET = 0.0200822
RADIANCE_SCALING_FACTOR = 0.00364893
REFLECTANCE_SCALING_FACTOR = 0.000517089
MEX:REFLECTANCE_OFFSET = 0.00284585
/* IMAGE OBJECT DEFINITIONS */
OBJECT = IMAGE
  INTERCHANGE_FORMAT = BINARY
  LINES = 14002
  LINE_SAMPLES = 1960
  SAMPLE_TYPE = UNSIGNED_INTEGER
  SAMPLE_BITS = 8
  BANDS = 1
  BAND_STORAGE_TYPE = BAND_SEQUENTIAL
  MAXIMUM = 255
  MEAN = 69.1955
  MINIMUM = 1
  STANDARD_DEVIATION = 25.9936
END_OBJECT = IMAGE
/* MAP OBJECT DEFINITIONS */
OBJECT = IMAGE_MAP_PROJECTION
  ^DATA_SET_MAP_PROJECTION_CATALOG= "DSMAP.CAT"
  A_AXIS_RADIUS = 3396.0
  B_AXIS_RADIUS = 3396.0
  C_AXIS_RADIUS = 3396.0
  CENTER_LATITUDE = 0.0
  CENTER_LONGITUDE = 245.0
  COORDINATE_SYSTEM_NAME = PLANETOGRAPHIC
  COORDINATE_SYSTEM_TYPE = "BODY-FIXED ROTATING"
  EASTERNMOST_LONGITUDE = 246.255
  FIRST_STANDARD_PARALLEL = "N/A"
  LINE_FIRST_PIXEL = 1
  LINE_LAST_PIXEL = 14002
  LINE_PROJECTION_OFFSET = -47458.375
  MAP_PROJECTION_ROTATION = 0.0
  MAP_PROJECTION_TYPE = SINUSOIDAL
  MAP_RESOLUTION = 1185.42760773333
  MAP_SCALE = 0.05
  MAXIMUM_LATITUDE = -40.0927
  MINIMUM_LATITUDE = -51.9197
  POSITIVE_LONGITUDE_DIRECTION = EAST
  REFERENCE_LATITUDE = "N/A"
  REFERENCE_LONGITUDE = "N/A"
  SAMPLE_FIRST_PIXEL = 1
  SAMPLE_LAST_PIXEL = 1960
  SAMPLE_PROJECTION_OFFSET = 791.375
  SECOND_STANDARD_PARALLEL = "N/A"
  WESTERNMOST_LONGITUDE = 243.934
END_OBJECT = IMAGE_MAP_PROJECTION
END
