PDS_VERSION_ID = PDS3
/* FILE DATA ELEMENTS */
RECORD_TYPE = UNDEFINED
/* POINTERS TO DATA OBJECTS */
^IMAGE = ("HC738_0000_GR4.TIF")
/* IDENTIFICATION DATA ELEMENTS */
DATA_SET_ID = "MEX-M-HRSC-4-REFDR-MAPPROJECT-EXT4-V4.0"
DATA_SET_NAME = "MARS EXPRESS HRSC MAP PROJECTED REFDR EXTENSION4 V4.0"
DETECTOR_ID = MEX_HRSC_GREEN
EVENT_TYPE = "MARS-TERMINATOR-CALIBRATION-Tc"
INSTRUMENT_HOST_ID = MEX
INSTRUMENT_HOST_NAME = "MARS EXPRESS"
INSTRUMENT_ID = HRSC
INSTRUMENT_NAME = "HIGH RESOLUTION STEREO CAMERA"
MISSION_NAME = "MARS EXPRESS"
MISSION_PHASE_NAME = ME_Phase_29
PROCESSING_LEVEL_ID = 4
PRODUCT_CREATION_TIME = 2023-01-31T11:51:40.000Z
PRODUCT_ID = "HC738_0000_GR4.TIF"
RELEASE_ID = 0003
REVISION_ID = 0000
/* QUALITY DATA ELEMENTS */
DATA_QUALITY_ID = 1
DATA_QUALITY_DESC = "Data calculated based on original SPICE kernels"
/* TIME DATA ELEMENTS */
SPACECRAFT_CLOCK_START_COUNT = "1/0337397285.07298"
SPACECRAFT_CLOCK_STOP_COUNT = "1/0337397763.06559"
START_TIME = 2014-01-10T01:30:32.833Z
STOP_TIME = 2014-01-10T01:34:27.838Z
/* ORBITAL DATA ELEMENTS */
ASCENDING_NODE_LONGITUDE = 334.62
MAXIMUM_RESOLUTION = 0.613
FOOTPRINT_POINT_LATITUDE = (12.595,12.5121,13.0188,14.0105,13.4607 ,13.9716,15.1351,17.4673,20.6191, 25.1938,28.2581,30.9701,34.737,40.1648, 44.9634,49.5152,51.9322,55.397,60.5128, 63.5824,67.3519,69.9593,72.8127,76.8155 ,78.3343,79.4899,79.3405,77.0265,74.048 ,71.9989,68.0166,64.9678,62.1422, 57.6212,53.1101,47.2454,43.1443,39.5442 ,36.7052,34.1523,30.1286,25.7936, 24.0864,22.7398,22.5504,22.2651,25.856, 22.3357,23.1147,22.3691,22.0353,21.6974 ,21.3997,21.0336,22.2753,20.7396, 23.7054,28.8787,32.7774,35.5782,39.4639 ,44.0088,47.0939,51.8772,56.0496, 58.9567,61.3497,64.4396,67.951,70.0349, 71.2057,72.3043,72.6381,72.3432,71.6929 ,70.1676,66.8023,62.705,59.3991,57.2336 ,52.8779,49.5538,46.4598,43.0205, 40.4575,37.9949,34.0702,31.1379,27.266, 24.5482,20.5429,17.4362,14.9815,13.6689 ,13.7241,13.6939,13.2263,13.1442, 12.595)
FOOTPRINT_POINT_LONGITUDE = (175.056,175.038,174.329,169.946, 166.563,163.702,161.347,157.58,157.749, 157.884,157.902,157.865,157.722,157.297 ,156.659,155.747,155.105,153.939, 151.481,149.381,145.786,142.278,136.824 ,123.049,112.93,97.6298,69.2249,47.9839 ,36.2659,31.2846,24.8954,21.6617, 19.4305,16.8556,15.0899,13.566,12.8549, 12.4106,12.16,11.9984,11.8619,11.8406, 9.39995,6.81059,1.44576,358.375, 0.028987,354.449,359.979,0.0302981, 352.102,347.019,343.624,338.498,335.447 ,332.599,331.25,330.565,329.86,329.24, 328.191,326.615,325.272,322.592,319.414 ,316.518,313.526,308.46,299.841,291.786 ,285.024,274.179,265.496,252.728, 245.127,235.18,223.205,214.887,210.417, 208.138,204.594,202.552,201.021,199.638 ,198.783,198.08,197.156,196.602,196.016 ,195.693,195.331,195.142,195.036, 192.371,188.008,184.65,180.498,177.485, 175.056)
ORBIT_NUMBER = 12738
ORBITAL_ECCENTRICITY = 0.577
ORBITAL_INCLINATION = 86.9
ORBITAL_SEMIMAJOR_AXIS = 8780.31
PERIAPSIS_ALTITUDE = 330.23
PERIAPSIS_ARGUMENT_ANGLE = 301.3
PERIAPSIS_TIME = 2014-01-09T23:52:20.000Z
SPACECRAFT_ORIENTATION = (0.0,1.0,0.0)
^MEX_ORIENTATION_DESC = "MEX_ORIENTATION_DESC.TXT"
SPACECRAFT_POINTING_MODE = INERT
^MEX_POINTING_DESC = "MEX_POINTING_DESC.TXT"
RIGHT_ASCENSION = 152.395
DECLINATION = -50.966
OFFSET_ANGLE = -1e+32
SPACECRAFT_SOLAR_DISTANCE = 2.49203e+08
TARGET_NAME = MARS
/* CAMERA DATA ELEMENTS */
DETECTOR_TEMPERATURE = 18.3705
FOCAL_PLANE_TEMPERATURE = 8.5833
INST_CMPRS_NAME = "DISCRETE COSINE TRANSFORMATION (DCT)"
INST_CMPRS_RATIO = 11.0608
INST_CMPRS_QUALITY = 0
INST_CMPRS_QUANTZ_TBL_ID = 0
INSTRUMENT_TEMPERATURE = 11.234
LENS_TEMPERATURE = 8.9911
MACROPIXEL_SIZE = 2
MISSING_FRAMES = 0
PIXEL_SUBSAMPLING_FLAG = N
SIGNAL_CHAIN_ID = 2
/* RADIOMETRIC DATA ELEMENTS */
BANDWIDTH = 88.0
CENTER_FILTER_WAVELENGTH = 538.0
RADIANCE_OFFSET = 0.0
RADIANCE_SCALING_FACTOR = 0.022013
REFLECTANCE_SCALING_FACTOR = 0.00117699
MEX:REFLECTANCE_OFFSET = 0.0
/* IMAGE OBJECT DEFINITIONS */
OBJECT = IMAGE
  INTERCHANGE_FORMAT = BINARY
  LINES = 7852
  LINE_SAMPLES = 6445
  SAMPLE_TYPE = UNSIGNED_INTEGER
  SAMPLE_BITS = 8
  BANDS = 1
  BAND_STORAGE_TYPE = BAND_SEQUENTIAL
  MAXIMUM = 255
  MEAN = 65.3526
  MINIMUM = 1
  STANDARD_DEVIATION = 51.6961
END_OBJECT = IMAGE
/* MAP OBJECT DEFINITIONS */
OBJECT = IMAGE_MAP_PROJECTION
  ^DATA_SET_MAP_PROJECTION_CATALOG= "DSMAP.CAT"
  A_AXIS_RADIUS = 3396.0
  B_AXIS_RADIUS = 3396.0
  C_AXIS_RADIUS = 3396.0
  CENTER_LATITUDE = 83.70950000000001
  CENTER_LONGITUDE = 207.475
  COORDINATE_SYSTEM_NAME = PLANETOGRAPHIC
  COORDINATE_SYSTEM_TYPE = "BODY-FIXED ROTATING"
  EASTERNMOST_LONGITUDE = 360.0
  FIRST_STANDARD_PARALLEL = "N/A"
  LINE_FIRST_PIXEL = 1
  LINE_LAST_PIXEL = 7852
  LINE_PROJECTION_OFFSET = 3925.0
  MAP_PROJECTION_ROTATION = 0.0
  MAP_PROJECTION_TYPE = ORTHOGRAPHIC
  MAP_RESOLUTION = 74.08922548333329
  MAP_SCALE = 0.8
  MAXIMUM_LATITUDE = 90.0
  MINIMUM_LATITUDE = 12.5121
  POSITIVE_LONGITUDE_DIRECTION = EAST
  REFERENCE_LATITUDE = "N/A"
  REFERENCE_LONGITUDE = "N/A"
  SAMPLE_FIRST_PIXEL = 1
  SAMPLE_LAST_PIXEL = 6445
  SAMPLE_PROJECTION_OFFSET = 3158.0
  SECOND_STANDARD_PARALLEL = "N/A"
  WESTERNMOST_LONGITUDE = 0.0
END_OBJECT = IMAGE_MAP_PROJECTION
END
