PDS_VERSION_ID = PDS3
/* FILE DATA ELEMENTS */
RECORD_TYPE = UNDEFINED
/* POINTERS TO DATA OBJECTS */
^IMAGE = ("HC737_0000_P14.TIF")
/* IDENTIFICATION DATA ELEMENTS */
DATA_SET_ID = "MEX-M-HRSC-4-REFDR-MAPPROJECT-EXT4-V4.0"
DATA_SET_NAME = "MARS EXPRESS HRSC MAP PROJECTED REFDR EXTENSION4 V4.0"
DETECTOR_ID = MEX_HRSC_P1
EVENT_TYPE = "MARS-REGIONAL-MAPPING-Im-Gl-Pf"
INSTRUMENT_HOST_ID = MEX
INSTRUMENT_HOST_NAME = "MARS EXPRESS"
INSTRUMENT_ID = HRSC
INSTRUMENT_NAME = "HIGH RESOLUTION STEREO CAMERA"
MISSION_NAME = "MARS EXPRESS"
MISSION_PHASE_NAME = ME_Phase_29
PROCESSING_LEVEL_ID = 4
PRODUCT_CREATION_TIME = 2023-01-31T11:51:40.000Z
PRODUCT_ID = "HC737_0000_P14.TIF"
RELEASE_ID = 0003
REVISION_ID = 0000
/* QUALITY DATA ELEMENTS */
DATA_QUALITY_ID = 1
DATA_QUALITY_DESC = "Data calculated based on original SPICE kernels"
/* TIME DATA ELEMENTS */
SPACECRAFT_CLOCK_START_COUNT = "1/0337366533.07319"
SPACECRAFT_CLOCK_STOP_COUNT = "1/0337366766.05599"
START_TIME = 2014-01-09T16:56:31.328Z
STOP_TIME = 2014-01-09T16:59:13.239Z
/* ORBITAL DATA ELEMENTS */
ASCENDING_NODE_LONGITUDE = 334.64
MAXIMUM_RESOLUTION = 0.0298
FOOTPRINT_POINT_LATITUDE = (-46.3866,-46.3767,-46.3601,-46.3465, -46.346,-46.3769,-45.9639,-45.6778, -45.4809,-45.2843,-45.0866,-44.8904, -44.6932,-44.4978,-44.303,-44.1075, -43.9122,-43.7169,-43.522,-43.2297, -42.9373,-42.7423,-42.5477,-42.2567, -42.0627,-41.6774,-41.4838,-41.0987, -40.7155,-40.337,-40.1393,-39.9387, -39.7422,-39.5474,-39.353,-39.157, -38.9454,-38.7464,-38.547,-38.3477, -38.1487,-37.945,-37.7415,-37.5382, -37.236,-37.0304,-36.8208,-36.6148, -36.5119,-36.4654,-36.474,-36.478, -36.4805,-36.4836,-36.4852,-36.4853, -36.4858,-36.7966,-37.0042,-37.2114, -37.4144,-37.6178,-37.8215,-38.0254, -38.2282,-38.4275,-38.7257,-39.025, -39.239,-39.4356,-39.6319,-39.828, -40.024,-40.318,-40.7028,-40.9918, -41.375,-41.6654,-41.8587,-42.1486, -42.3434,-42.6346,-42.8289,-43.1201, -43.3146,-43.5104,-43.7061,-43.9997, -44.2961,-44.4925,-44.6893,-44.9844, -45.1806,-45.3792,-45.5763,-45.7734, -46.0507,-46.2984,-46.3808,-46.3866)
FOOTPRINT_POINT_LONGITUDE = (294.463,293.923,293.192,292.687,292.67 ,292.642,292.663,292.678,292.688, 292.698,292.708,292.717,292.727,292.735 ,292.743,292.752,292.76,292.768,292.775 ,292.787,292.798,292.806,292.813, 292.823,292.83,292.841,292.848,292.859, 292.869,292.876,292.882,292.889,292.894 ,292.897,292.901,292.905,292.908, 292.911,292.915,292.918,292.921,292.925 ,292.928,292.93,292.933,292.936,292.939 ,292.941,292.942,292.942,293.516, 293.887,294.147,294.555,294.833,294.852 ,294.859,294.85,294.843,294.837,294.831 ,294.825,294.819,294.812,294.806, 294.799,294.789,294.779,294.772,294.766 ,294.76,294.753,294.746,294.735,294.721 ,294.711,294.696,294.686,294.678, 294.667,294.66,294.648,294.64,294.628, 294.62,294.612,294.604,294.592,294.581, 294.572,294.564,294.55,294.541,294.533, 294.524,294.514,294.501,294.488,294.484 ,294.463)
ORBIT_NUMBER = 12737
ORBITAL_ECCENTRICITY = 0.577
ORBITAL_INCLINATION = 86.88
ORBITAL_SEMIMAJOR_AXIS = 8781.18
PERIAPSIS_ALTITUDE = 330.3
PERIAPSIS_ARGUMENT_ANGLE = 301.48
PERIAPSIS_TIME = 2014-01-09T16:53:06.000Z
SPACECRAFT_ORIENTATION = (0.0,1.0,0.0)
^MEX_ORIENTATION_DESC = "MEX_ORIENTATION_DESC.TXT"
SPACECRAFT_POINTING_MODE = NADIR
^MEX_POINTING_DESC = "MEX_POINTING_DESC.TXT"
RIGHT_ASCENSION = -1e+32
DECLINATION = -1e+32
OFFSET_ANGLE = -1e+32
SPACECRAFT_SOLAR_DISTANCE = 2.49206e+08
TARGET_NAME = MARS
/* CAMERA DATA ELEMENTS */
DETECTOR_TEMPERATURE = 17.5549
FOCAL_PLANE_TEMPERATURE = 8.5833
INST_CMPRS_NAME = "DISCRETE COSINE TRANSFORMATION (DCT)"
INST_CMPRS_RATIO = 8.85016
INST_CMPRS_QUALITY = 0
INST_CMPRS_QUANTZ_TBL_ID = 0
INSTRUMENT_TEMPERATURE = 11.4379
LENS_TEMPERATURE = 9.6028
MACROPIXEL_SIZE = 2
PIXEL_SUBSAMPLING_FLAG = N
SIGNAL_CHAIN_ID = 3
/* RADIOMETRIC DATA ELEMENTS */
BANDWIDTH = 174.0
CENTER_FILTER_WAVELENGTH = 675.0
RADIANCE_OFFSET = 0.288324
RADIANCE_SCALING_FACTOR = 0.00979925
REFLECTANCE_SCALING_FACTOR = 0.000327337
MEX:REFLECTANCE_OFFSET = 0.00963126
/* IMAGE OBJECT DEFINITIONS */
OBJECT = IMAGE
  INTERCHANGE_FORMAT = BINARY
  LINES = 23573
  LINE_SAMPLES = 3741
  SAMPLE_TYPE = UNSIGNED_INTEGER
  SAMPLE_BITS = 8
  BANDS = 1
  BAND_STORAGE_TYPE = BAND_SEQUENTIAL
  MAXIMUM = 255
  MEAN = 102.675
  MINIMUM = 1
  STANDARD_DEVIATION = 24.2104
END_OBJECT = IMAGE
/* MAP OBJECT DEFINITIONS */
OBJECT = IMAGE_MAP_PROJECTION
  ^DATA_SET_MAP_PROJECTION_CATALOG= "DSMAP.CAT"
  A_AXIS_RADIUS = 3396.0
  B_AXIS_RADIUS = 3396.0
  C_AXIS_RADIUS = 3396.0
  CENTER_LATITUDE = 0.0
  CENTER_LONGITUDE = 294.0
  COORDINATE_SYSTEM_NAME = PLANETOGRAPHIC
  COORDINATE_SYSTEM_TYPE = "BODY-FIXED ROTATING"
  EASTERNMOST_LONGITUDE = 294.859
  FIRST_STANDARD_PARALLEL = "N/A"
  LINE_FIRST_PIXEL = 1
  LINE_LAST_PIXEL = 23573
  LINE_PROJECTION_OFFSET = -86518.25
  MAP_PROJECTION_ROTATION = 0.0
  MAP_PROJECTION_TYPE = SINUSOIDAL
  MAP_RESOLUTION = 2370.85521546667
  MAP_SCALE = 0.025
  MAXIMUM_LATITUDE = -36.4654
  MINIMUM_LATITUDE = -46.3866
  POSITIVE_LONGITUDE_DIRECTION = EAST
  REFERENCE_LATITUDE = "N/A"
  REFERENCE_LONGITUDE = "N/A"
  SAMPLE_FIRST_PIXEL = 1
  SAMPLE_LAST_PIXEL = 3741
  SAMPLE_PROJECTION_OFFSET = 2192.75
  SECOND_STANDARD_PARALLEL = "N/A"
  WESTERNMOST_LONGITUDE = 292.642
END_OBJECT = IMAGE_MAP_PROJECTION
END
