PDS_VERSION_ID = PDS3
/* FILE DATA ELEMENTS */
RECORD_TYPE = UNDEFINED
/* POINTERS TO DATA OBJECTS */
^IMAGE = ("HC736_0000_RE4.TIF")
/* IDENTIFICATION DATA ELEMENTS */
DATA_SET_ID = "MEX-M-HRSC-4-REFDR-MAPPROJECT-EXT4-V4.0"
DATA_SET_NAME = "MARS EXPRESS HRSC MAP PROJECTED REFDR EXTENSION4 V4.0"
DETECTOR_ID = MEX_HRSC_RED
EVENT_TYPE = "MARS-REGIONAL-MAPPING-Vo-Im-Fl"
INSTRUMENT_HOST_ID = MEX
INSTRUMENT_HOST_NAME = "MARS EXPRESS"
INSTRUMENT_ID = HRSC
INSTRUMENT_NAME = "HIGH RESOLUTION STEREO CAMERA"
MISSION_NAME = "MARS EXPRESS"
MISSION_PHASE_NAME = ME_Phase_29
PROCESSING_LEVEL_ID = 4
PRODUCT_CREATION_TIME = 2023-01-31T11:51:40.000Z
PRODUCT_ID = "HC736_0000_RE4.TIF"
RELEASE_ID = 0003
REVISION_ID = 0000
/* QUALITY DATA ELEMENTS */
DATA_QUALITY_ID = 1
DATA_QUALITY_DESC = "Data calculated based on original SPICE kernels"
/* TIME DATA ELEMENTS */
SPACECRAFT_CLOCK_START_COUNT = "1/0337341353.07309"
SPACECRAFT_CLOCK_STOP_COUNT = "1/0337341582.62403"
START_TIME = 2014-01-09T09:56:02.964Z
STOP_TIME = 2014-01-09T09:58:32.865Z
/* ORBITAL DATA ELEMENTS */
ASCENDING_NODE_LONGITUDE = 334.66
MAXIMUM_RESOLUTION = 0.0572 <m/pixel>
FOOTPRINT_POINT_LATITUDE = (-47.5556,-47.5467,-47.5388,-47.5312, -47.5087,-47.5081,-47.4616,-47.1891, -47.0066,-46.733,-46.5459,-46.1867, -46.0046,-45.8231,-45.4611,-45.2798, -45.008,-44.6463,-44.4599,-44.1858, -44.0035,-43.8204,-43.6383,-43.4555, -43.0965,-42.7415,-42.5598,-42.3442, -42.1272,-41.911,-41.5872,-41.2647, -41.046,-40.7185,-40.5074,-40.2934, -40.0759,-39.8596,-39.6432,-39.4275, -39.2123,-38.9967,-38.7814,-38.4586, -38.2437,-38.0294,-37.708,-37.6006, -37.5944,-37.6012,-37.607,-37.6134, -37.6171,-37.6208,-37.6209,-37.6219, -37.9434,-38.1592,-38.4824,-38.6972, -38.9126,-39.1287,-39.3455,-39.5621, -39.7779,-40.1025,-40.3189,-40.5351, -40.7516,-40.9676,-41.2914,-41.5078, -41.7247,-41.9413,-42.1581,-42.3749, -42.6833,-42.8652,-43.1378,-43.3197, -43.5923,-43.7744,-44.0469,-44.2284, -44.5009,-44.8634,-45.136,-45.3181, -45.5866,-45.8603,-46.0425,-46.3185, -46.5005,-46.6828,-46.8649,-47.0471, -47.2296,-47.412,-47.5031,-47.5556)
FOOTPRINT_POINT_LONGITUDE = (36.5772,36.1434,35.8223,35.5496, 34.8756,34.8595,34.8344,34.8519,34.8629 ,34.8791,34.8875,34.9106,34.9207, 34.9308,34.9511,34.9608,34.9751,34.9937 ,35.0003,35.0123,35.0203,35.0277, 35.0354,35.0426,35.0594,35.0774,35.0842 ,35.0921,35.0997,35.1075,35.1189, 35.1303,35.136,35.1444,35.1529,35.1598, 35.165,35.1706,35.1758,35.1811,35.1865, 35.1914,35.1963,35.2032,35.2077,35.2122 ,35.2186,35.2205,35.2206,35.5288, 35.8054,36.1958,36.5054,36.9453,36.9616 ,36.967,36.959,36.9529,36.9439,36.9382, 36.9322,36.9257,36.9189,36.9121,36.9057 ,36.8955,36.8886,36.8818,36.8748, 36.8679,36.8576,36.8504,36.8429,36.8354 ,36.8278,36.8201,36.8084,36.8017, 36.7916,36.7847,36.7743,36.7672,36.7566 ,36.7496,36.7388,36.7247,36.7134, 36.7057,36.6965,36.6842,36.676,36.662, 36.6537,36.6452,36.6367,36.628,36.619, 36.61,36.6055,36.5772)
ORBIT_NUMBER = 12736
ORBITAL_ECCENTRICITY = 0.577
ORBITAL_INCLINATION = 86.89
ORBITAL_SEMIMAJOR_AXIS = 8783.95
PERIAPSIS_ALTITUDE = 330.4
PERIAPSIS_ARGUMENT_ANGLE = 301.64
PERIAPSIS_TIME = 2014-01-09T09:53:43.000Z
SPACECRAFT_ORIENTATION = (0.0,1.0,0.0)
^MEX_ORIENTATION_DESC = "MEX_ORIENTATION_DESC.TXT"
SPACECRAFT_POINTING_MODE = NADIR
^MEX_POINTING_DESC = "MEX_POINTING_DESC.TXT"
RIGHT_ASCENSION = -1e+32
DECLINATION = -1e+32
OFFSET_ANGLE = -1e+32
SPACECRAFT_SOLAR_DISTANCE = 2.49209e+08
TARGET_NAME = MARS
/* CAMERA DATA ELEMENTS */
DETECTOR_TEMPERATURE = 18.7783 <degC>
FOCAL_PLANE_TEMPERATURE = 8.1755 <degC>
INST_CMPRS_NAME = "DISCRETE COSINE TRANSFORMATION (DCT)"
INST_CMPRS_RATIO = 11.4439
INST_CMPRS_QUALITY = 0
INST_CMPRS_QUANTZ_TBL_ID = 0
INSTRUMENT_TEMPERATURE = 11.4379 <degC>
LENS_TEMPERATURE = 8.7872 <degC>
MACROPIXEL_SIZE = 4
MISSING_FRAMES = 0
PIXEL_SUBSAMPLING_FLAG = N
SIGNAL_CHAIN_ID = 2
/* RADIOMETRIC DATA ELEMENTS */
BANDWIDTH = 48.0 <nm>
CENTER_FILTER_WAVELENGTH = 748.0 <nm>
RADIANCE_OFFSET = 0.0399256 <W*m**-2*sr**-1>
RADIANCE_SCALING_FACTOR = 0.0037577 <W*m**-2*sr**-1>
REFLECTANCE_SCALING_FACTOR = 0.000532569
MEX:REFLECTANCE_OFFSET = 0.00565855
/* IMAGE OBJECT DEFINITIONS */
OBJECT = IMAGE
  INTERCHANGE_FORMAT = BINARY
  LINES = 11763
  LINE_SAMPLES = 1893
  SAMPLE_TYPE = UNSIGNED_INTEGER
  SAMPLE_BITS = 8
  BANDS = 1
  BAND_STORAGE_TYPE = BAND_SEQUENTIAL
  MAXIMUM = 255
  MEAN = 82.351
  MINIMUM = 1
  STANDARD_DEVIATION = 24.6814
END_OBJECT = IMAGE
/* MAP OBJECT DEFINITIONS */
OBJECT = IMAGE_MAP_PROJECTION
  ^DATA_SET_MAP_PROJECTION_CATALOG= "DSMAP.CAT"
  A_AXIS_RADIUS = 3396.0 <km>
  B_AXIS_RADIUS = 3396.0 <km>
  C_AXIS_RADIUS = 3396.0 <km>
  CENTER_LATITUDE = 0.0
  CENTER_LONGITUDE = 36.0
  COORDINATE_SYSTEM_NAME = PLANETOGRAPHIC
  COORDINATE_SYSTEM_TYPE = "BODY-FIXED ROTATING"
  EASTERNMOST_LONGITUDE = 36.967
  FIRST_STANDARD_PARALLEL = "N/A"
  LINE_FIRST_PIXEL = 1
  LINE_LAST_PIXEL = 11763
  LINE_PROJECTION_OFFSET = -44515.875
  MAP_PROJECTION_ROTATION = 0.0
  MAP_PROJECTION_TYPE = SINUSOIDAL
  MAP_RESOLUTION = 1185.42760773333 <pixel/degree>
  MAP_SCALE = 0.05 <km/pixel>
  MAXIMUM_LATITUDE = -37.5944
  MINIMUM_LATITUDE = -47.5556
  POSITIVE_LONGITUDE_DIRECTION = EAST
  REFERENCE_LATITUDE = "N/A"
  REFERENCE_LONGITUDE = "N/A"
  SAMPLE_FIRST_PIXEL = 1
  SAMPLE_LAST_PIXEL = 1893
  SAMPLE_PROJECTION_OFFSET = 950.375
  SECOND_STANDARD_PARALLEL = "N/A"
  WESTERNMOST_LONGITUDE = 34.8344
END_OBJECT = IMAGE_MAP_PROJECTION
END
