PDS_VERSION_ID = PDS3
/* FILE DATA ELEMENTS */
RECORD_TYPE = UNDEFINED
/* POINTERS TO DATA OBJECTS */
^IMAGE = ("HC733_0009_P14.TIF")
/* IDENTIFICATION DATA ELEMENTS */
DATA_SET_ID = "MEX-M-HRSC-4-REFDR-MAPPROJECT-EXT4-V4.0"
DATA_SET_NAME = "MARS EXPRESS HRSC MAP PROJECTED REFDR EXTENSION4 V4.0"
DETECTOR_ID = MEX_HRSC_P1
EVENT_TYPE = "MARS-REGIONAL-STEREO-Im-Gl-Pf"
INSTRUMENT_HOST_ID = MEX
INSTRUMENT_HOST_NAME = "MARS EXPRESS"
INSTRUMENT_ID = HRSC
INSTRUMENT_NAME = "HIGH RESOLUTION STEREO CAMERA"
MISSION_NAME = "MARS EXPRESS"
MISSION_PHASE_NAME = ME_Phase_29
PROCESSING_LEVEL_ID = 4
PRODUCT_CREATION_TIME = 2023-01-31T11:51:40.000Z
PRODUCT_ID = "HC733_0009_P14.TIF"
RELEASE_ID = 0003
REVISION_ID = 0000
/* QUALITY DATA ELEMENTS */
DATA_QUALITY_ID = 1
DATA_QUALITY_DESC = "Data calculated based on original SPICE kernels"
/* TIME DATA ELEMENTS */
SPACECRAFT_CLOCK_START_COUNT = "1/0337265946.09046"
SPACECRAFT_CLOCK_STOP_COUNT = "1/0337266177.40655"
START_TIME = 2014-01-08T13:00:07.706Z
STOP_TIME = 2014-01-08T13:02:43.500Z
/* ORBITAL DATA ELEMENTS */
ASCENDING_NODE_LONGITUDE = 334.72
MAXIMUM_RESOLUTION = 0.0316
FOOTPRINT_POINT_LATITUDE = (-42.3693,-42.3606,-42.3537,-42.3463, -42.3385,-42.3302,-42.3215,-42.321, -42.3519,-42.0802,-41.723,-41.276, -40.9192,-40.6516,-40.3847,-40.1186, -39.7638,-39.5834,-39.4018,-39.2203, -38.862,-38.6802,-38.4937,-38.3085, -38.1239,-37.9395,-37.7552,-37.571, -37.2894,-37.1008,-36.913,-36.7256, -36.5381,-36.3472,-36.1554,-35.9638, -35.7726,-35.5819,-35.2905,-35.0962, -34.9024,-34.7082,-34.5113,-34.3129, -34.0178,-33.8196,-33.6183,-33.3161, -33.1167,-33.0202,-32.9995,-33.0001, -33.0043,-33.009,-33.0138,-33.02, -33.0227,-33.0229,-33.0235,-33.3271, -33.6284,-33.8302,-34.0277,-34.2258, -34.424,-34.7209,-34.9161,-35.1099, -35.3055,-35.5005,-35.6942,-35.8859, -36.0776,-36.2689,-36.4616,-36.651, -36.9328,-37.1209,-37.4034,-37.591, -37.7756,-38.0561,-38.246,-38.4316, -38.617,-38.7983,-38.9795,-39.1603, -39.5166,-39.6981,-39.9666,-40.4115, -40.8573,-41.3932,-41.7504,-41.9299, -42.1093,-42.2928,-42.3827,-42.3693)
FOOTPRINT_POINT_LONGITUDE = (344.239,343.849,343.568,343.288, 343.011,342.735,342.461,342.444,342.434 ,342.44,342.447,342.454,342.46,342.464, 342.467,342.471,342.475,342.476,342.478 ,342.48,342.482,342.484,342.486,342.487 ,342.488,342.489,342.489,342.49,342.491 ,342.491,342.492,342.492,342.492, 342.492,342.492,342.492,342.491,342.491 ,342.49,342.489,342.488,342.487,342.486 ,342.484,342.482,342.48,342.479,342.476 ,342.474,342.472,342.472,342.795, 343.023,343.31,343.618,344.103,344.434, 344.454,344.461,344.457,344.451,344.448 ,344.444,344.441,344.437,344.432, 344.429,344.424,344.421,344.418,344.415 ,344.412,344.408,344.404,344.401, 344.398,344.392,344.388,344.382,344.379 ,344.375,344.373,344.374,344.371, 344.367,344.364,344.36,344.355,344.34, 344.336,344.331,344.321,344.311,344.297 ,344.287,344.283,344.278,344.277, 344.275,344.239)
ORBIT_NUMBER = 12733
ORBITAL_ECCENTRICITY = 0.577
ORBITAL_INCLINATION = 86.9
ORBITAL_SEMIMAJOR_AXIS = 8781.35
PERIAPSIS_ALTITUDE = 330.15
PERIAPSIS_ARGUMENT_ANGLE = 302.13
PERIAPSIS_TIME = 2014-01-08T12:55:48.000Z
SPACECRAFT_ORIENTATION = (0.0,1.0,0.0)
^MEX_ORIENTATION_DESC = "MEX_ORIENTATION_DESC.TXT"
SPACECRAFT_POINTING_MODE = ACROSSTRACK
^MEX_POINTING_DESC = "MEX_POINTING_DESC.TXT"
RIGHT_ASCENSION = -1e+32
DECLINATION = -1e+32
OFFSET_ANGLE = -0.55
SPACECRAFT_SOLAR_DISTANCE = 2.49217e+08
TARGET_NAME = MARS
/* CAMERA DATA ELEMENTS */
DETECTOR_TEMPERATURE = 17.7588
FOCAL_PLANE_TEMPERATURE = 8.5833
INST_CMPRS_NAME = "DISCRETE COSINE TRANSFORMATION (DCT)"
INST_CMPRS_RATIO = 4.6641
INST_CMPRS_QUALITY = 0
INST_CMPRS_QUANTZ_TBL_ID = 0
INSTRUMENT_TEMPERATURE = 12.2535
LENS_TEMPERATURE = 9.195
MACROPIXEL_SIZE = 2
MISSING_FRAMES = 0
PIXEL_SUBSAMPLING_FLAG = N
SIGNAL_CHAIN_ID = 3
/* RADIOMETRIC DATA ELEMENTS */
BANDWIDTH = 174.0
CENTER_FILTER_WAVELENGTH = 675.0
RADIANCE_OFFSET = 0.24027
RADIANCE_SCALING_FACTOR = 0.0150758
REFLECTANCE_SCALING_FACTOR = 0.000503638
MEX:REFLECTANCE_OFFSET = 0.00802673
/* IMAGE OBJECT DEFINITIONS */
OBJECT = IMAGE
  INTERCHANGE_FORMAT = BINARY
  LINES = 22208
  LINE_SAMPLES = 3766
  SAMPLE_TYPE = UNSIGNED_INTEGER
  SAMPLE_BITS = 8
  BANDS = 1
  BAND_STORAGE_TYPE = BAND_SEQUENTIAL
  MAXIMUM = 255
  MEAN = 116.992
  MINIMUM = 1
  STANDARD_DEVIATION = 25.2228
END_OBJECT = IMAGE
/* MAP OBJECT DEFINITIONS */
OBJECT = IMAGE_MAP_PROJECTION
  ^DATA_SET_MAP_PROJECTION_CATALOG= "DSMAP.CAT"
  A_AXIS_RADIUS = 3396.0
  B_AXIS_RADIUS = 3396.0
  C_AXIS_RADIUS = 3396.0
  CENTER_LATITUDE = 0.0
  CENTER_LONGITUDE = 343.0
  COORDINATE_SYSTEM_NAME = PLANETOGRAPHIC
  COORDINATE_SYSTEM_TYPE = "BODY-FIXED ROTATING"
  EASTERNMOST_LONGITUDE = 344.461
  FIRST_STANDARD_PARALLEL = "N/A"
  LINE_FIRST_PIXEL = 1
  LINE_LAST_PIXEL = 22208
  LINE_PROJECTION_OFFSET = -78333.25
  MAP_PROJECTION_ROTATION = 0.0
  MAP_PROJECTION_TYPE = SINUSOIDAL
  MAP_RESOLUTION = 2370.85521546667
  MAP_SCALE = 0.025
  MAXIMUM_LATITUDE = -32.9995
  MINIMUM_LATITUDE = -42.3827
  POSITIVE_LONGITUDE_DIRECTION = EAST
  REFERENCE_LATITUDE = "N/A"
  REFERENCE_LONGITUDE = "N/A"
  SAMPLE_FIRST_PIXEL = 1
  SAMPLE_LAST_PIXEL = 3766
  SAMPLE_PROJECTION_OFFSET = 972.75
  SECOND_STANDARD_PARALLEL = "N/A"
  WESTERNMOST_LONGITUDE = 342.434
END_OBJECT = IMAGE_MAP_PROJECTION
END
