PDS_VERSION_ID = PDS3
/* FILE DATA ELEMENTS */
RECORD_TYPE = UNDEFINED
/* POINTERS TO DATA OBJECTS */
^IMAGE = ("HC732_0000_S14.TIF")
/* IDENTIFICATION DATA ELEMENTS */
DATA_SET_ID = "MEX-M-HRSC-4-REFDR-MAPPROJECT-EXT4-V4.0"
DATA_SET_NAME = "MARS EXPRESS HRSC MAP PROJECTED REFDR EXTENSION4 V4.0"
DETECTOR_ID = MEX_HRSC_S1
EVENT_TYPE = "MARS-REGIONAL-MAPPING-Vo-Im-Fl"
INSTRUMENT_HOST_ID = MEX
INSTRUMENT_HOST_NAME = "MARS EXPRESS"
INSTRUMENT_ID = HRSC
INSTRUMENT_NAME = "HIGH RESOLUTION STEREO CAMERA"
MISSION_NAME = "MARS EXPRESS"
MISSION_PHASE_NAME = ME_Phase_29
PROCESSING_LEVEL_ID = 4
PRODUCT_CREATION_TIME = 2023-01-31T11:51:40.000Z
PRODUCT_ID = "HC732_0000_S14.TIF"
RELEASE_ID = 0003
REVISION_ID = 0000
/* QUALITY DATA ELEMENTS */
DATA_QUALITY_ID = 1
DATA_QUALITY_DESC = "Data calculated based on original SPICE kernels"
/* TIME DATA ELEMENTS */
SPACECRAFT_CLOCK_START_COUNT = "1/0337240952.08247"
SPACECRAFT_CLOCK_STOP_COUNT = "1/0337241375.40128"
START_TIME = 2014-01-08T06:04:08.591Z
STOP_TIME = 2014-01-08T06:09:38.404Z
/* ORBITAL DATA ELEMENTS */
ASCENDING_NODE_LONGITUDE = 334.73
MAXIMUM_RESOLUTION = 0.043
FOOTPRINT_POINT_LATITUDE = (-31.4662,-31.4739,-31.4804,-31.4866, -31.4867,-31.5413,-30.9814,-30.551, -29.9832,-29.6899,-29.249,-28.6647, -27.9294,-27.4799,-27.177,-26.7015, -26.2398,-25.9296,-25.6169,-25.3023, -24.8256,-24.5068,-24.1792,-23.8547, -23.3655,-23.0361,-22.7073,-22.3683, -22.0332,-21.6936,-21.352,-21.0078, -20.6618,-20.3128,-19.9608,-19.6065, -19.2485,-18.8876,-18.5228,-18.1571, -17.6151,-17.2459,-16.8563,-16.4795, -16.0992,-15.7163,-15.3369,-15.1346, -15.0948,-15.0736,-15.0606,-15.0358, -15.0132,-14.9961,-14.9953,-14.9958, -15.5813,-15.9672,-16.3497,-16.7305, -17.1078,-17.4831,-17.8558,-18.2255, -18.5919,-18.9554,-19.3171,-19.6749, -20.0309,-20.3824,-20.9095,-21.2606, -21.6042,-21.9387,-22.2769,-22.6152, -22.951,-23.2811,-23.6101,-24.1038, -24.4292,-24.7501,-25.2297,-25.5485, -25.8627,-26.1745,-26.4876,-26.7958, -27.2559,-27.7125,-28.0129,-28.462, -28.9067,-29.199,-29.7799,-30.355, -30.7831,-31.3473,-31.4871,-31.4662)
FOOTPRINT_POINT_LONGITUDE = (85.593,84.9609,84.3246,83.5623,83.5421 ,83.507,83.5046,83.5056,83.5001,83.4999 ,83.4985,83.4908,83.4767,83.469,83.4639 ,83.4633,83.4537,83.4472,83.4398, 83.4324,83.4209,83.4122,83.4057,83.3969 ,83.3819,83.3717,83.3595,83.3506, 83.3389,83.3273,83.315,83.3024,83.2891, 83.2755,83.2616,83.2471,83.2324,83.2174 ,83.2024,83.1861,83.156,83.137,83.1241, 83.1046,83.0847,83.0641,83.0405,83.0325 ,83.0306,83.6428,84.0209,84.7161,85.438 ,85.9852,86.014,86.0244,86.0095,85.9998 ,85.99,85.9807,85.9713,85.9623,85.9534, 85.9446,85.9357,85.927,85.9184,85.9097, 85.9012,85.8922,85.8802,85.8729,85.8643 ,85.8545,85.8461,85.8383,85.8302, 85.8217,85.8135,85.802,85.794,85.7858, 85.7738,85.7662,85.758,85.7499,85.7421, 85.7343,85.7224,85.7105,85.7024,85.6906 ,85.6784,85.6701,85.6536,85.6371, 85.6245,85.608,85.6038,85.593)
ORBIT_NUMBER = 12732
ORBITAL_ECCENTRICITY = 0.578
ORBITAL_INCLINATION = 86.9
ORBITAL_SEMIMAJOR_AXIS = 8785.07
PERIAPSIS_ALTITUDE = 329.29
PERIAPSIS_ARGUMENT_ANGLE = 302.3
PERIAPSIS_TIME = 2014-01-08T05:56:32.000Z
SPACECRAFT_ORIENTATION = (0.0,1.0,0.0)
^MEX_ORIENTATION_DESC = "MEX_ORIENTATION_DESC.TXT"
SPACECRAFT_POINTING_MODE = ACROSSTRACK
^MEX_POINTING_DESC = "MEX_POINTING_DESC.TXT"
RIGHT_ASCENSION = -1e+32
DECLINATION = -1e+32
OFFSET_ANGLE = 0.37
SPACECRAFT_SOLAR_DISTANCE = 2.49219e+08
TARGET_NAME = MARS
/* CAMERA DATA ELEMENTS */
DETECTOR_TEMPERATURE = 17.7588
FOCAL_PLANE_TEMPERATURE = 8.3794
INST_CMPRS_NAME = "DISCRETE COSINE TRANSFORMATION (DCT)"
INST_CMPRS_RATIO = 8.84639
INST_CMPRS_QUALITY = 0
INST_CMPRS_QUANTZ_TBL_ID = 0
INSTRUMENT_TEMPERATURE = 11.6418
LENS_TEMPERATURE = 8.7872
MACROPIXEL_SIZE = 2
MISSING_FRAMES = 0
PIXEL_SUBSAMPLING_FLAG = N
SIGNAL_CHAIN_ID = 1
/* RADIOMETRIC DATA ELEMENTS */
BANDWIDTH = 180.0
CENTER_FILTER_WAVELENGTH = 677.0
RADIANCE_OFFSET = 0.844148
RADIANCE_SCALING_FACTOR = 0.0182071
REFLECTANCE_SCALING_FACTOR = 0.000589993
MEX:REFLECTANCE_OFFSET = 0.0273542
/* IMAGE OBJECT DEFINITIONS */
OBJECT = IMAGE
  INTERCHANGE_FORMAT = BINARY
  LINES = 39002
  LINE_SAMPLES = 5902
  SAMPLE_TYPE = UNSIGNED_INTEGER
  SAMPLE_BITS = 8
  BANDS = 1
  BAND_STORAGE_TYPE = BAND_SEQUENTIAL
  MAXIMUM = 255
  MEAN = 128.207
  MINIMUM = 1
  STANDARD_DEVIATION = 23.7391
END_OBJECT = IMAGE
/* MAP OBJECT DEFINITIONS */
OBJECT = IMAGE_MAP_PROJECTION
  ^DATA_SET_MAP_PROJECTION_CATALOG= "DSMAP.CAT"
  A_AXIS_RADIUS = 3396.0
  B_AXIS_RADIUS = 3396.0
  C_AXIS_RADIUS = 3396.0
  CENTER_LATITUDE = 0.0
  CENTER_LONGITUDE = 85.0
  COORDINATE_SYSTEM_NAME = PLANETOGRAPHIC
  COORDINATE_SYSTEM_TYPE = "BODY-FIXED ROTATING"
  EASTERNMOST_LONGITUDE = 86.0244
  FIRST_STANDARD_PARALLEL = "N/A"
  LINE_FIRST_PIXEL = 1
  LINE_LAST_PIXEL = 39002
  LINE_PROJECTION_OFFSET = -35799.25
  MAP_PROJECTION_ROTATION = 0.0
  MAP_PROJECTION_TYPE = SINUSOIDAL
  MAP_RESOLUTION = 2370.85521546667
  MAP_SCALE = 0.025
  MAXIMUM_LATITUDE = -14.9953
  MINIMUM_LATITUDE = -31.5413
  POSITIVE_LONGITUDE_DIRECTION = EAST
  REFERENCE_LATITUDE = "N/A"
  REFERENCE_LONGITUDE = "N/A"
  SAMPLE_FIRST_PIXEL = 1
  SAMPLE_LAST_PIXEL = 5902
  SAMPLE_PROJECTION_OFFSET = 4055.25
  SECOND_STANDARD_PARALLEL = "N/A"
  WESTERNMOST_LONGITUDE = 83.03060000000001
END_OBJECT = IMAGE_MAP_PROJECTION
END
