PDS_VERSION_ID = PDS3
/* FILE DATA ELEMENTS */
RECORD_TYPE = UNDEFINED
/* POINTERS TO DATA OBJECTS */
^IMAGE = ("HC732_0000_RE4.TIF")
/* IDENTIFICATION DATA ELEMENTS */
DATA_SET_ID = "MEX-M-HRSC-4-REFDR-MAPPROJECT-EXT4-V4.0"
DATA_SET_NAME = "MARS EXPRESS HRSC MAP PROJECTED REFDR EXTENSION4 V4.0"
DETECTOR_ID = MEX_HRSC_RED
EVENT_TYPE = "MARS-REGIONAL-MAPPING-Vo-Im-Fl"
INSTRUMENT_HOST_ID = MEX
INSTRUMENT_HOST_NAME = "MARS EXPRESS"
INSTRUMENT_ID = HRSC
INSTRUMENT_NAME = "HIGH RESOLUTION STEREO CAMERA"
MISSION_NAME = "MARS EXPRESS"
MISSION_PHASE_NAME = ME_Phase_29
PROCESSING_LEVEL_ID = 4
PRODUCT_CREATION_TIME = 2023-01-31T11:51:40.000Z
PRODUCT_ID = "HC732_0000_RE4.TIF"
RELEASE_ID = 0003
REVISION_ID = 0000
/* QUALITY DATA ELEMENTS */
DATA_QUALITY_ID = 1
DATA_QUALITY_DESC = "Data calculated based on original SPICE kernels"
/* TIME DATA ELEMENTS */
SPACECRAFT_CLOCK_START_COUNT = "1/0337240952.08247"
SPACECRAFT_CLOCK_STOP_COUNT = "1/0337241375.40128"
START_TIME = 2014-01-08T06:02:43.866Z
STOP_TIME = 2014-01-08T06:07:06.191Z
/* ORBITAL DATA ELEMENTS */
ASCENDING_NODE_LONGITUDE = 334.73
MAXIMUM_RESOLUTION = 0.0741
FOOTPRINT_POINT_LATITUDE = (-31.6271,-31.6102,-31.5948,-31.581, -31.5804,-31.5359,-30.985,-30.1544, -29.5958,-29.3058,-29.0139,-28.7304, -28.4406,-27.9968,-27.7019,-27.4029, -27.1042,-26.6609,-26.3585,-26.0542, -25.7436,-25.2784,-24.9634,-24.4905, -24.1692,-23.6891,-23.3606,-23.0358, -22.6999,-22.3714,-22.0345,-21.6913, -21.3553,-21.0128,-20.6655,-20.3178, -19.9668,-19.4328,-19.0756,-18.7141, -18.1663,-17.7981,-17.4251,-17.0498, -16.6712,-16.2884,-15.9001,-15.5131, -15.3134,-15.1869,-15.1937,-15.1992, -15.1988,-15.1968,-15.1929,-15.1926, -15.1941,-15.5897,-15.9773,-16.3577, -16.7495,-17.1277,-17.6897,-18.2455, -18.6132,-18.9744,-19.5158,-20.0492, -20.4046,-20.7453,-21.0916,-21.4349, -21.9476,-22.4562,-22.7874,-23.1182, -23.4459,-23.7726,-24.2548,-24.5758, -24.8919,-25.364,-25.6745,-26.1393, -26.5962,-26.9014,-27.1997,-27.4992, -27.7973,-28.0918,-28.3858,-28.6779, -28.9659,-29.2552,-29.543,-30.1095, -30.6704,-31.3641,-31.5004,-31.6271)
FOOTPRINT_POINT_LONGITUDE = (85.458,84.6262,84.0896,83.6835,83.6665 ,83.636,83.6371,83.6407,83.6439,83.6405 ,83.6374,83.6389,83.6375,83.6331, 83.6302,83.6278,83.6256,83.6262,83.6243 ,83.6209,83.6167,83.6104,83.606,83.5988 ,83.5934,83.586,83.5789,83.5733,83.5642 ,83.5588,83.5512,83.5401,83.5349, 83.5262,83.5172,83.5078,83.4992,83.4834 ,83.4731,83.4629,83.446,83.4342,83.4217 ,83.4092,83.3957,83.382,83.3665,83.3525 ,83.3433,83.3388,83.7394,84.4251, 84.7333,85.2165,85.6766,85.6986,85.7058 ,85.7021,85.699,85.6968,85.6914,85.688, 85.6828,85.6772,85.6733,85.6701,85.6638 ,85.6577,85.653,85.6507,85.6466,85.6423 ,85.6352,85.6279,85.6237,85.6193, 85.6146,85.6101,85.6031,85.5983,85.5935 ,85.5863,85.5814,85.5738,85.5663,85.561 ,85.556,85.5508,85.5454,85.5398,85.5343 ,85.5287,85.5232,85.5173,85.5115, 85.4995,85.4875,85.4719,85.4688,85.458)
ORBIT_NUMBER = 12732
ORBITAL_ECCENTRICITY = 0.578
ORBITAL_INCLINATION = 86.9
ORBITAL_SEMIMAJOR_AXIS = 8785.07
PERIAPSIS_ALTITUDE = 329.29
PERIAPSIS_ARGUMENT_ANGLE = 302.3
PERIAPSIS_TIME = 2014-01-08T05:56:32.000Z
SPACECRAFT_ORIENTATION = (0.0,1.0,0.0)
^MEX_ORIENTATION_DESC = "MEX_ORIENTATION_DESC.TXT"
SPACECRAFT_POINTING_MODE = ACROSSTRACK
^MEX_POINTING_DESC = "MEX_POINTING_DESC.TXT"
RIGHT_ASCENSION = -1e+32
DECLINATION = -1e+32
OFFSET_ANGLE = 0.37
SPACECRAFT_SOLAR_DISTANCE = 2.49219e+08
TARGET_NAME = MARS
/* CAMERA DATA ELEMENTS */
DETECTOR_TEMPERATURE = 18.9822
FOCAL_PLANE_TEMPERATURE = 8.3794
INST_CMPRS_NAME = "DISCRETE COSINE TRANSFORMATION (DCT)"
INST_CMPRS_RATIO = 9.77949
INST_CMPRS_QUALITY = 0
INST_CMPRS_QUANTZ_TBL_ID = 0
INSTRUMENT_TEMPERATURE = 11.6418
LENS_TEMPERATURE = 8.7872
MACROPIXEL_SIZE = 4
MISSING_FRAMES = 0
PIXEL_SUBSAMPLING_FLAG = N
SIGNAL_CHAIN_ID = 2
/* RADIOMETRIC DATA ELEMENTS */
BANDWIDTH = 48.0
CENTER_FILTER_WAVELENGTH = 748.0
RADIANCE_OFFSET = 0.18363
RADIANCE_SCALING_FACTOR = 0.00432071
REFLECTANCE_SCALING_FACTOR = 0.000612413
MEX:REFLECTANCE_OFFSET = 0.0260276
/* IMAGE OBJECT DEFINITIONS */
OBJECT = IMAGE
  INTERCHANGE_FORMAT = BINARY
  LINES = 19501
  LINE_SAMPLES = 2951
  SAMPLE_TYPE = UNSIGNED_INTEGER
  SAMPLE_BITS = 8
  BANDS = 1
  BAND_STORAGE_TYPE = BAND_SEQUENTIAL
  MAXIMUM = 255
  MEAN = 126.576
  MINIMUM = 1
  STANDARD_DEVIATION = 24.2062
END_OBJECT = IMAGE
/* MAP OBJECT DEFINITIONS */
OBJECT = IMAGE_MAP_PROJECTION
  ^DATA_SET_MAP_PROJECTION_CATALOG= "DSMAP.CAT"
  A_AXIS_RADIUS = 3396.0
  B_AXIS_RADIUS = 3396.0
  C_AXIS_RADIUS = 3396.0
  CENTER_LATITUDE = 0.0
  CENTER_LONGITUDE = 85.0
  COORDINATE_SYSTEM_NAME = PLANETOGRAPHIC
  COORDINATE_SYSTEM_TYPE = "BODY-FIXED ROTATING"
  EASTERNMOST_LONGITUDE = 85.7058
  FIRST_STANDARD_PARALLEL = "N/A"
  LINE_FIRST_PIXEL = 1
  LINE_LAST_PIXEL = 19501
  LINE_PROJECTION_OFFSET = -17899.875
  MAP_PROJECTION_ROTATION = 0.0
  MAP_PROJECTION_TYPE = SINUSOIDAL
  MAP_RESOLUTION = 1185.42760773333
  MAP_SCALE = 0.05
  MAXIMUM_LATITUDE = -15.1869
  MINIMUM_LATITUDE = -31.6271
  POSITIVE_LONGITUDE_DIRECTION = EAST
  REFERENCE_LATITUDE = "N/A"
  REFERENCE_LONGITUDE = "N/A"
  SAMPLE_FIRST_PIXEL = 1
  SAMPLE_LAST_PIXEL = 2951
  SAMPLE_PROJECTION_OFFSET = 2027.375
  SECOND_STANDARD_PARALLEL = "N/A"
  WESTERNMOST_LONGITUDE = 83.33880000000001
END_OBJECT = IMAGE_MAP_PROJECTION
END
