PDS_VERSION_ID = PDS3
/* FILE DATA ELEMENTS */
RECORD_TYPE = UNDEFINED
/* POINTERS TO DATA OBJECTS */
^IMAGE = ("HC732_0000_P14.TIF")
/* IDENTIFICATION DATA ELEMENTS */
DATA_SET_ID = "MEX-M-HRSC-4-REFDR-MAPPROJECT-EXT4-V4.0"
DATA_SET_NAME = "MARS EXPRESS HRSC MAP PROJECTED REFDR EXTENSION4 V4.0"
DETECTOR_ID = MEX_HRSC_P1
EVENT_TYPE = "MARS-REGIONAL-MAPPING-Vo-Im-Fl"
INSTRUMENT_HOST_ID = MEX
INSTRUMENT_HOST_NAME = "MARS EXPRESS"
INSTRUMENT_ID = HRSC
INSTRUMENT_NAME = "HIGH RESOLUTION STEREO CAMERA"
MISSION_NAME = "MARS EXPRESS"
MISSION_PHASE_NAME = ME_Phase_29
PROCESSING_LEVEL_ID = 4
PRODUCT_CREATION_TIME = 2023-01-31T11:51:40.000Z
PRODUCT_ID = "HC732_0000_P14.TIF"
RELEASE_ID = 0003
REVISION_ID = 0000
/* QUALITY DATA ELEMENTS */
DATA_QUALITY_ID = 1
DATA_QUALITY_DESC = "Data calculated based on original SPICE kernels"
/* TIME DATA ELEMENTS */
SPACECRAFT_CLOCK_START_COUNT = "1/0337240952.08247"
SPACECRAFT_CLOCK_STOP_COUNT = "1/0337241375.40128"
START_TIME = 2014-01-08T06:03:50.692Z
STOP_TIME = 2014-01-08T06:09:02.605Z
/* ORBITAL DATA ELEMENTS */
ASCENDING_NODE_LONGITUDE = 334.73
MAXIMUM_RESOLUTION = 0.0403
FOOTPRINT_POINT_LATITUDE = (-31.4936,-31.499,-31.5007,-31.5008, -31.5008,-31.536,-30.9803,-30.413, -29.7008,-29.1213,-28.8274,-28.3885, -27.9452,-27.497,-27.1957,-26.7292, -26.2675,-25.9587,-25.6464,-25.3334, -25.016,-24.5387,-24.2164,-23.7278, -23.402,-23.0727,-22.7443,-22.4065, -22.0712,-21.7321,-21.3907,-21.0468, -20.7015,-20.1758,-19.8237,-19.4677, -18.927,-18.3794,-18.0125,-17.4644, -16.8947,-16.5148,-16.1334,-15.7484, -15.36,-15.1661,-15.1085,-15.0971, -15.0882,-15.0685,-15.0564,-15.0477, -15.0329,-15.0322,-15.0327,-15.4252, -15.8141,-16.1991,-16.583,-16.9634, -17.3404,-17.7151,-18.0864,-18.4544, -18.8196,-19.1826,-19.542,-19.8986, -20.2525,-20.6014,-20.9556,-21.3021, -21.6455,-22.1517,-22.489,-22.9912, -23.4856,-23.8169,-24.1415,-24.6252, -24.9458,-25.2632,-25.5788,-25.8934, -26.2034,-26.5142,-26.8208,-27.1275, -27.4306,-27.7336,-28.0315,-28.4775, -28.7731,-29.3561,-29.7906,-30.3633, -30.9267,-31.3471,-31.486,-31.4936)
FOOTPRINT_POINT_LONGITUDE = (85.5582,84.6964,84.0788,83.5924, 83.5728,83.5385,83.5371,83.5391,83.5341 ,83.5298,83.5281,83.5228,83.5154, 83.5086,83.5043,83.5037,83.4963,83.4905 ,83.4841,83.478,83.4713,83.4599,83.4534 ,83.4427,83.4325,83.4238,83.4124, 83.4045,83.3938,83.3835,83.3721,83.3607 ,83.3486,83.3305,83.3172,83.3037, 83.2838,83.2627,83.2472,83.2184,83.1978 ,83.1807,83.1623,83.1435,83.1243, 83.1135,83.1118,83.5513,83.8536,84.5639 ,84.9997,85.353,85.8958,85.923,85.9327, 85.9249,85.917,85.909,85.9016,85.8943, 85.8869,85.8797,85.8724,85.8651,85.8579 ,85.8509,85.8437,85.8364,85.8291, 85.8213,85.8163,85.8093,85.802,85.7898, 85.783,85.7727,85.7616,85.7557,85.7481, 85.7375,85.7308,85.7233,85.7165,85.7093 ,85.7021,85.6951,85.688,85.6809,85.6739 ,85.6668,85.6594,85.6483,85.6413, 85.6261,85.6148,85.5996,85.5841,85.5727 ,85.5688,85.5582)
ORBIT_NUMBER = 12732
ORBITAL_ECCENTRICITY = 0.578
ORBITAL_INCLINATION = 86.9
ORBITAL_SEMIMAJOR_AXIS = 8785.07
PERIAPSIS_ALTITUDE = 329.29
PERIAPSIS_ARGUMENT_ANGLE = 302.3
PERIAPSIS_TIME = 2014-01-08T05:56:32.000Z
SPACECRAFT_ORIENTATION = (0.0,1.0,0.0)
^MEX_ORIENTATION_DESC = "MEX_ORIENTATION_DESC.TXT"
SPACECRAFT_POINTING_MODE = ACROSSTRACK
^MEX_POINTING_DESC = "MEX_POINTING_DESC.TXT"
RIGHT_ASCENSION = -1e+32
DECLINATION = -1e+32
OFFSET_ANGLE = 0.37
SPACECRAFT_SOLAR_DISTANCE = 2.49219e+08
TARGET_NAME = MARS
/* CAMERA DATA ELEMENTS */
DETECTOR_TEMPERATURE = 17.7588
FOCAL_PLANE_TEMPERATURE = 8.3794
INST_CMPRS_NAME = "DISCRETE COSINE TRANSFORMATION (DCT)"
INST_CMPRS_RATIO = 8.33956
INST_CMPRS_QUALITY = 0
INST_CMPRS_QUANTZ_TBL_ID = 0
INSTRUMENT_TEMPERATURE = 11.6418
LENS_TEMPERATURE = 8.7872
MACROPIXEL_SIZE = 2
MISSING_FRAMES = 0
PIXEL_SUBSAMPLING_FLAG = N
SIGNAL_CHAIN_ID = 3
/* RADIOMETRIC DATA ELEMENTS */
BANDWIDTH = 174.0
CENTER_FILTER_WAVELENGTH = 675.0
RADIANCE_OFFSET = 0.842359
RADIANCE_SCALING_FACTOR = 0.0168041
REFLECTANCE_SCALING_FACTOR = 0.000561389
MEX:REFLECTANCE_OFFSET = 0.0281414
/* IMAGE OBJECT DEFINITIONS */
OBJECT = IMAGE
  INTERCHANGE_FORMAT = BINARY
  LINES = 39002
  LINE_SAMPLES = 5902
  SAMPLE_TYPE = UNSIGNED_INTEGER
  SAMPLE_BITS = 8
  BANDS = 1
  BAND_STORAGE_TYPE = BAND_SEQUENTIAL
  MAXIMUM = 255
  MEAN = 124.301
  MINIMUM = 1
  STANDARD_DEVIATION = 23.8965
END_OBJECT = IMAGE
/* MAP OBJECT DEFINITIONS */
OBJECT = IMAGE_MAP_PROJECTION
  ^DATA_SET_MAP_PROJECTION_CATALOG= "DSMAP.CAT"
  A_AXIS_RADIUS = 3396.0
  B_AXIS_RADIUS = 3396.0
  C_AXIS_RADIUS = 3396.0
  CENTER_LATITUDE = 0.0
  CENTER_LONGITUDE = 85.0
  COORDINATE_SYSTEM_NAME = PLANETOGRAPHIC
  COORDINATE_SYSTEM_TYPE = "BODY-FIXED ROTATING"
  EASTERNMOST_LONGITUDE = 85.9327
  FIRST_STANDARD_PARALLEL = "N/A"
  LINE_FIRST_PIXEL = 1
  LINE_LAST_PIXEL = 39002
  LINE_PROJECTION_OFFSET = -35799.25
  MAP_PROJECTION_ROTATION = 0.0
  MAP_PROJECTION_TYPE = SINUSOIDAL
  MAP_RESOLUTION = 2370.85521546667
  MAP_SCALE = 0.025
  MAXIMUM_LATITUDE = -15.0322
  MINIMUM_LATITUDE = -31.536
  POSITIVE_LONGITUDE_DIRECTION = EAST
  REFERENCE_LATITUDE = "N/A"
  REFERENCE_LONGITUDE = "N/A"
  SAMPLE_FIRST_PIXEL = 1
  SAMPLE_LAST_PIXEL = 5902
  SAMPLE_PROJECTION_OFFSET = 4055.25
  SECOND_STANDARD_PARALLEL = "N/A"
  WESTERNMOST_LONGITUDE = 83.1118
END_OBJECT = IMAGE_MAP_PROJECTION
END
