PDS_VERSION_ID = PDS3
/* FILE DATA ELEMENTS */
RECORD_TYPE = UNDEFINED
/* POINTERS TO DATA OBJECTS */
^IMAGE = ("HC728_0000_GR4.TIF")
/* IDENTIFICATION DATA ELEMENTS */
DATA_SET_ID = "MEX-M-HRSC-4-REFDR-MAPPROJECT-EXT4-V4.0"
DATA_SET_NAME = "MARS EXPRESS HRSC MAP PROJECTED REFDR EXTENSION4 V4.0"
DETECTOR_ID = MEX_HRSC_GREEN
EVENT_TYPE = "MARS-REGIONAL-MAPPING-Im-Fl-Pf"
INSTRUMENT_HOST_ID = MEX
INSTRUMENT_HOST_NAME = "MARS EXPRESS"
INSTRUMENT_ID = HRSC
INSTRUMENT_NAME = "HIGH RESOLUTION STEREO CAMERA"
MISSION_NAME = "MARS EXPRESS"
MISSION_PHASE_NAME = ME_Phase_29
PROCESSING_LEVEL_ID = 4
PRODUCT_CREATION_TIME = 2023-01-31T11:51:40.000Z
PRODUCT_ID = "HC728_0000_GR4.TIF"
RELEASE_ID = 0003
REVISION_ID = 0000
/* QUALITY DATA ELEMENTS */
DATA_QUALITY_ID = 1
DATA_QUALITY_DESC = "Data calculated based on original SPICE kernels"
/* TIME DATA ELEMENTS */
SPACECRAFT_CLOCK_START_COUNT = "1/0337140061.07314"
SPACECRAFT_CLOCK_STOP_COUNT = "1/0337140252.06807"
START_TIME = 2014-01-07T02:01:41.742Z
STOP_TIME = 2014-01-07T02:03:43.431Z
/* ORBITAL DATA ELEMENTS */
ASCENDING_NODE_LONGITUDE = 334.81
MAXIMUM_RESOLUTION = 0.0548
FOOTPRINT_POINT_LATITUDE = (-48.0823,-48.0755,-48.0701,-48.0642, -48.0578,-48.0508,-48.0419,-48.0414, -48.0495,-47.8312,-47.6856,-47.5401, -47.3946,-47.1762,-47.0308,-46.8856, -46.597,-46.452,-46.2343,-46.0893, -45.9444,-45.799,-45.6523,-45.4354, -45.2188,-44.8576,-44.5689,-44.2806, -43.9924,-43.7764,-43.4709,-43.2993, -43.1278,-42.9565,-42.7854,-42.5291, -42.3582,-42.1874,-42.0166,-41.846, -41.6755,-41.5051,-41.3348,-41.1646, -40.9945,-40.8246,-40.6547,-40.4002, -40.3154,-40.2576,-40.2662,-40.2727, -40.2777,-40.2824,-40.2848,-40.2849, -40.286,-40.5403,-40.7096,-40.88, -41.0504,-41.3061,-41.4767,-41.6475, -41.8183,-41.9892,-42.1601,-42.3311, -42.5026,-42.6736,-42.8449,-43.0164, -43.1881,-43.36,-43.6171,-43.9776, -44.3384,-44.6275,-44.8444,-44.989, -45.2062,-45.3511,-45.496,-45.641, -45.8586,-46.0037,-46.1489,-46.2943, -46.4393,-46.6574,-46.8029,-46.9482, -47.0941,-47.3128,-47.4587,-47.6045, -47.8234,-47.9694,-48.0428,-48.0823)
FOOTPRINT_POINT_LONGITUDE = (134.99,134.607,134.342,134.079,133.818 ,133.559,133.253,133.237,133.231, 133.242,133.249,133.256,133.263,133.273 ,133.279,133.286,133.298,133.304, 133.313,133.319,133.325,133.331,133.337 ,133.345,133.353,133.365,133.375, 133.384,133.393,133.4,133.409,133.413, 133.418,133.423,133.427,133.433,133.437 ,133.441,133.445,133.449,133.452, 133.456,133.459,133.462,133.466,133.469 ,133.472,133.476,133.477,133.478, 133.898,134.225,134.555,134.954,135.222 ,135.239,135.245,135.237,135.231, 135.228,135.225,135.22,135.216,135.213, 135.209,135.205,135.201,135.196,135.193 ,135.188,135.183,135.179,135.175, 135.171,135.165,135.156,135.146,135.138 ,135.132,135.128,135.122,135.118, 135.114,135.11,135.104,135.099,135.094, 135.091,135.085,135.078,135.074,135.068 ,135.065,135.059,135.055,135.05,135.044 ,135.039,135.038,134.99)
ORBIT_NUMBER = 12728
ORBITAL_ECCENTRICITY = 0.577
ORBITAL_INCLINATION = 86.88
ORBITAL_SEMIMAJOR_AXIS = 8786.5
PERIAPSIS_ALTITUDE = 330.52
PERIAPSIS_ARGUMENT_ANGLE = 302.99
PERIAPSIS_TIME = 2014-01-07T01:59:21.000Z
SPACECRAFT_ORIENTATION = (0.0,1.0,0.0)
^MEX_ORIENTATION_DESC = "MEX_ORIENTATION_DESC.TXT"
SPACECRAFT_POINTING_MODE = ACROSSTRACK
^MEX_POINTING_DESC = "MEX_POINTING_DESC.TXT"
RIGHT_ASCENSION = -1e+32
DECLINATION = -1e+32
OFFSET_ANGLE = -0.539
SPACECRAFT_SOLAR_DISTANCE = 2.49227e+08
TARGET_NAME = MARS
/* CAMERA DATA ELEMENTS */
DETECTOR_TEMPERATURE = 18.5744
FOCAL_PLANE_TEMPERATURE = 8.7872
INST_CMPRS_NAME = "DISCRETE COSINE TRANSFORMATION (DCT)"
INST_CMPRS_RATIO = 3.94913
INST_CMPRS_QUALITY = 0
INST_CMPRS_QUANTZ_TBL_ID = 0
INSTRUMENT_TEMPERATURE = 11.6418
LENS_TEMPERATURE = 9.8067
MACROPIXEL_SIZE = 4
MISSING_FRAMES = 0
PIXEL_SUBSAMPLING_FLAG = N
SIGNAL_CHAIN_ID = 2
/* RADIOMETRIC DATA ELEMENTS */
BANDWIDTH = 88.0
CENTER_FILTER_WAVELENGTH = 538.0
RADIANCE_OFFSET = 0.096513
RADIANCE_SCALING_FACTOR = 0.00532241
REFLECTANCE_SCALING_FACTOR = 0.000284635
MEX:REFLECTANCE_OFFSET = 0.00516138
/* IMAGE OBJECT DEFINITIONS */
OBJECT = IMAGE
  INTERCHANGE_FORMAT = BINARY
  LINES = 9282
  LINE_SAMPLES = 1734
  SAMPLE_TYPE = UNSIGNED_INTEGER
  SAMPLE_BITS = 8
  BANDS = 1
  BAND_STORAGE_TYPE = BAND_SEQUENTIAL
  MAXIMUM = 255
  MEAN = 92.1237
  MINIMUM = 1
  STANDARD_DEVIATION = 24.864
END_OBJECT = IMAGE
/* MAP OBJECT DEFINITIONS */
OBJECT = IMAGE_MAP_PROJECTION
  ^DATA_SET_MAP_PROJECTION_CATALOG= "DSMAP.CAT"
  A_AXIS_RADIUS = 3396.0
  B_AXIS_RADIUS = 3396.0
  C_AXIS_RADIUS = 3396.0
  CENTER_LATITUDE = 0.0
  CENTER_LONGITUDE = 134.0
  COORDINATE_SYSTEM_NAME = PLANETOGRAPHIC
  COORDINATE_SYSTEM_TYPE = "BODY-FIXED ROTATING"
  EASTERNMOST_LONGITUDE = 135.245
  FIRST_STANDARD_PARALLEL = "N/A"
  LINE_FIRST_PIXEL = 1
  LINE_LAST_PIXEL = 9282
  LINE_PROJECTION_OFFSET = -47740.875
  MAP_PROJECTION_ROTATION = 0.0
  MAP_PROJECTION_TYPE = SINUSOIDAL
  MAP_RESOLUTION = 1185.42760773333
  MAP_SCALE = 0.05
  MAXIMUM_LATITUDE = -40.2576
  MINIMUM_LATITUDE = -48.0823
  POSITIVE_LONGITUDE_DIRECTION = EAST
  REFERENCE_LATITUDE = "N/A"
  REFERENCE_LONGITUDE = "N/A"
  SAMPLE_FIRST_PIXEL = 1
  SAMPLE_LAST_PIXEL = 1734
  SAMPLE_PROJECTION_OFFSET = 614.625
  SECOND_STANDARD_PARALLEL = "N/A"
  WESTERNMOST_LONGITUDE = 133.231
END_OBJECT = IMAGE_MAP_PROJECTION
END
