PDS_VERSION_ID = PDS3
/* FILE DATA ELEMENTS */
RECORD_TYPE = UNDEFINED
/* POINTERS TO DATA OBJECTS */
^IMAGE = ("HC726_0000_IR4.TIF")
/* IDENTIFICATION DATA ELEMENTS */
DATA_SET_ID = "MEX-M-HRSC-4-REFDR-MAPPROJECT-EXT4-V4.0"
DATA_SET_NAME = "MARS EXPRESS HRSC MAP PROJECTED REFDR EXTENSION4 V4.0"
DETECTOR_ID = MEX_HRSC_IR
EVENT_TYPE = "MARS-REGIONAL-MAPPING-Im-Fl"
INSTRUMENT_HOST_ID = MEX
INSTRUMENT_HOST_NAME = "MARS EXPRESS"
INSTRUMENT_ID = HRSC
INSTRUMENT_NAME = "HIGH RESOLUTION STEREO CAMERA"
MISSION_NAME = "MARS EXPRESS"
MISSION_PHASE_NAME = ME_Phase_29
PROCESSING_LEVEL_ID = 4
PRODUCT_CREATION_TIME = 2023-01-31T11:51:40.000Z
PRODUCT_ID = "HC726_0000_IR4.TIF"
RELEASE_ID = 0003
REVISION_ID = 0000
/* QUALITY DATA ELEMENTS */
DATA_QUALITY_ID = 1
DATA_QUALITY_DESC = "Data calculated based on original SPICE kernels"
/* TIME DATA ELEMENTS */
SPACECRAFT_CLOCK_START_COUNT = "1/0337089800.08257"
SPACECRAFT_CLOCK_STOP_COUNT = "1/0337090090.48306"
START_TIME = 2014-01-06T12:04:24.810Z
STOP_TIME = 2014-01-06T12:08:04.307Z
/* ORBITAL DATA ELEMENTS */
ASCENDING_NODE_LONGITUDE = 334.85
MAXIMUM_RESOLUTION = 0.1232 <m/pixel>
FOOTPRINT_POINT_LATITUDE = (-43.9643,-43.9624,-43.9587,-43.9515, -43.9513,-43.9932,-43.7424,-43.4916, -43.2411,-42.9909,-42.741,-42.4914, -42.2419,-41.9932,-41.7461,-41.2539, -41.005,-40.756,-40.5093,-40.2621, -39.7704,-39.2801,-38.7921,-38.5422, -38.1683,-37.9202,-37.6706,-37.4164, -37.1628,-36.7831,-36.3982,-36.1401, -35.8828,-35.4921,-35.2285,-34.9681, -34.7036,-34.4359,-34.1687,-33.9021, -33.4948,-33.2232,-32.9504,-32.5438, -32.2705,-31.9896,-31.7025,-31.4238, -31.1395,-30.9976,-30.9311,-30.9255, -30.9185,-30.9104,-30.9101,-30.9121, -31.1974,-31.4815,-31.762,-32.043, -32.4598,-32.7362,-33.0128,-33.2847, -33.5573,-33.8304,-34.0974,-34.4986, -34.7664,-35.0293,-35.2925,-35.6869, -36.0747,-36.333,-36.7211,-36.9743, -37.2292,-37.4828,-37.7375,-37.9862, -38.2352,-38.4848,-38.7351,-38.9849, -39.4722,-39.7192,-40.2104,-40.8251, -41.2011,-41.451,-41.6983,-41.9472, -42.1964,-42.446,-42.8205,-43.1943, -43.4438,-43.8209,-43.9469,-43.9643)
FOOTPRINT_POINT_LONGITUDE = (338.138,337.619,337.093,336.411, 336.395,336.344,336.358,336.371,336.384 ,336.397,336.409,336.421,336.433, 336.445,336.454,336.472,336.484,336.495 ,336.505,336.515,336.533,336.549, 336.563,336.57,336.581,336.586,336.593, 336.599,336.604,336.612,336.619,336.624 ,336.628,336.634,336.639,336.641, 336.645,336.648,336.651,336.654,336.658 ,336.66,336.662,336.659,336.658,336.66, 336.666,336.665,336.665,336.665,336.665 ,337.307,338.039,338.633,338.652, 338.664,338.656,338.647,338.639,338.63, 338.617,338.609,338.6,338.591,338.582, 338.573,338.564,338.551,338.541,338.532 ,338.523,338.509,338.495,338.485, 338.471,338.461,338.452,338.442,338.432 ,338.422,338.412,338.401,338.391, 338.381,338.36,338.35,338.328,338.3, 338.283,338.272,338.26,338.248,338.235, 338.223,338.204,338.185,338.171,338.151 ,338.144,338.138)
ORBIT_NUMBER = 12726
ORBITAL_ECCENTRICITY = 0.577
ORBITAL_INCLINATION = 86.9
ORBITAL_SEMIMAJOR_AXIS = 8782.73
PERIAPSIS_ALTITUDE = 330.2
PERIAPSIS_ARGUMENT_ANGLE = 303.32
PERIAPSIS_TIME = 2014-01-06T12:00:44.000Z
SPACECRAFT_ORIENTATION = (0.0,1.0,0.0)
^MEX_ORIENTATION_DESC = "MEX_ORIENTATION_DESC.TXT"
SPACECRAFT_POINTING_MODE = ACROSSTRACK
^MEX_POINTING_DESC = "MEX_POINTING_DESC.TXT"
RIGHT_ASCENSION = -1e+32
DECLINATION = -1e+32
OFFSET_ANGLE = 0.48
SPACECRAFT_SOLAR_DISTANCE = 2.4923e+08
TARGET_NAME = MARS
/* CAMERA DATA ELEMENTS */
DETECTOR_TEMPERATURE = 17.7588 <degC>
FOCAL_PLANE_TEMPERATURE = 8.5833 <degC>
INST_CMPRS_NAME = "DISCRETE COSINE TRANSFORMATION (DCT)"
INST_CMPRS_RATIO = 7.75058
INST_CMPRS_QUALITY = 0
INST_CMPRS_QUANTZ_TBL_ID = 0
INSTRUMENT_TEMPERATURE = 11.6418 <degC>
LENS_TEMPERATURE = 8.7872 <degC>
MACROPIXEL_SIZE = 8
MISSING_FRAMES = 0
PIXEL_SUBSAMPLING_FLAG = N
SIGNAL_CHAIN_ID = 2
/* RADIOMETRIC DATA ELEMENTS */
BANDWIDTH = 81.0 <nm>
CENTER_FILTER_WAVELENGTH = 955.5 <nm>
RADIANCE_OFFSET = 0.0743006 <W*m**-2*sr**-1>
RADIANCE_SCALING_FACTOR = 0.00308857 <W*m**-2*sr**-1>
REFLECTANCE_SCALING_FACTOR = 0.000413893
MEX:REFLECTANCE_OFFSET = 0.00995687
/* IMAGE OBJECT DEFINITIONS */
OBJECT = IMAGE
  INTERCHANGE_FORMAT = BINARY
  LINES = 7774
  LINE_SAMPLES = 1006
  SAMPLE_TYPE = UNSIGNED_INTEGER
  SAMPLE_BITS = 8
  BANDS = 1
  BAND_STORAGE_TYPE = BAND_SEQUENTIAL
  MAXIMUM = 255
  MEAN = 111.99
  MINIMUM = 1
  STANDARD_DEVIATION = 20.6089
END_OBJECT = IMAGE
/* MAP OBJECT DEFINITIONS */
OBJECT = IMAGE_MAP_PROJECTION
  ^DATA_SET_MAP_PROJECTION_CATALOG= "DSMAP.CAT"
  A_AXIS_RADIUS = 3396.0 <km>
  B_AXIS_RADIUS = 3396.0 <km>
  C_AXIS_RADIUS = 3396.0 <km>
  CENTER_LATITUDE = 0.0
  CENTER_LONGITUDE = 338.0
  COORDINATE_SYSTEM_NAME = PLANETOGRAPHIC
  COORDINATE_SYSTEM_TYPE = "BODY-FIXED ROTATING"
  EASTERNMOST_LONGITUDE = 338.664
  FIRST_STANDARD_PARALLEL = "N/A"
  LINE_FIRST_PIXEL = 1
  LINE_LAST_PIXEL = 7774
  LINE_PROJECTION_OFFSET = -18331.5625
  MAP_PROJECTION_ROTATION = 0.0
  MAP_PROJECTION_TYPE = SINUSOIDAL
  MAP_RESOLUTION = 592.713803866667 <pixel/degree>
  MAP_SCALE = 0.1 <km/pixel>
  MAXIMUM_LATITUDE = -30.9101
  MINIMUM_LATITUDE = -43.9932
  POSITIVE_LONGITUDE_DIRECTION = EAST
  REFERENCE_LATITUDE = "N/A"
  REFERENCE_LONGITUDE = "N/A"
  SAMPLE_FIRST_PIXEL = 1
  SAMPLE_LAST_PIXEL = 1006
  SAMPLE_PROJECTION_OFFSET = 700.6875
  SECOND_STANDARD_PARALLEL = "N/A"
  WESTERNMOST_LONGITUDE = 336.344
END_OBJECT = IMAGE_MAP_PROJECTION
END
