PDS_VERSION_ID = PDS3
/* FILE DATA ELEMENTS */
RECORD_TYPE = UNDEFINED
/* POINTERS TO DATA OBJECTS */
^IMAGE = ("HC726_0000_GR4.TIF")
/* IDENTIFICATION DATA ELEMENTS */
DATA_SET_ID = "MEX-M-HRSC-4-REFDR-MAPPROJECT-EXT4-V4.0"
DATA_SET_NAME = "MARS EXPRESS HRSC MAP PROJECTED REFDR EXTENSION4 V4.0"
DETECTOR_ID = MEX_HRSC_GREEN
EVENT_TYPE = "MARS-REGIONAL-MAPPING-Im-Fl"
INSTRUMENT_HOST_ID = MEX
INSTRUMENT_HOST_NAME = "MARS EXPRESS"
INSTRUMENT_ID = HRSC
INSTRUMENT_NAME = "HIGH RESOLUTION STEREO CAMERA"
MISSION_NAME = "MARS EXPRESS"
MISSION_PHASE_NAME = ME_Phase_29
PROCESSING_LEVEL_ID = 4
PRODUCT_CREATION_TIME = 2023-01-31T11:51:40.000Z
PRODUCT_ID = "HC726_0000_GR4.TIF"
RELEASE_ID = 0003
REVISION_ID = 0000
/* QUALITY DATA ELEMENTS */
DATA_QUALITY_ID = 1
DATA_QUALITY_DESC = "Data calculated based on original SPICE kernels"
/* TIME DATA ELEMENTS */
SPACECRAFT_CLOCK_START_COUNT = "1/0337089800.08257"
SPACECRAFT_CLOCK_STOP_COUNT = "1/0337090090.48306"
START_TIME = 2014-01-06T12:04:02.502Z
STOP_TIME = 2014-01-06T12:07:32.394Z
/* ORBITAL DATA ELEMENTS */
ASCENDING_NODE_LONGITUDE = 334.85
MAXIMUM_RESOLUTION = 0.1151
FOOTPRINT_POINT_LATITUDE = (-44.012,-44.0023,-43.9904,-43.9718, -43.9713,-43.9775,-43.5448,-43.1126, -42.7469,-42.4895,-42.2324,-41.9755, -41.7192,-41.4628,-41.0792,-40.823, -40.5676,-40.1846,-39.9296,-39.6748, -39.4207,-39.1669,-38.6599,-38.2802, -37.7753,-37.2714,-37.0136,-36.6268, -36.3694,-36.1124,-35.8493,-35.5861, -35.3232,-35.0615,-34.7942,-34.5252, -34.2572,-33.9895,-33.7159,-33.3058, -33.0329,-32.7546,-32.4778,-32.1999, -31.7749,-31.4915,-31.2086,-31.0644, -30.9245,-30.9284,-30.9326,-30.9357, -30.9363,-30.9363,-30.9386,-31.2277, -31.5115,-31.7956,-32.2198,-32.4987, -32.7778,-33.0565,-33.33,-33.6041, -34.0151,-34.2834,-34.5519,-34.821, -35.0887,-35.3517,-35.615,-35.8786, -36.1423,-36.4001,-36.6579,-36.9165, -37.3043,-37.809,-38.315,-38.5686, -38.8225,-39.0767,-39.331,-39.7137, -39.9688,-40.2239,-40.6071,-40.9914, -41.2486,-41.5056,-41.7622,-42.0194, -42.2769,-42.5345,-42.7923,-43.0492, -43.4821,-43.8072,-43.9158,-44.012)
FOOTPRINT_POINT_LONGITUDE = (338.111,337.607,337.097,336.436,336.42 ,336.372,336.396,336.419,336.438, 336.451,336.464,336.476,336.486,336.498 ,336.512,336.525,336.535,336.551, 336.561,336.571,336.579,336.587,336.603 ,336.615,336.628,336.641,336.647, 336.655,336.661,336.665,336.67,336.675, 336.68,336.682,336.686,336.692,336.696, 336.699,336.703,336.707,336.71,336.713, 336.708,336.71,336.717,336.718,336.719, 336.719,336.719,337.058,337.54,338.141, 338.58,338.598,338.609,338.601,338.594, 338.586,338.574,338.566,338.558,338.55, 338.542,338.534,338.521,338.513,338.504 ,338.496,338.487,338.479,338.47,338.461 ,338.452,338.443,338.434,338.425, 338.411,338.392,338.372,338.363,338.353 ,338.343,338.332,338.317,338.306, 338.295,338.278,338.262,338.25,338.239, 338.227,338.215,338.203,338.19,338.178, 338.165,338.143,338.126,338.12,338.111)
ORBIT_NUMBER = 12726
ORBITAL_ECCENTRICITY = 0.577
ORBITAL_INCLINATION = 86.9
ORBITAL_SEMIMAJOR_AXIS = 8782.73
PERIAPSIS_ALTITUDE = 330.2
PERIAPSIS_ARGUMENT_ANGLE = 303.32
PERIAPSIS_TIME = 2014-01-06T12:00:44.000Z
SPACECRAFT_ORIENTATION = (0.0,1.0,0.0)
^MEX_ORIENTATION_DESC = "MEX_ORIENTATION_DESC.TXT"
SPACECRAFT_POINTING_MODE = ACROSSTRACK
^MEX_POINTING_DESC = "MEX_POINTING_DESC.TXT"
RIGHT_ASCENSION = -1e+32
DECLINATION = -1e+32
OFFSET_ANGLE = 0.48
SPACECRAFT_SOLAR_DISTANCE = 2.4923e+08
TARGET_NAME = MARS
/* CAMERA DATA ELEMENTS */
DETECTOR_TEMPERATURE = 18.5744
FOCAL_PLANE_TEMPERATURE = 8.5833
INST_CMPRS_NAME = "DISCRETE COSINE TRANSFORMATION (DCT)"
INST_CMPRS_RATIO = 5.8765
INST_CMPRS_QUALITY = 0
INST_CMPRS_QUANTZ_TBL_ID = 0
INSTRUMENT_TEMPERATURE = 11.6418
LENS_TEMPERATURE = 8.7872
MACROPIXEL_SIZE = 8
MISSING_FRAMES = 0
PIXEL_SUBSAMPLING_FLAG = N
SIGNAL_CHAIN_ID = 2
/* RADIOMETRIC DATA ELEMENTS */
BANDWIDTH = 88.0
CENTER_FILTER_WAVELENGTH = 538.0
RADIANCE_OFFSET = 0.183076
RADIANCE_SCALING_FACTOR = 0.00389742
REFLECTANCE_SCALING_FACTOR = 0.000208434
MEX:REFLECTANCE_OFFSET = 0.00979091
/* IMAGE OBJECT DEFINITIONS */
OBJECT = IMAGE
  INTERCHANGE_FORMAT = BINARY
  LINES = 7774
  LINE_SAMPLES = 1006
  SAMPLE_TYPE = UNSIGNED_INTEGER
  SAMPLE_BITS = 8
  BANDS = 1
  BAND_STORAGE_TYPE = BAND_SEQUENTIAL
  MAXIMUM = 255
  MEAN = 122.433
  MINIMUM = 1
  STANDARD_DEVIATION = 19.0166
END_OBJECT = IMAGE
/* MAP OBJECT DEFINITIONS */
OBJECT = IMAGE_MAP_PROJECTION
  ^DATA_SET_MAP_PROJECTION_CATALOG= "DSMAP.CAT"
  A_AXIS_RADIUS = 3396.0
  B_AXIS_RADIUS = 3396.0
  C_AXIS_RADIUS = 3396.0
  CENTER_LATITUDE = 0.0
  CENTER_LONGITUDE = 338.0
  COORDINATE_SYSTEM_NAME = PLANETOGRAPHIC
  COORDINATE_SYSTEM_TYPE = "BODY-FIXED ROTATING"
  EASTERNMOST_LONGITUDE = 338.609
  FIRST_STANDARD_PARALLEL = "N/A"
  LINE_FIRST_PIXEL = 1
  LINE_LAST_PIXEL = 7774
  LINE_PROJECTION_OFFSET = -18331.5625
  MAP_PROJECTION_ROTATION = 0.0
  MAP_PROJECTION_TYPE = SINUSOIDAL
  MAP_RESOLUTION = 592.713803866667
  MAP_SCALE = 0.1
  MAXIMUM_LATITUDE = -30.9245
  MINIMUM_LATITUDE = -44.012
  POSITIVE_LONGITUDE_DIRECTION = EAST
  REFERENCE_LATITUDE = "N/A"
  REFERENCE_LONGITUDE = "N/A"
  SAMPLE_FIRST_PIXEL = 1
  SAMPLE_LAST_PIXEL = 1006
  SAMPLE_PROJECTION_OFFSET = 700.6875
  SECOND_STANDARD_PARALLEL = "N/A"
  WESTERNMOST_LONGITUDE = 336.372
END_OBJECT = IMAGE_MAP_PROJECTION
END
