PDS_VERSION_ID = PDS3
/* FILE DATA ELEMENTS */
RECORD_TYPE = UNDEFINED
/* POINTERS TO DATA OBJECTS */
^IMAGE = ("HC724_0000_S14.TIF")
/* IDENTIFICATION DATA ELEMENTS */
DATA_SET_ID = "MEX-M-HRSC-4-REFDR-MAPPROJECT-EXT4-V4.0"
DATA_SET_NAME = "MARS EXPRESS HRSC MAP PROJECTED REFDR EXTENSION4 V4.0"
DETECTOR_ID = MEX_HRSC_S1
EVENT_TYPE = "MARS-REGIONAL-MAPPING-Te-Im-Mw"
INSTRUMENT_HOST_ID = MEX
INSTRUMENT_HOST_NAME = "MARS EXPRESS"
INSTRUMENT_ID = HRSC
INSTRUMENT_NAME = "HIGH RESOLUTION STEREO CAMERA"
MISSION_NAME = "MARS EXPRESS"
MISSION_PHASE_NAME = ME_Phase_29
PROCESSING_LEVEL_ID = 4
PRODUCT_CREATION_TIME = 2023-01-31T11:51:40.000Z
PRODUCT_ID = "HC724_0000_S14.TIF"
RELEASE_ID = 0003
REVISION_ID = 0000
/* QUALITY DATA ELEMENTS */
DATA_QUALITY_ID = 1
DATA_QUALITY_DESC = "Data calculated based on original SPICE kernels"
/* TIME DATA ELEMENTS */
SPACECRAFT_CLOCK_START_COUNT = "1/0337039545.07330"
SPACECRAFT_CLOCK_STOP_COUNT = "1/0337039794.62472"
START_TIME = 2014-01-05T22:07:00.793Z
STOP_TIME = 2014-01-05T22:09:57.689Z
/* ORBITAL DATA ELEMENTS */
ASCENDING_NODE_LONGITUDE = 334.88
MAXIMUM_RESOLUTION = 0.0339
FOOTPRINT_POINT_LATITUDE = (-39.9001,-39.8926,-39.887,-39.8811, -39.8748,-39.862,-39.8615,-39.9047, -39.3465,-38.97,-38.7713,-38.4805, -38.1935,-37.8108,-37.5174,-37.322, -37.029,-36.8335,-36.6297,-36.2382, -36.041,-35.8434,-35.6424,-35.4404, -35.1381,-34.9364,-34.6288,-34.4219, -34.2161,-34.0109,-33.6969,-33.4869, -33.2777,-33.0669,-32.8529,-32.6381, -32.3173,-32.1013,-31.7821,-31.4591, -31.2423,-31.0241,-30.8065,-30.5847, -30.3632,-30.0297,-29.8045,-29.6924, -29.6913,-29.6944,-29.693,-29.6949, -29.6974,-29.6955,-29.6967,-29.6967, -29.6973,-29.9236,-30.1514,-30.3734, -30.5959,-30.9286,-31.1472,-31.3664, -31.586,-31.8008,-32.0148,-32.2326, -32.5525,-32.7685,-32.9811,-33.2993, -33.5097,-33.7213,-33.9319,-34.1397, -34.346,-34.6555,-34.8622,-35.0653, -35.2673,-35.4696,-35.6725,-35.8738, -36.0724,-36.271,-36.47,-36.6697, -36.8673,-37.2589,-37.4549,-37.6517, -37.8479,-38.2316,-38.6171,-39.1899, -39.4726,-39.8506,-39.9457,-39.9001)
FOOTPRINT_POINT_LONGITUDE = (183.651,183.232,182.954,182.676, 182.399,181.882,181.865,181.846,181.854 ,181.86,181.865,181.869,181.872,181.877 ,181.879,181.881,181.884,181.885, 181.888,181.889,181.889,181.89,181.89, 181.891,181.891,181.891,181.891,181.891 ,181.891,181.891,181.89,181.89,181.889, 181.888,181.887,181.887,181.885,181.884 ,181.88,181.877,181.874,181.871,181.869 ,181.866,181.863,181.858,181.855, 181.853,181.853,182.151,182.55,182.889, 183.269,183.569,183.89,183.91,183.917, 183.913,183.909,183.905,183.9,183.894, 183.889,183.885,183.88,183.875,183.87, 183.866,183.858,183.855,183.851,183.844 ,183.84,183.836,183.832,183.828,183.823 ,183.816,183.811,183.807,183.801, 183.796,183.791,183.786,183.781,183.776 ,183.77,183.765,183.76,183.75,183.745, 183.74,183.735,183.724,183.714,183.697, 183.689,183.678,183.675,183.651)
ORBIT_NUMBER = 12724
ORBITAL_ECCENTRICITY = 0.577
ORBITAL_INCLINATION = 86.9
ORBITAL_SEMIMAJOR_AXIS = 8783.95
PERIAPSIS_ALTITUDE = 330.57
PERIAPSIS_ARGUMENT_ANGLE = 303.68
PERIAPSIS_TIME = 2014-01-05T22:02:13.000Z
SPACECRAFT_ORIENTATION = (0.0,1.0,0.0)
^MEX_ORIENTATION_DESC = "MEX_ORIENTATION_DESC.TXT"
SPACECRAFT_POINTING_MODE = ACROSSTRACK
^MEX_POINTING_DESC = "MEX_POINTING_DESC.TXT"
RIGHT_ASCENSION = -1e+32
DECLINATION = -1e+32
OFFSET_ANGLE = -0.229
SPACECRAFT_SOLAR_DISTANCE = 2.49233e+08
TARGET_NAME = MARS
/* CAMERA DATA ELEMENTS */
DETECTOR_TEMPERATURE = 17.351
FOCAL_PLANE_TEMPERATURE = 8.1755
INST_CMPRS_NAME = "DISCRETE COSINE TRANSFORMATION (DCT)"
INST_CMPRS_RATIO = 7.05488
INST_CMPRS_QUALITY = 0
INST_CMPRS_QUANTZ_TBL_ID = 0
INSTRUMENT_TEMPERATURE = 11.4379
LENS_TEMPERATURE = 8.1755
MACROPIXEL_SIZE = 2
MISSING_FRAMES = 0
PIXEL_SUBSAMPLING_FLAG = N
SIGNAL_CHAIN_ID = 1
/* RADIOMETRIC DATA ELEMENTS */
BANDWIDTH = 180.0
CENTER_FILTER_WAVELENGTH = 677.0
RADIANCE_OFFSET = 0.332021
RADIANCE_SCALING_FACTOR = 0.0180984
REFLECTANCE_SCALING_FACTOR = 0.000586536
MEX:REFLECTANCE_OFFSET = 0.0107602
/* IMAGE OBJECT DEFINITIONS */
OBJECT = IMAGE
  INTERCHANGE_FORMAT = BINARY
  LINES = 24279
  LINE_SAMPLES = 3907
  SAMPLE_TYPE = UNSIGNED_INTEGER
  SAMPLE_BITS = 8
  BANDS = 1
  BAND_STORAGE_TYPE = BAND_SEQUENTIAL
  MAXIMUM = 255
  MEAN = 97.9107
  MINIMUM = 1
  STANDARD_DEVIATION = 28.5894
END_OBJECT = IMAGE
/* MAP OBJECT DEFINITIONS */
OBJECT = IMAGE_MAP_PROJECTION
  ^DATA_SET_MAP_PROJECTION_CATALOG= "DSMAP.CAT"
  A_AXIS_RADIUS = 3396.0
  B_AXIS_RADIUS = 3396.0
  C_AXIS_RADIUS = 3396.0
  CENTER_LATITUDE = 0.0
  CENTER_LONGITUDE = 183.0
  COORDINATE_SYSTEM_NAME = PLANETOGRAPHIC
  COORDINATE_SYSTEM_TYPE = "BODY-FIXED ROTATING"
  EASTERNMOST_LONGITUDE = 183.917
  FIRST_STANDARD_PARALLEL = "N/A"
  LINE_FIRST_PIXEL = 1
  LINE_LAST_PIXEL = 24279
  LINE_PROJECTION_OFFSET = -70465.25
  MAP_PROJECTION_ROTATION = 0.0
  MAP_PROJECTION_TYPE = SINUSOIDAL
  MAP_RESOLUTION = 2370.85521546667
  MAP_SCALE = 0.025
  MAXIMUM_LATITUDE = -29.6913
  MINIMUM_LATITUDE = -39.9457
  POSITIVE_LONGITUDE_DIRECTION = EAST
  REFERENCE_LATITUDE = "N/A"
  REFERENCE_LONGITUDE = "N/A"
  SAMPLE_FIRST_PIXEL = 1
  SAMPLE_LAST_PIXEL = 3907
  SAMPLE_PROJECTION_OFFSET = 2215.75
  SECOND_STANDARD_PARALLEL = "N/A"
  WESTERNMOST_LONGITUDE = 181.846
END_OBJECT = IMAGE_MAP_PROJECTION
END
